Workbook

Sheet Istruzioni
A4: ISTRUZIONI
A6: 1 | B6: Nel caso di più plessi duplica il file
A7: 2 | B7: Per spostarsi fra i fogli di lavoro puoi utilizzare il Menu a destra
A8: 3 | B8: Per rispondere alle domande utilizza sempre la lettera "X"
A9: 4 | B9: Non puoi compilare da solo la griglia dati oggettivi : per calcolare i dati
B10: devi compilare la tabella del foglio "inserimento dati"
B11: Se non hai i dati oggettivi, utilizza il foglio Risultati 2
A12: 5 | B12: Ogni foglio può essere stampato
A13: 6 | B13: Per inviare i dati della sperimentazione
A16: A | B16: Clicca con il tasto dx del mouse sul foglio 'dati' o 'dati 2'(se non hai i dati oggettivi)
A30: B | B30: Flegga la casella "Crea una Copia" e seleziona "(nuova cartella)
A48: C | B48: Clicca su "OK"
A66: D | B66: Si aprirà un nuovo file e vai su "Salva con nome"
A82: E | B82: Il file salvato dovrà essere inviato al seguente indirizzo di posta elettronica
B83: Inserire indirizzo: antonia.ballottin@aulss9.veneto.it

Sheet Intestazione
A1: VALUTAZIONE DEL RISCHIO STRESS LAVORO CORRELATO
B3: SCUOLA
B4: TIPOLOGIA
B5: INDIRIZZO
B6: PROVINCIA
B8: N° Totale Studenti
B9: N° Totale Studenti Stranieri
B10: N° Totale Studenti disabili certificati
B11: N° Totale Studenti con bisogni educativi specifici
A14: GRUPPO DI VALUTAZIONE
B16: COGNOME | C16: NOME | D16: RUOLO
B38: DATA

Sheet Inserimento Dati
A1: DATI OGGETTIVI
A3: Dato Anno Scolastico di rifermento | B3: Valore Insegnanti | C3: Valore Personale ATA
A4: N° Totale lavoratori per sede/plesso
A5: N. di invii alla Commissione medica di verifica per problemi connessi a comportamenti o ad assenze ripetute per malattia
A6: N° Totale di lavoratori Entrati
A7: N° Totale di lavoratori Usciti
A8: N. di richieste di spostamenti interni tra classi o plassi scolastici
A9: N. di esposti o segnalazioni da parte del personale, di classi o di genitori pervenuti al DS, al DSGA, al RLS o al MC
A10: N. di procedimenti per sanzioni disciplinari
A11: N. di procedimenti per sanzioni disciplinari per il mancato rispetto del Regolamente d'Istituto da parte degl alunni
B13: AA.SS | C13: AA.SS | D13: AA.SS
B14: 2020/2021 | C14: 2021/2022 | D14: 2022/2023
A15: Numero lavoratori INSEGNANTI
A16: Numero lavoratori PERSONALE ATA
A17: Numero infortuni INSEGNANTI
A18: Numero infortuni PERSONALE ATA
A19: Numero ore perse dal lavoro a.s. oggetto della valutazione TOTALE (Insegnanti + ATA)
A20: Numero ore di lavoro da contratto a.s. oggetto della valutazione TOTALE (Insegnanti + ATA)
A21: N. di giorni di assenza per malattia INSEGNANTI
A22: N. di giorni di assenza per malattia PERSONALE ATA
A23: N. visite Dal MC (se nominato) su richiesta del lavoratore INSEGNANTI
A24: N. visite Dal MC (se nominato) su richiesta del lavoratore PERSONALE ATA
B25: N° 1 o 2 plessi assegnati | C25: N° 3 o 4 plessi assegnati | D25: N° 5 plessi assegnati | E25: N° > 5 plessi assegnati
A26: Numero lavoratori INSEGNANTI
A27: Numero lavoratori PERSONALE ATA
A29: ZONA DI CALCOLO
A31: Indicatore | B31: Valore Insegnanti | C31: Valore Personale ATA
A32: 1 - N. di invii alla Commissione medica di verifica per problemi connessi a comportamenti o ad assenze ripetute per malattia | B32: =B5/B4 -> #DIV/0! | C32: =C5/C4 -> #DIV/0!
A33: 2 - % Rotazione del personale (Usciti/Entrati) | B33: =(B6+B7)/B4 -> #DIV/0! | C33: =(C6+C7)/C4 -> #DIV/0!
A34: 3 - N. di richieste di spostamenti interni tra classi o plassi scolastici | B34: =B8/B4 -> #DIV/0! | C34: =C8/C4 -> #DIV/0!
A35: 4 - N. di esposti o segnalazioni da parte del personale, di classi o di genitori pervenuti al DS, al DSGA, al RLS o al MC | B35: =B9/B4 -> #DIV/0! | C35: =C9/C4 -> #DIV/0!
A36: 5 - N. di procedimenti per sanzioni disciplinari | B36: =B10/B4 -> #DIV/0! | C36: =C10/C4 -> #DIV/0!
A37: 6 - N. di procedimenti per sanzioni disciplinari per il mancato rispetto del Regolamente d'Istituto da parte degl alunni | B37: =B11/B4 -> #DIV/0! | C37: =C11/C4 -> #DIV/0!
B38: Media | C38: Valore ultimo anno
A39: N° 7 Insegnanti | Indici infortunistici INSEGNANTI | B39: =(B17+C17+D17)/(B15+C15+D15) -> #DIV/0! | C39: =D17/D15 -> #DIV/0!
A40: N° 7 Personale ATA | Indici infortunistici Personale ATA | B40: =(B18+C18+D18)/(B16+C16+D16) -> #DIV/0! | C40: =D18/D16 -> #DIV/0!
A41: N. 8 % Assenze dal lavoro | B41: =(B19+C19+D19)/(B20+C20+D20) -> #DIV/0! | C41: =D19/D20 -> #DIV/0!
A42: N. 9 - % Assenze per Malattia INSEGNANTI | B42: =(B21+C21+D21)/(B15+C15+D15) -> #DIV/0! | C42: =D21/D15 -> #DIV/0!
A43: N. 9 - % Assenze per Malattia PERSONALE ATA | B43: =(B22+C22+D22)/(B16+C16+D16) -> #DIV/0! | C43: =D22/D16 -> #DIV/0!
A44: 10 - N. visite Dal MC (se nominato) su richiesta del lavoratore INSEGNANTI | B44: =(B23+C23+D23)/(B15+C15+D15) -> #DIV/0! | C44: =D23/D15 -> #DIV/0!
A45: 10 - N. visite Dal MC (se nominato) su richiesta del lavoratore PERSONALE ATA | B45: =(B24+C24+D24)/(B16+C16+D16) -> #DIV/0! | C45: =D24/D16 -> #DIV/0!
B48: + 50% del personale è incaricato su 1 o 2 plesso | C48: + 50% del personale è incaricato su 3 o 4 plessi | D48: + 50% del personale è incaricato su 5 plessi | E48: + 50% del personale è incaricato su più di 5 plessi | F48: Totali
A49: Numero lavoratori INSEGNANTI | B49: =B26/F49 -> #DIV/0! | C49: =C26/F49 -> #DIV/0! | D49: =D26/F49 -> #DIV/0! | E49: =E26/F49 -> #DIV/0! | F49: =B26+C26+D26+E26 -> 0
A50: Numero lavoratori PERSONALE ATA | B50: =B27/F50 -> #DIV/0! | C50: =C27/F50 -> #DIV/0! | D50: =D27/F50 -> #DIV/0! | E50: =E27/F50 -> #DIV/0! | F50: =B27+C27+D27+E27 -> 0

Sheet Griglia Dati Oggettivi
A1: GRIGLIA DATI OGGETTIVI
A3: Indicatore | U3: INSEGNANTI | X3: PERSONALE ATA
A4: 1 | B4: N. di invii alla Commissione medica di verifica per problemi connessi a comportamenti o ad assenze ripetute per malattia | U4: ='Inserimento Dati'!B32 -> #DIV/0! | X4: ='Inserimento Dati'!C32 -> #DIV/0! | AE4: =U4 -> #DIV/0! | AF4: =X4 -> #DIV/0!
A5: 2 | B5: % Rotazione del personale (Entrati/Usciti) | U5: ='Inserimento Dati'!B33 -> #DIV/0! | X5: ='Inserimento Dati'!C33 -> #DIV/0! | AE5: =U5 -> #DIV/0! | AF5: =X5 -> #DIV/0!
A6: 3 | B6: N. di richieste di spostamenti interni tra classi o plessi scolastici | U6: ='Inserimento Dati'!B34 -> #DIV/0! | X6: ='Inserimento Dati'!C34 -> #DIV/0! | AE6: =U6 -> #DIV/0! | AF6: =X6 -> #DIV/0!
A7: 4 | B7: N. di esposti o segnalazioni da parte del personale, di classi o di genitori pervenuti al DS, al DSGA, al RLS o al MC | U7: ='Inserimento Dati'!B35 -> #DIV/0! | X7: ='Inserimento Dati'!C35 -> #DIV/0! | AE7: =U7 -> #DIV/0! | AF7: =X7 -> #DIV/0!
A8: 5 | B8: N. di procedimenti per sanzioni disciplinari | U8: ='Inserimento Dati'!B36 -> #DIV/0! | X8: ='Inserimento Dati'!C36 -> #DIV/0! | AE8: =U8 -> #DIV/0! | AF8: =X8 -> #DIV/0!
A9: 6 | B9: N. di procedimenti per sanzioni disciplinari per il mancato rispetto del Regolamento d'Istituto da parte degli alunni | U9: ='Inserimento Dati'!B37 -> #DIV/0! | X9: ='Inserimento Dati'!C37 -> #DIV/0! | AE9: =U9 -> #DIV/0! | AF9: =X9 -> #DIV/0!
A11: Indicatore | M11: Media ultimi 3 anni | Q11: Ultimo anno
A12: 7 | B12: Indici infortunistici INSEGNANTI | M12: ='Inserimento Dati'!B39 -> #DIV/0! | Q12: ='Inserimento Dati'!C39 -> #DIV/0! | AE12: =M12 -> #DIV/0! | AF12: =Q12 -> #DIV/0!
B13: Indici infortunistici Personale ATA | M13: ='Inserimento Dati'!B40 -> #DIV/0! | Q13: ='Inserimento Dati'!C40 -> #DIV/0! | AE13: =M13 -> #DIV/0! | AF13: =Q13 -> #DIV/0!
A14: 8 | B14: % Assenze dal lavoro | M14: ='Inserimento Dati'!B41 -> #DIV/0! | Q14: ='Inserimento Dati'!C41 -> #DIV/0! | AE14: =M14 -> #DIV/0! | AF14: =Q14 -> #DIV/0!
A15: 9 | B15: % assenze per malattia INSEGNANTI | M15: ='Inserimento Dati'!B42 -> #DIV/0! | Q15: ='Inserimento Dati'!C42 -> #DIV/0! | AE15: =M15 -> #DIV/0! | AF15: =Q15 -> #DIV/0!
B16: % assenze per malattia PERSONALE ATA | M16: ='Inserimento Dati'!B43 -> #DIV/0! | Q16: ='Inserimento Dati'!C43 -> #DIV/0! | AE16: =M16 -> #DIV/0! | AF16: =Q16 -> #DIV/0!
A17: 10 | B17: N. visite Dal MC (se nominato) su richiesta del lavoratore INSEGNANTI | M17: ='Inserimento Dati'!B44 -> #DIV/0! | Q17: ='Inserimento Dati'!C44 -> #DIV/0! | AE17: =M17 -> #DIV/0! | AF17: =Q17 -> #DIV/0!
B18: N. visite Dal MC (se nominato) su richiesta del lavoratore PERSONALE ATA | M18: ='Inserimento Dati'!B45 -> #DIV/0! | Q18: ='Inserimento Dati'!C45 -> #DIV/0! | AE18: =M18 -> #DIV/0! | AF18: =Q18 -> #DIV/0!
G20: + del 50% del personale è incaricato su 1 o 2 plessi | K20: + del 50% del personale è incaricato su 3 o 4 plessi | O20: + del 50% del personale è incaricato su 5 plessi | S20: + del 50% del personale è incaricato su più di 5 plessi
A21: 11 | B21: N° lavoratore INSEGNANTI | G21: ='Inserimento Dati'!B49 -> #DIV/0! | K21: ='Inserimento Dati'!C49 -> #DIV/0! | O21: ='Inserimento Dati'!D49 -> #DIV/0! | S21: ='Inserimento Dati'!E49 -> #DIV/0! | AE21: =G21 -> #DIV/0! | AF21: =K21 -> #DIV/0! | AG21: =O21 -> #DIV/0! | AH21: =S21 -> #DIV/0!
B22: N° lavoratore PERSONALE ATA | G22: ='Inserimento Dati'!B50 -> #DIV/0! | K22: ='Inserimento Dati'!C50 -> #DIV/0! | O22: ='Inserimento Dati'!D50 -> #DIV/0! | S22: ='Inserimento Dati'!E50 -> #DIV/0! | AE22: =G22 -> #DIV/0! | AF22: =K22 -> #DIV/0! | AG22: =O22 -> #DIV/0! | AH22: =S22 -> #DIV/0!
A25: N° | B25: INDICATORE | H25: CATEGORIA | K25: Situazione Ottimale | N25: Situazione di Allerta | Q25: Situazione di Allarme | T25: PUNTEGGIO | V25: NOTE | AE25: Tabella_Dati_Formule
A26: 1 | B26: N. di invii alla Commissione medica di verifica per problemi connessi a comportamenti o ad assenze ripetute per malattia | H26: INSEGNANTI | K26: Nessun caso | N26: ≤ 10% di casi (1) | Q26: > 10% di casi (1) | T26: =AH28 -> #DIV/0!
K27: 0 Punti | N27: 3 Punti | Q27: 6 Punti
K28: =IF(U4=0, "X", "") -> #DIV/0! | N28: =IF(U4<=0.1, "X", "") -> #DIV/0! | Q28: =IF(U4>0.1, "X", "") -> #DIV/0! | AE28: =IF(K28="X", 0, 0) -> #DIV/0! | AF28: =IF(N28="X", 3, 0) -> #DIV/0! | AG28: =IF(Q28="X", 6, 0) -> #DIV/0! | AH28: =AE28+AF28+AG28 -> #DIV/0! | AJ28: =T26 -> #DIV/0!
H29: Personale ATA | K29: Nessun caso | N29: ≤ 10% di casi (2) | Q29: > 10% di casi (2) | T29: =AH31 -> #DIV/0!
K30: 0 Punti | N30: 3 Punti | Q30: 6 Punti
K31: =IF(X4=0, "X", "") -> #DIV/0! | N31: =IF(X4<=0.1, "X", "") -> #DIV/0! | Q31: =IF(X4>0.1, "X", "") -> #DIV/0! | AE31: =IF(K31="X", 0, 0) -> #DIV/0! | AF31: =IF(N31="X", 3, 0) -> #DIV/0! | AG31: =IF(Q31="X", 6, 0) -> #DIV/0! | AH31: =AE31+AF31+AG31 -> #DIV/0! | AJ31: =T29 -> #DIV/0!
A32: Si tratta degli invii alla Commissione istituita dal Ministero dell’Economia e delle Finanze in base all’art. 3, comma 3, del D.M. 12/2/2004 (“Criteri organizzativi dell’assegnazione delle domande agli organismi di accertamento sanitario …”) e all’art. 1, comma 2, del D.Lgs. 165/2001. Il GV considererà le situazioni per le quali è stata avviata la pratica nel corso dell’a.s. di riferimento per l’indagine, anche se l’iter non si è ancora concluso al momento della compilazione della griglia.
A33: 2 | B33: % Rotazione del personale (Usciti/Entrati) | H33: INSEGNANTI | K33: Nessun caso | N33: ≤ 20% di casi (1) | Q33: > 20% di casi (1) | T33: =AH35 -> #DIV/0!
K34: 0 Punti | N34: 3 Punti | Q34: 6 Punti
K35: =IF(U5=0, "X", "") -> #DIV/0! | N35: =IF(U5<=0.2, "X", "") -> #DIV/0! | Q35: =IF(U5>0.2, "X", "") -> #DIV/0! | AE35: =IF(K35="X", 0, 0) -> #DIV/0! | AF35: =IF(N35="X", 3, 0) -> #DIV/0! | AG35: =IF(Q35="X", 6, 0) -> #DIV/0! | AH35: =AE35+AF35+AG35 -> #DIV/0! | AJ35: =T33 -> #DIV/0!
H36: Personale ATA | K36: Nessun caso | N36: ≤ 10% di casi (2) | Q36: > 10% di casi (2) | T36: =AH38 -> #DIV/0!
K37: 0 Punti | N37: 3 Punti | Q37: 6 Punti
K38: =IF(X5=0, "X", "") -> #DIV/0! | N38: =IF(X5<=0.1, "X", "") -> #DIV/0! | Q38: =IF(X5>0.1, "X", "") -> #DIV/0! | AE38: =IF(K38="X", 0, 0) -> #DIV/0! | AF38: =IF(N38="X", 3, 0) -> #DIV/0! | AG38: =IF(Q38="X", 6, 0) -> #DIV/0! | AH38: =AE38+AF38+AG38 -> #DIV/0! | AJ38: =T36 -> #DIV/0!
A39: L’indicatore descrive il fenomeno del turnover e misura i movimenti effettuati dai lavoratori in termini di entrata e uscita, anche nel caso in cui uno stesso lavoratore dovesse assentarsi e rientrare [ad esempio: personale comandato] nell’arco dello stesso anno. Numeratore: è dato dal numero di entrati + il numero di usciti nell’a.s. di riferimento per l’indagine Denominatore: è dato dal numero di lavoratori complessivo del gruppo di riferimento (Insegnanti e personale ATA)
A40: 3 | B40: N. di richieste di spostamenti interni tra classi o plessi scolastici | H40: INSEGNANTI | K40: Nessun caso | N40: ≤ 10% di casi (1) | Q40: > 10% di casi (1) | T40: =AH42 -> #DIV/0!
K41: 0 Punti | N41: 2 Punti | Q41: 3 Punti
K42: =IF(U6=0, "X", "") -> #DIV/0! | N42: =IF(U6<=0.1, "X", "") -> #DIV/0! | Q42: =IF(U6>0.1, "X", "") -> #DIV/0! | AE42: =IF(K42="X", 0, 0) -> #DIV/0! | AF42: =IF(N42="X", 2, 0) -> #DIV/0! | AG42: =IF(Q42="X", 4, 0) -> #DIV/0! | AH42: =AE42+AF42+AG42 -> #DIV/0! | AJ42: =T40 -> #DIV/0!
H43: Personale ATA | K43: Nessun caso | N43: ≤ 10% di casi (2) | Q43: > 10% di casi (2) | T43: =AH45 -> #DIV/0!
K44: 0 Punti | N44: 2 Punti | Q44: 4 Punti
K45: =IF(X6=0, "X", "") -> #DIV/0! | N45: =IF(X6<=0.1, "X", "") -> #DIV/0! | Q45: =IF(X6>0.1, "X", "") -> #DIV/0! | AE45: =IF(K45="X", 0, 0) -> #DIV/0! | AF45: =IF(N45="X", 2, 0) -> #DIV/0! | AG45: =IF(Q45="X", 4, 0) -> #DIV/0! | AH45: =AE45+AF45+AG45 -> #DIV/0! | AJ45: =T43 -> #DIV/0!
A46: Il GV considererà solo le richieste pervenute per iscritto al DS nell’a.s. di riferimento per l’indagine (anche se non esaudite). In riferimento al personale ATA si includono anche gli spostamenti per cambio attività/mansione
A47: 4 | B47: N. di esposti o segnalazioni da parte del personale, di classi o di genitori pervenuti al DS, al DSGA, al RLS o al MC | H47: INSEGNANTI | K47: Nessun caso | N47: ≤ 10% di casi (1) | Q47: > 10% di casi (1) | T47: =AH49 -> #DIV/0!
K48: 0 Punti | N48: 3 Punti | Q48: 6 Punti
K49: =IF(U7=0, "X", "") -> #DIV/0! | N49: =IF(U7<=0.1, "X", "") -> #DIV/0! | Q49: =IF(U7>0.1, "X", "") -> #DIV/0! | AE49: =IF(K49="X", 0, 0) -> #DIV/0! | AF49: =IF(N49="X", 3, 0) -> #DIV/0! | AG49: =IF(Q49="X", 6, 0) -> #DIV/0! | AH49: =AE49+AF49+AG49 -> #DIV/0! | AJ49: =T47 -> #DIV/0!
H50: Personale ATA | K50: Nessun caso | N50: ≤ 10% di casi (2) | Q50: > 10% di casi (2) | T50: =AH52 -> #DIV/0!
K51: 0 Punti | N51: 3 Punti | Q51: 6 Punti
K52: =IF(X7=0, "X", "") -> #DIV/0! | N52: =IF(X7<=0.1, "X", "") -> #DIV/0! | Q52: =IF(X7>0.1, "X", "") -> #DIV/0! | AE52: =IF(K52="X", 0, 0) -> #DIV/0! | AF52: =IF(N52="X", 3, 0) -> #DIV/0! | AG52: =IF(Q52="X", 6, 0) -> #DIV/0! | AH52: =AE52+AF52+AG52 -> #DIV/0! | AJ52: =T50 -> #DIV/0!
A53: Il GV considererà solo gli esposti e le segnalazioni debitamente documentati (cioè scritti ed autentici, anche se non protocollati), conservati agli atti, fatti pervenire o consegnati a mano al DS, al DSGA o al RLS. La presenza di esposti provenienti dall’interno e/o dall’esterno costituisce un fattore di pressione indipendentemente dal contenuto segnalato. Le informazioni da vagliare sono quelle relative all’a.s. di riferimento per l’indagine
A54: 5 | B54: N. di procedimenti per sanzioni disciplinari | H54: INSEGNANTI | K54: Nessun caso | N54: ≤ 10% di casi (1) | Q54: > 10% di casi (1) | T54: =AH56 -> #DIV/0!
K55: 0 Punti | N55: 3 Punti | Q55: 6 Punti
K56: =IF(U8=0, "X", "") -> #DIV/0! | N56: =IF(U8<=0.1, "X", "") -> #DIV/0! | Q56: =IF(U8>0.1, "X", "") -> #DIV/0! | AE56: =IF(K56="X", 0, 0) -> #DIV/0! | AF56: =IF(N56="X", 3, 0) -> #DIV/0! | AG56: =IF(Q56="X", 6, 0) -> #DIV/0! | AH56: =AE56+AF56+AG56 -> #DIV/0! | AJ56: =T54 -> #DIV/0!
H57: Personale ATA | K57: Nessun caso | N57: ≤ 10% di casi (2) | Q57: > 10% di casi (2) | T57: =AH59 -> #DIV/0!
K58: 0 Punti | N58: 3 Punti | Q58: 6 Punti
K59: =IF(X8=0, "X", "") -> #DIV/0! | N59: =IF(X8<=0.1, "X", "") -> #DIV/0! | Q59: =IF(X8>0.1, "X", "") -> #DIV/0! | AE59: =IF(K59="X", 0, 0) -> #DIV/0! | AF59: =IF(N59="X", 3, 0) -> #DIV/0! | AG59: =IF(Q59="X", 6, 0) -> #DIV/0! | AH59: =AE59+AF59+AG59 -> #DIV/0! | AJ59: =T57 -> #DIV/0!
A60: Il GV considererà i procedimenti avviati nel corso dell’a.s. di riferimento per l’indagine, anche se l’iter non si è ancora concluso al momento della compilazione della griglia.
A61: 6 | B61: N. di procedimenti per sanzioni disciplinari per il mancato rispetto del Regolamento d'Istituto da parte degli alunni | H61: INSEGNANTI | K61: Nessun caso | N61: ≤ 10% di casi (1) | Q61: > 10% di casi (1) | T61: =AH63 -> #DIV/0!
K62: 0 Punti | N62: 3 Punti | Q62: 6 Punti
K63: =IF(U9=0, "X", "") -> #DIV/0! | N63: =IF(U9<=0.1, "X", "") -> #DIV/0! | Q63: =IF(U9>0.1, "X", "") -> #DIV/0! | AE63: =IF(K63="X", 0, 0) -> #DIV/0! | AF63: =IF(N63="X", 3, 0) -> #DIV/0! | AG63: =IF(Q63="X", 6, 0) -> #DIV/0! | AH63: =AE63+AF63+AG63 -> #DIV/0! | AJ63: =T61 -> #DIV/0!
H64: Personale ATA | K64: Nessun caso | N64: ≤ 10% di casi (2) | Q64: > 10% di casi (2) | T64: =AH66 -> #DIV/0!
K65: 0 Punti | N65: 3 Punti | Q65: 6 Punti
K66: =IF(X9=0, "X", "") -> #DIV/0! | N66: =IF(X9<=0.1, "X", "") -> #DIV/0! | Q66: =IF(X9>0.1, "X", "") -> #DIV/0! | AE66: =IF(K66="X", 0, 0) -> #DIV/0! | AF66: =IF(N66="X", 3, 0) -> #DIV/0! | AG66: =IF(Q66="X", 6, 0) -> #DIV/0! | AH66: =AE66+AF66+AG66 -> #DIV/0! | AJ66: =T64 -> #DIV/0!
A67: Il GV considererà i procedimenti avviati nel corso dell’a.s. di riferimento per l’indagine, anche se l’iter non si è ancora concluso al momento della compilazione della griglia.
A68: 7 | B68: Indici infortunistici (3) | H68: INSEGNANTI | K68: Diminuito | N68: Inalterato | Q68: Aumentato | T68: =AH70 -> #DIV/0!
K69: 0 Punti | N69: 3 Punti | Q69: 6 Punti
K70: =IF(Q12 <= 0, "X", IF(Q12 < M12, "X", "")) -> #DIV/0! | N70: =IF(AND(Q12 = M12, Q12 > 0), "X", "") -> #DIV/0! | Q70: =IF(Q12 > M12, "X", "") -> #DIV/0! | AE70: =IF(K70="X", 0, 0) -> #DIV/0! | AF70: =IF(N70="X", 3, 0) -> #DIV/0! | AG70: =IF(Q70="X", 6, 0) -> #DIV/0! | AH70: =AE70+AF70+AG70 -> #DIV/0! | AJ70: =T68 -> #DIV/0!
H71: Personale ATA | K71: Diminuito | N71: Inalterato | Q71: Aumentato | T71: =AH73 -> #DIV/0!
K72: 0 Punti | N72: 3 Punti | Q72: 6 Punti
K73: =IF(Q13 <= 0, "X", IF(Q13 < M13, "X", "")) -> #DIV/0! | N73: =IF(AND(Q13 = M13, Q13 > 0), "X", "") -> #DIV/0! | Q73: =IF(Q13 > M13, "X", "") -> #DIV/0! | AE73: =IF(K73="X", 0, 0) -> #DIV/0! | AF73: =IF(N73="X", 3, 0) -> #DIV/0! | AG73: =IF(Q73="X", 6, 0) -> #DIV/0! | AH73: =AE73+AF73+AG73 -> #DIV/0! | AJ73: =T71 -> #DIV/0!
A74: Il GV calcolerà un indice infortunistico semplificato, desumibile dal Registro Infortuni o da altro strumento di monitoraggio adottato nella scuola, suddividendo il personale in due sole categorie (personale docente + coordinatori di classe e personale ATA). Si farà riferimento agli ultimi tre aa.ss. conclusi.
A76: 1) Percentuale calcolata sul totale degli insegnanti della sede/plesso
A77: 2) Percentuale calcolata sul totale del personale ATA della sede/plesso
A78: 3) Nel caso in cui la risposta “Inalterato” corrisponda a 0, si segna la X nella casella “Diminuito”; ad esempio: la scuola ha 0 infortuni negli ultimi 3 aa.ss., si dovrebbe segnare “Inalterato” perché non ci sono variazioni, ma in questo caso “Inalterato” indica una condizione non cambiata perché non migliorabile, per cui la X va posta su “Diminuito” e non su “Inalterato”
A79: 8 | B79: % Assenza dal lavoro | H79: UNICA | K79: Diminuito | N79: Inalterato | Q79: Aumentato | T79: =AH81 -> #DIV/0!
K80: 0 Punti | N80: 3 Punti | Q80: 6 Punti
K81: =IF(Q14 <= 0, "X", IF(Q14 < M14, "X", "")) -> #DIV/0! | N81: =IF(AND(Q14 = M14, Q14 > 0), "X", "") -> #DIV/0! | Q81: =IF(Q14 > M14, "X", "") -> #DIV/0! | AE81: =IF(K81="X", 0, 0) -> #DIV/0! | AF81: =IF(N81="X", 3, 0) -> #DIV/0! | AG81: =IF(Q81="X", 6, 0) -> #DIV/0! | AH81: =AE81+AF81+AG81 -> #DIV/0! | AJ81: =T79 -> #DIV/0!
A82: I dati sono ricavabili dal sistema informatico ARGO Personale o dal sistema equivalente in uso nella scuola. Si farà riferimento agli ultimi tre aa.ss. conclusi Assenze dal lavoro da considerare: es. malattia figlio, periodi di aspettativa per motivi personali, assenze ingiustificate, mancato rispetto dell’orario minimo di lavoro per ritardi, uscite anticipate, etc. Non sono da considerare assenze quelle previste per lo sviluppo delle competenze (es. formazione), quelle legate ad agitazioni di carattere sindacale e/o ad assemblee autorizzate, quelle relative alla maternità e all’allattamento. Numeratore: è dato dal numero totale di ore lavorative perse dai lavoratori nell’intervallo di tempo considerato. Denominatore: è dato dal numero di ore lavorabili da tutti i lavoratori
A83: 9 | B83: % Assenze per malattia | H83: INSEGNANTI | K83: Diminuito | N83: Inalterato | Q83: Aumentato | T83: =AH85 -> #DIV/0!
K84: 0 Punti | N84: 3 Punti | Q84: 6 Punti
K85: =IF(Q15 <= 0, "X", IF(Q15 < M15, "X", "")) -> #DIV/0! | N85: =IF(AND(Q15 = M15, Q15 > 0), "X", "") -> #DIV/0! | Q85: =IF(Q15 > M15, "X", "") -> #DIV/0! | AE85: =IF(K85="X", 0, 0) -> #DIV/0! | AF85: =IF(N85="X", 3, 0) -> #DIV/0! | AG85: =IF(Q85="X", 6, 0) -> #DIV/0! | AH85: =AE85+AF85+AG85 -> #DIV/0! | AJ85: =T83 -> #DIV/0!
H86: Personale ATA | K86: Diminuito | N86: Inalterato | Q86: Aumentato | T86: =AH88 -> #DIV/0!
K87: 0 Punti | N87: 3 Punti | Q87: 6 Punti
K88: =IF(Q16 <= 0, "X", IF(Q16 < M16, "X", "")) -> #DIV/0! | N88: =IF(AND(Q16 = M16, Q16 > 0), "X", "") -> #DIV/0! | Q88: =IF(Q16 > M16, "X", "") -> #DIV/0! | AE88: =IF(K88="X", 0, 0) -> #DIV/0! | AF88: =IF(N88="X", 3, 0) -> #DIV/0! | AG88: =IF(Q88="X", 6, 0) -> #DIV/0! | AH88: =AE88+AF88+AG88 -> #DIV/0! | AJ88: =T86 -> #DIV/0!
A89: I dati sono ricavabili dal sistema informatico ARGO Personale o dal sistema equivalente in uso nella scuola, e verranno aggreganti in due sole categorie (personale docente + coordinatori di classe e personale ATA). Si farà riferimento agli ultimi tre aa.ss. conclusi. Sono esclusi: i giorni di assenza per maternità e allattamento, in quanto non si configurano come malattia. Numeratore: è dato dal numero di giorni di assenza dal lavoro per malattia di tutti i lavoratori del gruppo di riferimento (Insegnanti e personale ATA) nell’intervallo di tempo considerato. Denominatore: è dato dal numero di lavoratori del gruppo di riferimento (Insegnanti e personale ATA)
A90: 10 | B90: N. visite Dal MC (se nominato) su richiesta del lavoratore (4) | H90: INSEGNANTI | K90: Diminuito | N90: Inalterato | Q90: Aumentato | T90: =AH92 -> #DIV/0!
K91: 0 Punti | N91: 3 Punti | Q91: 6 Punti
K92: =IF(Q17 <= 0, "X", IF(Q17 < M17, "X", "")) -> #DIV/0! | N92: =IF(AND(Q17 = M17, Q17 > 0), "X", "") -> #DIV/0! | Q92: =IF(Q17 > M17, "X", "") -> #DIV/0! | AE92: =IF(K92="X", 0, 0) -> #DIV/0! | AF92: =IF(N92="X", 3, 0) -> #DIV/0! | AG92: =IF(Q92="X", 6, 0) -> #DIV/0! | AH92: =AE92+AF92+AG92 -> #DIV/0! | AJ92: =T90 -> #DIV/0!
H93: Personale ATA | K93: Diminuito | N93: Inalterato | Q93: Aumentato | T93: =AH95 -> #DIV/0!
K94: 0 Punti | N94: 3 Punti | Q94: 6 Punti
K95: =IF(Q18 <= 0, "X", IF(Q18 < M18, "X", "")) -> #DIV/0! | N95: =IF(AND(Q18 = M18, Q18 > 0), "X", "") -> #DIV/0! | Q95: =IF(Q18 > M18, "X", "") -> #DIV/0! | AE95: =IF(K95="X", 0, 0) -> #DIV/0! | AF95: =IF(N95="X", 3, 0) -> #DIV/0! | AG95: =IF(Q95="X", 6, 0) -> #DIV/0! | AH95: =AE95+AF95+AG95 -> #DIV/0! | AJ95: =T93 -> #DIV/0!
A96: Il GV considererà le visite effettuate nel corso degli ultimi 3 aa.ss. conclusi. 4) Nel caso in cui la risposta “Inalterato” corrisponda a 0, si segna la X nella casella “Diminuito”; ad esempio: nella scuola non ci sono state visite dal MC su richiesta dei lavoratori negli ultimi 3 aa.ss., si dovrebbe segnare “Inalterato” perché non ci sono variazioni, ma in questo caso “Inalterato” indica una condizione non cambiata perché non migliorabile, per cui la X va posta su “Diminuito” e non su “Inalterato”. Porre la X sulla casella “Diminuito” se la scuola non ha il MC
A97: 11 | B97: Il numero di plessi in cui si esolcia il servizio (Valore dell’anno di valutazione) | H97: INSEGNANTI | K97: + del 50% del personale è incaricato su 1 o 2 plessi | N97: + del 50% del personale è incaricato su 3 o 4 plessi | Q97: + del 50% del personale è incaricato su 5 plessi | T97: + del 50% del personale è incaricato su più di 5 plessi | W97: =AI97 -> #DIV/0! | AE97: =IF(K99="X", 0, 0) -> #DIV/0! | AF97: =IF(N99="X", 1, 0) -> #DIV/0! | AG97: =IF(Q99="X", 2, 0) -> #DIV/0! | AH97: =IF(T99="X", 3, 0) -> #DIV/0! | AI97: =AE97+AF97+AG97+AH97 -> #DIV/0! | AJ97: =AI97 -> #DIV/0!
K98: 0 Punti | N98: 1 Punti | Q98: 2 Punti | T98: 3 Punti
K99: =IF('Inserimento Dati'!B49>0.5,"X","") -> #DIV/0! | N99: =IF('Inserimento Dati'!C49>0.5,"X","") -> #DIV/0! | Q99: =IF('Inserimento Dati'!D49>0.5,"X","") -> #DIV/0! | T99: =IF('Inserimento Dati'!E49>0.5,"X","") -> #DIV/0!
H100: Personale ATA | K100: + del 50% del personale è incaricato su 1 o 2 plessi | N100: + del 50% del personale è incaricato su 3 o 4 plessi | Q100: + del 50% del personale è incaricato su 5 plessi | T100: + del 50% del personale è incaricato su più di 5 plessi | W100: =AI100 -> #DIV/0! | AE100: =IF(K102="X", 0, 0) -> #DIV/0! | AF100: =IF(N102="X", 1, 0) -> #DIV/0! | AG100: =IF(Q102="X", 2, 0) -> #DIV/0! | AH100: =IF(T102="X", 3, 0) -> #DIV/0! | AI100: =AE100+AF100+AG100+AH100 -> #DIV/0! | AJ100: =AI100 -> #DIV/0!
K101: 0 Punti | N101: 1 Punti | Q101: 2 Punti | T101: 3 Punti
K102: =IF('Inserimento Dati'!B50>0.5,"X","") -> #DIV/0! | N102: =IF('Inserimento Dati'!C50>0.5,"X","") -> #DIV/0! | Q102: =IF('Inserimento Dati'!D50>0.5,"X","") -> #DIV/0! | T102: =IF('Inserimento Dati'!E50>0.5,"X","") -> #DIV/0!
A103: Il GV verifica in quante strutture è impegnato il personale considerando lo spostamento una condizione progressivamente più stressante perché richiede tempo di percorrenza e adattamento a strutture e gruppi differenti di colleghi Dividere il numero di lavoratori incaricato su 1 o 2 plessi, 3 o 4 plessi, 5 plessi, > di 5 plessi e dividerlo per il numero di lavoratori totali
A105: PUNTEGGIO TOTALE | T105: =T93+T90+T86+T83+T79+T71+T68+T64+T61+T57+T54+T50+T47+T43+T40+T36+T33+T29+T26+W97+W100 -> #DIV/0! | X105: Rischio Non Rilevante | Z105: Medio | AB105: Alto | AJ105: =T105 -> #DIV/0!
A106: CONVERSIONE DEL PUNTEGGIO | T106: =IF(T105>=0,IF(T105<=29,0,IF(T105<=58,10,IF(T105<=120,20,""))),"") -> #DIV/0! | X106: =IF(T106=0,"X","") -> #DIV/0! | Z106: =IF(T106=10,"X","") -> #DIV/0! | AB106: =IF(T106=20,"X","") -> #DIV/0! | AE106: =T106 -> #DIV/0! | AJ106: =T106 -> #DIV/0!

Sheet A - Ambiente di Lavoro
A1: A – AREA AMBIENTE DI LAVORO
A4: N | B4: INDICATORE | I4: Situazione | K4: Situazione | M4: Situazione | O4: Situazione | Q4: PUNTEGGIO | R4: NOTE
I5: BUONA | K5: DISCRETA | M5: MEDIOCRE | O5: NEGATIVA | Y5: Tabella_Dati_Formule
A6: 1 | B6: Il microclima (temperatura e umidità dell’aria e presenza di sostanze inquinanti) di tutti gli ambienti è adeguato? | I6: Si, ovunque e in ogni stagione | K6: Si, ma non ovunque e non sempre | M6: No, in diversi ambienti e spesso | O6: No, in quasi tutti gli ambienti e quasi sempre | Q6: =AC8 -> 0 | AD6: =Q6 -> 0
I7: 0 Punti | K7: 1 Punto | M7: 2 Punti | O7: 3 Punti | AC7: SOMMA
Y8: =IF(I8="X", 0, 0) -> 0 | Z8: =IF(K8="X", 1, 0) -> 0 | AA8: =IF(M8="X", 2, 0) -> 0 | AB8: =IF(O8="X", 3, 0) -> 0 | AC8: =SUM(Y8:AB8) -> 0
A9: Il microclima dell’ambiente di lavoro è ritenuto uno degli elementi più importanti tra quelli che caratterizzano il benessere lavorativo e, specie negli ambienti promiscui e nel lavoro intellettuale, l’elemento cui senz’altro i lavoratori sono più sensibili ed attenti.
A10: Elementi di giudizio | D10: Valori microclimatici raggiunti nelle situazioni estreme (estate e inverno), frequenza di situazioni di disagio, concomitanza di situazioni negative (ad es. cattive situazioni microclimatiche e affollamento degli ambienti)
A11: 2 | B11: L’illuminazione (naturale e artificiale) è adeguata alle attività da svolgere? | I11: Si, sempre | K11: Si, ma non dappertutto | M11: In molti ambienti no, anche di sera | O11: Quasi ovunque no, anche di sera | Q11: =AC13 -> 0 | AD11: =Q11 -> 0
I12: 0 Punti | K12: 1 Punto | M12: 2 Punti | O12: 3 Punti | AC12: SOMMA
Y13: =IF(I13="X", 0, 0) -> 0 | Z13: =IF(K13="X", 1, 0) -> 0 | AA13: =IF(M13="X", 2, 0) -> 0 | AB13: =IF(O13="X", 3, 0) -> 0 | AC13: =SUM(Y13:AB13) -> 0
A14: L’illuminazione di un posto di lavoro è data dalla somma di quella naturale, proveniente dalle finestre, e di quella artificiale, sia generale (lampade a soffitto) che localizzata (lampade da tavolo, illuminazione dei punti di lavoro, ecc.). L’illuminazione troppo bassa produce affaticamento visivo, quella troppo alta (compreso il riverbero del sole sugli occhi) produce fastidio, distrazione e rischio di infortunio.
A15: Elementi di giudizio | D15: Valori d’illuminamento, estensione e ricorrenza delle situazioni di disagio
A16: 3 | B16: C’è riverbero (rimbombo) nelle aule, negli altri ambienti in cui si fa lezione (palestra, laboratorio), negli uffici, in mensa? | I16: No, anche se gli ambienti sono vuoti | K16: No, ma solo negli ambienti pieni | M16: Si, in tutti gli ambienti, ma solo se sono vuoti | O16: Si, in tutti gli ambienti, anche se pieni | Q16: =AC18 -> 0 | AD16: =Q16 -> 0
I17: 0 Punti | K17: 2 Punti | M17: 4 Punti | O17: 6 Punti | AC17: SOMMA
Y18: =IF(I18="X", 0, 0) -> 0 | Z18: =IF(K18="X", 2, 0) -> 0 | AA18: =IF(M18="X", 4, 0) -> 0 | AB18: =IF(O18="X", 6, 0) -> 0 | AC18: =SUM(Y18:AB18) -> 0
A19: Si dice riverbero (o rimbombo) il fenomeno della persistenza prolungata del suono in un ambiente chiuso, prima che questo venga totalmente assorbito. Il riverbero eccessivo è una delle caratteristiche ambientali più dannose ed irritanti per chi deve parlare, perché lo costringe ad alzare il tono della voce, e, contemporaneamente, è uno dei fattori che ostacola di più la trasmissione dei messaggi verbali.
A20: Elementi di giudizio | D20: Valori del riverbero, estensione e ricorrenza delle situazioni di disagio
A21: 4 | B21: Sono presenti attrezzature/strumenti (pc, lim, fotocopiatrici, stampanti..) adeguati e sufficienti per lo svolgimento del proprio lavoro? | I21: Si | K21: Sufficienti ma non sempre adeguati | M21: Adeguati ma non sufficienti | O21: Ne adeguati ne sufficienti | Q21: =AC23 -> 0 | AD21: =Q21 -> 0
I22: 0 Punti | K22: 2 Punti | M22: 4 Punti | O22: 6 Punti | AC22: SOMMA
Y23: =IF(I23="X", 0, 0) -> 0 | Z23: =IF(K23="X", 2, 0) -> 0 | AA23: =IF(M23="X", 4, 0) -> 0 | AB23: =IF(O23="X", 6, 0) -> 0 | AC23: =SUM(Y23:AB23) -> 0
A24: Il lavoratore ha a disposizione strumenti adeguati al raggiungimento del proprio compito nei tempi prefissati
A25: Elementi di giudizio | D25: Disponibilità di strumenti di lavoro funzionanti ed adeguati all’attività assegnata
A26: 5 | B26: Le aule e gli altri ambienti sono puliti e in ordine? | I26: Si, sempre | K26: Si, ma non sempre | M26: Spesso no | O26: Quasi sempre no | Q26: =AC28 -> 0 | AD26: =Q26 -> 0
I27: 0 Punti | K27: 1 Punto | M27: 2 Punti | O27: 3 Punti | AC27: SOMMA
Y28: =IF(I28="X", 0, 0) -> 0 | Z28: =IF(K28="X", 1, 0) -> 0 | AA28: =IF(M28="X", 2, 0) -> 0 | AB28: =IF(O28="X", 3, 0) -> 0 | AC28: =SUM(Y28:AB28) -> 0
A29: La carenza di decoro, di pulizia e di igiene delle aule e degli ambienti scolastici in genere viene vissuta con fastidio e con il timore (sebbene il più delle volte infondato) di infezioni e malattie.
A30: Elementi di giudizio | D30: Frequenza e accuratezza delle pulizie, regole per la tenuta degli ambienti e degli spazi, efficacia della raccolta differenziata
A31: 6 | B31: Gli spazi esterni (cortile, parco giochi, ecc.) sono sufficienti e adeguati allo scopo? | I31: Si | K31: Si, abbastanza | M31: Non del tutto | O31: Decisamente no | Q31: =AC33 -> 0 | AD31: =Q31 -> 0
I32: 0 Punti | K32: 1 Punto | M32: 2 Punti | O32: 3 Punti | AC32: SOMMA
Y33: =IF(I33="X", 0, 0) -> 0 | Z33: =IF(K33="X", 1, 0) -> 0 | AA33: =IF(M33="X", 2, 0) -> 0 | AB33: =IF(O33="X", 3, 0) -> 0 | AC33: =SUM(Y33:AB33) -> 0
A34: La carenza o l’inadeguatezza degli spazi esterni destinati ai momenti di svago (ricreazione, pausa pranzo, ecc.) o ad attività ludico-motorie (strutturate e non) è un elemento negativo avvertito soprattutto nelle scuole del I° ciclo, ma può costituire un problema anche per la gestione delle pause degli studenti delle superiori.
A35: Elementi di giudizio | D35: Dimensioni e caratteristiche (in relazione al numero di allievi), conduzione quotidiana, manutenzione e mantenimento degli spazi e delle attrezzature
A36: 7 | B36: La sede scolastica è facilmente raggiungibile dal personale (in auto o con altri mezzi) e dotata di parcheggio? | I36: Si, comodamente | K36: Si, ma dipende dall’ora in cui si arriva | M36: No, soprattutto se si arriva in certe ore | O36: No, mai | Q36: =AC38 -> 0 | AD36: =Q36 -> 0
I37: 0 Punti | K37: 1 Punto | M37: 2 Punti | O37: 3 Punti | AC37: SOMMA
Y38: =IF(I38="X", 0, 0) -> 0 | Z38: =IF(K38="X", 1, 0) -> 0 | AA38: =IF(M38="X", 2, 0) -> 0 | AB38: =IF(O38="X", 3, 0) -> 0 | AC38: =SUM(Y38:AB38) -> 0
A39: Le difficoltà per raggiungere rapidamente e senza intoppi il proprio luogo di lavoro, specie in auto e nelle prime ore del giorno, costituiscono un fattore stressogeno particolarmente avvertito da tutti i lavoratori; anche le difficoltà di parcheggio o la distanza tra il parcheggio e l’ingresso della scuola rappresentano fattori negativi.
A40: Elementi di giudizio | D40: Localizzazione della sede, servizi pubblici di trasporto, spazi di parcheggio, viabilità interna delle aree di pertinenza, rampe e scale d’accesso, ascensori
A41: 8 | B41: Gli ambienti sono strutturati tenendo conto dell’accessibilità per i disabili? | I41: Si, comodamente | K41: Si, ma dipende dall’ora in cui si arriva | M41: No, soprattutto se si arriva in certe ore | O41: No, mai | Q41: =AC43 -> 0 | AD41: =Q41 -> 0
I42: 0 Punti | K42: 1 Punto | M42: 2 Punti | O42: 3 Punti | AC42: SOMMA
Y43: =IF(I43="X", 0, 0) -> 0 | Z43: =IF(K43="X", 1, 0) -> 0 | AA43: =IF(M43="X", 2, 0) -> 0 | AB43: =IF(O43="X", 3, 0) -> 0 | AC43: =SUM(Y43:AB43) -> 0
A44: Una scuola per essere accessibile deve garantire agli alunni, e a tutto il personale scolastico, di poter usufruire dei servizi, delle prestazioni e delle opportunità che essa offre
A45: Elementi di giudizio | D45: Disponibilità di ascensore, servoscala interno, bagni non a norma, segnalazioni visive per studenti con sordità o ipoacusia, mappe a rilievo e percorsi tattili per gli alunni con cecità o ipovisione
A47: AMBIENTE DI LAVORO - PUNTEGGIO PARZIALE - A | Q47: =Q41+Q36+Q31+Q26+Q21+Q16+Q11+Q6 -> 0
Q48: (su 30)
A51: NOTE DEL GV

Sheet B - Contesto del lavoro
A1: B – AREA CONTESTO DEL LAVORO
A4: N | B4: INDICATORE | I4: Situazione | K4: Situazione | M4: Situazione | O4: Situazione | Q4: PUNTEGGIO | R4: NOTE
I5: BUONA | K5: DISCRETA | M5: MEDIOCRE | O5: NEGATIVA | Y5: Tabella_Dati_Formule
A6: 1 | B6: Il regolamento d’istituto è conosciuto e rispettato da tutto il personale scolastico e l’utenza (alunni e famiglie)? | I6: Si, viene tenuto sempre presente da tutti | K6: Generalmente si, ma a volte qualcuno non lo applica | M6: No, c’è chi lo applica e chi no | O6: No, quasi nessuno se ne ricorda | Q6: =AC8 -> 0 | AE6: =Q6 -> 0
I7: 0 Punti | K7: 2 Punti | M7: 4 Punti | O7: 6 Punti | AC7: SOMMA
Y8: =IF(I8="X", 0, 0) -> 0 | Z8: =IF(K8="X", 2, 0) -> 0 | AA8: =IF(M8="X", 4, 0) -> 0 | AB8: =IF(O8="X", 6, 0) -> 0 | AC8: =SUM(Y8:AB8) -> 0
A9: Una delle principali fonti di disagio lavorativo, evidenziata anche nei focus e nelle interviste effettuate sul tema, è legata alla distanza tra le regole scritte e condivise e i comportamenti reali che vengono praticati, in particolare quando l’impressione che ne trae il lavoratore è che le regole siano state scritte solo per assolvere ad un obbligo formale.
A10: Elementi di giudizio | D10: Modalità di definizione, aggiornamento e diffusione del regolamento, evidenze e informazioni sul rispetto del regolamento da tutte le componenti scolastiche e dagli allievi
A11: 2 | B11: I criteri per l’assegnazione degli insegnanti alle classi sono condivisi? | I11: Si, sono condivisi e, quando possibile, rispettati | K11: Si, sono condivisi, ma per vari motivi non sempre rispettati | M11: No, sono condivisi solo in linea teorica | O11: No, non sono condivisi ne rispettati | Q11: =AC13 -> 0 | AE11: =Q11 -> 0
I12: 0 Punti | K12: 1 Punto | M12: 2 Punti | O12: 3 Punti | AC12: SOMMA
Y13: =IF(I13="X", 0, 0) -> 0 | Z13: =IF(K13="X", 1, 0) -> 0 | AA13: =IF(M13="X", 2, 0) -> 0 | AB13: =IF(O13="X", 3, 0) -> 0 | AC13: =SUM(Y13:AB13) -> 0
A14: Il gruppo classe costituisce, per ogni insegnante, l’oggetto prioritario del proprio lavoro e la parte preponderante del proprio impegno, in termini sia fisici che psicologici; logico quindi che l’insegnante attribuisca a questo aspetto una particolare valenza.
A15: Elementi di giudizio | D15: Modalità di definizione, aggiornamento e diffusione dei criteri di assegnazione degli insegnanti alle classi, modalità per declinare la condivisione dei criteri (Collegio Docenti, Dipartimenti, cc.d.c./team, ecc.)
A16: 3 | B16: L’organizzazione dell’orario di lavoro del personale, prevede una rotazione tale da facilitare chi lavora su più plessi? | I16: Si, sempre | K16: Generalmente si | M16: Spesso no | O16: No, non è consuetudine neanche avanzarle | Q16: =AC18 -> 0 | AE16: =Q16 -> 0
I17: 0 Punti | K17: 2 Punti | M17: 4 Punti | O17: 6 Punti | AC17: SOMMA
Y18: =IF(I18="X", 0, 0) -> 0 | Z18: =IF(K18="X", 2, 0) -> 0 | AA18: =IF(M18="X", 4, 0) -> 0 | AB18: =IF(O18="X", 6, 0) -> 0 | AC18: =SUM(Y18:AB18) -> 0
A19: La programmazione dell’orario di lavoro tiene conto delle esigenze del personale, a partire da che opera su più plessi
A20: Elementi di giudizio | D20: Raccolta delle richieste, limiti e/o vincoli alle richieste (es. limitazioni), organizzazione del lavoro a rotazione
A21: 4 | B21: Le circolari emesse dal DS sono adeguate? | I21: Si, sono chiare e puntuali | K21: Si, sono chiare, anche se a volte risultano troppo numerose | M21: No, a volte sono poco chiare o carenti di informazioni | O21: No, spesso mancano informazioni o non sono chiare | Q21: =AC23 -> 0 | AE21: =Q21 -> 0
I22: 0 Punti | K22: 1 Punto | M22: 2 Punti | O22: 3 Punti | AC22: SOMMA
Y23: =IF(I23="X", 0, 0) -> 0 | Z23: =IF(K23="X", 1, 0) -> 0 | AA23: =IF(M23="X", 2, 0) -> 0 | AB23: =IF(O23="X", 3, 0) -> 0 | AC23: =SUM(Y23:AB23) -> 0
A24: Le circolari costituiscono uno strumento informativo interno di fondamentale importanza; alla trasmissione scritta delle informazioni, delle comunicazioni e delle scelte del DS i lavoratori tendono a dare un peso maggiore.
A25: Elementi di giudizio | D25: Numero complessivo annuo delle circolari e loro distribuzione nel tempo, modalità di diffusione, proprietà caratteristiche (formato, leggibilità, comprensibilità, ecc.), sovrapposizione o ridondanza
A26: 5 | B26: I ruoli e i compiti delle persone con funzioni specifiche sono definiti e noti a tutto il personale? | I26: Si, e l’organigramma è molto chiaro e preciso | K26: Si, anche se l’organigramma non è sempre chiaro e preciso | M26: No, l’organigramma è sintetico e i ruoli sono poco chiari | O26: No, non c’è alcun organigramma e ruoli e compiti sono confusi | Q26: =AC28 -> 0 | AE26: =Q26 -> 0
I27: 0 Punti | K27: 1 Punto | M27: 2 Punti | O27: 3 Punti | AC27: SOMMA
Y28: =IF(I28="X", 0, 0) -> 0 | Z28: =IF(K28="X", 1, 0) -> 0 | AA28: =IF(M28="X", 2, 0) -> 0 | AB28: =IF(O28="X", 3, 0) -> 0 | AC28: =SUM(Y28:AB28) -> 0
A29: In un’organizzazione complessa sapere “chi fa che cosa” semplifica il lavoro, ne ottimizza l’esecuzione e agevola le relazioni ed i rapporti interpersonali; questo obiettivo può facilmente essere raggiunto predisponendo un organigramma per ruoli e compiti.
A30: Elementi di giudizio | D30: Modalità di creazione, aggiornamento e diffusione dell’organigramma per ruoli e compiti
A31: 6 | B31: Le istruzioni e le indicazioni per lo svolgimento del proprio lavoro sono chiare, coerenti e precise? | I31: Si, ognuno sa sempre cosa deve fare | K31: Generalmente si, ma a volte bisogna interpretarle | M31: No, diverse volte sono poco precise e contraddittorie | O31: No, sono imprecise e contraddittorie | Q31: =AC33 -> 0 | AE31: =Q31 -> 0
I32: 0 Punti | K32: 1 Punto | M32: 2 Punti | O32: 3 Punti | AC32: SOMMA
Y33: =IF(I33="X", 0, 0) -> 0 | Z33: =IF(K33="X", 1, 0) -> 0 | AA33: =IF(M33="X", 2, 0) -> 0 | AB33: =IF(O33="X", 3, 0) -> 0 | AC33: =SUM(Y33:AB33) -> 0
A34: L’organizzazione del lavoro, in particolare di contesti ad alto livello di turnover, richiede la presenza di istruzioni operative chiare e standard
A35: Elementi di giudizio | D35: Modalità di definizione e diffusione delle istruzioni sulle cose da fare, tempestività delle richieste (ad es. programmazione anticipata dei lavori importanti)
A36: 7 | B36: Gli obiettivi e le priorità del lavoro vengono condivisi? | I36: Si, sia all’inizio dell’anno sia periodicamente | K36: Si, all’inizio dell’anno, poi però a volte vengono modificati | M36: No, vengono condivisi all’inizio dell’anno, ma poi spesso modificati | O36: No, il sistema è quello di dare solo istruzioni, man mano che servono | Q36: =AC38 -> 0 | AE36: =Q36 -> 0
I37: 0 Punti | K37: 2 Punti | M37: 4 Punti | O37: 6 Punti | AC37: SOMMA
Y38: =IF(I38="X", 0, 0) -> 0 | Z38: =IF(K38="X", 2, 0) -> 0 | AA38: =IF(M38="X", 4, 0) -> 0 | AB38: =IF(O38="X", 6, 0) -> 0 | AC38: =SUM(Y38:AB38) -> 0
A39: A partire dalla politica scolastica che il DS intende perseguire e passando per gli obiettivi di medio-lungo termine (pluriennali) e di breve-medio termine (l’anno scolastico o il quadrimestre), le parole d’ordine sono trasparenza, condivisione e individuazione delle priorità.
A40: Elementi di giudizio | D40: Modalità di definizione, aggiornamento e diffusione degli obiettivi, esplicitazione delle priorità, modalità per declinare la condivisione degli obiettivi, verifiche sull’effettuazione delle attività coerenti con gli obiettivi
A41: 8 | B41: Esistono momenti strutturati di incontro individuale con il DS? | I41: Si, fa tutto il possibile | K41: Generalmente si, giornate e orari di disponibilità formalizzati | M41: Generalmente no | O41: No, ascolta veramente poco e con fatica | Q41: =AC43 -> 0 | AE41: =Q41 -> 0
I42: 0 Punti | K42: 1 Punto | M42: 2 Punti | O42: 3 Punti | AC42: SOMMA
Y43: =IF(I43="X", 0, 0) -> 0 | Z43: =IF(K43="X", 1, 0) -> 0 | AA43: =IF(M43="X", 2, 0) -> 0 | AB43: =IF(O43="X", 3, 0) -> 0 | AC43: =SUM(Y43:AB43) -> 0
A44: Ogni lavoratore che lo richieda, ha la possibilità di comunicare con il DS in modo programmato e riservato
A45: Elementi di giudizio | D45: Modalità d’ascolto del personale (orari, tempi, luoghi, ecc.), modalità di comunicazione delle risposte
A47: AMBIENTE DI LAVORO - PUNTEGGIO PARZIALE - A | Q47: =Q41+Q36+Q31+Q26+Q21+Q16+Q11+Q6 -> 0
Q48: (su 33)
A58: NOTE DEL GV

Sheet C1 - Insegnanti
A1: C1 – AREA CONTENUTO DEL LAVORO – PERSONALE INSEGNANTE
A4: N | B4: INDICATORE | I4: Situazione | K4: Situazione | M4: Situazione | O4: Situazione | Q4: PUNTEGGIO | R4: NOTE
I5: BUONA | K5: DISCRETA | M5: MEDIOCRE | O5: NEGATIVA | Y5: Tabella_Dati_Formule
A6: 1 | B6: C’è coerenza e condivsione all’interno del singolo team sui criteri di valutazione dell’apprendimento e comportamento degli allievi? | I6: Si, c’è coerenza e piena condivisione | K6: Generalmente si, ma qualche problema può nascere | M6: No, non sempre e i problemi emergono agli scrutini | O6: No, gli insegnanti si trovano spesso in totale disaccordo tra loro | Q6: =AC8 -> 0 | AE6: =Q6 -> 0
I7: 0 Punti | K7: 2 Punti | M7: 4 Punti | O7: 6 Punti | AC7: SOMMA
Y8: =IF(I8="X", 0, 0) -> 0 | Z8: =IF(K8="X", 2, 0) -> 0 | AA8: =IF(M8="X", 4, 0) -> 0 | AB8: =IF(O8="X", 6, 0) -> 0 | AC8: =SUM(Y8:AB8) -> 0
A9: Una parte non trascurabile dei problemi e dei possibili attriti tra colleghi, all’interno dello stesso team, nascono dal fatto di possedere opinioni anche molto diversificate rispetto alla valutazione dell’apprendimento degli allievi, specie quando si giunge alla stretta finale degli scrutini; la condivisione dei criteri di valutazione dell’apprendimento e della condotta costituisce inoltre un importante punto di forza del team nei rapporti a volte conflittuali con le famiglie e con gli stessi allievi, contribuendo non poco a migliorarli.
A10: Elementi di giudizio | D10: Modalità di definizione, aggiornamento e diffusione dei criteri di valutazione, livello medio di conflittualità all’interno dei team sulla valutazione degli allievi, numerosità degli interventi mediatori del DS durante gli scrutini
A11: 2 | B11: I principi e i messaggi educativi sono condivisi ed applicati all’interno dei cc.d.c./team? | I11: Si, c’è piena condivisione e applicazione | K11: Generalmente sono condivisi ma non sempre applicati | M11: Pur essendo condivisi sono sistematicamente disapplicati da qualcuno | O11: No, gli insegnanti si trovano spesso in totale disaccordo tra loro | Q11: =AC13 -> 0 | AE11: =Q11 -> 0
I12: 0 Punti | K12: 1 Punto | M12: 2 Punti | O12: 3 Punti | AC12: SOMMA
Y13: =IF(I13="X", 0, 0) -> 0 | Z13: =IF(K13="X", 1, 0) -> 0 | AA13: =IF(M13="X", 2, 0) -> 0 | AB13: =IF(O13="X", 3, 0) -> 0 | AC13: =SUM(Y13:AB13) -> 0
A14: Un altro ambito che tipicamente può portare a problemi relazionali e a contrasti tra colleghi, all’interno dello stesso cc.d.c./team, riguarda le regole educative da trasmettere agli allievi, i confini del lecito a scuola, lo stile educativo (spesso molto diversificato per importanza data a certi comportamenti o per qualità del rapporto docente/discente
A15: Elementi di giudizio | D15: Modalità di definizione, discussione e diffusione delle regole educative (anche ad allievi e famiglie), livello medio di conflittualità all’interno dei cc.d.c./team sulle regole comportamentali ed educative, numerosità degli interventi mediatori o censori del DS
A16: 3 | B16: Il DS valuta il ruolo educativo degli insegnanti in modo coerente ed oggettivo? | I16: Si, sempre e oggettivamente | K16: Si, con continuità | M16: No, saltuariamente | O16: No, mai | Q16: =AC18 -> 0 | AE16: =Q16 -> 0
I17: 0 Punti | K17: 2 Punti | M17: 4 Punti | O17: 6 Punti | AC17: SOMMA
Y18: =IF(I18="X", 0, 0) -> 0 | Z18: =IF(K18="X", 2, 0) -> 0 | AA18: =IF(M18="X", 4, 0) -> 0 | AB18: =IF(O18="X", 6, 0) -> 0 | AC18: =SUM(Y18:AB18) -> 0
A19: La letteratura specifica di ambito scolastico sottolinea l’importanza del ruolo attivo del DS nel supportare le “battaglie” che, quotidianamente, gli insegnanti devono affrontare sul versante educativo, sia in classe che nel rapporto spesso difficile con le famiglie dei propri allievi; in molti casi viene evidenziato il mancato ruolo di supporto da parte del DS, quando comunque il comportamento della famiglia non è giustificato e giustificabile.
A20: Elementi di giudizio | D20: Ruolo del DS nei conflitti insegnante/famiglia o insegnante/allievo
A21: 4 | B21: All’interno dei cc.d.c./team c’è sostegno reciproco rispetto a situazioni didatticamente o educativamente difficili? | I21: Si, c’è sempre grande sintonia e aiuto reciproco | K21: Generalmente si, ma più facilmente sul versante didattico | M21: No, solo tra i colleghi che hanno simpatia reciproca | O21: No, ognuno tende a lavorare da solo e non si interessa degli altr | Q21: =AC23 -> 0 | AE21: =Q21 -> 0
I22: 0 Punti | K22: 2 Punti | M22: 4 Punti | O22: 6 Punti | AC22: SOMMA
Y23: =IF(I23="X", 0, 0) -> 0 | Z23: =IF(K23="X", 2, 0) -> 0 | AA23: =IF(M23="X", 4, 0) -> 0 | AB23: =IF(O23="X", 6, 0) -> 0 | AC23: =SUM(Y23:AB23) -> 0
A24: La letteratura evidenzia come molti casi di sindrome di burn-out tra gli insegnanti abbiano origine dal senso di isolamento con cui affrontano il proprio rapporto con le classi o i singoli allievi difficili, sia sul versante della didattica, sia soprattutto sul versante educativo e relazionale
A25: Elementi di giudizio | D25: Formalizzazione delle situazioni difficili, modalità di collaborazione e/o sostegno tra pari, numerosità degli interventi mediatori del DS
A26: 5 | B26: Vengono organizzati incontri tra insegnanti a carattere interdisciplinare? | I26: Si, in numero e secondo tempistiche adeguati | K26: Si, ma in numero e secondo tempistiche non sempre adeguati | M26: Sì, ma in numero non adeguato | O26: Raramente e secondo temopistiche indadeguate | Q26: =AC28 -> 0 | AE26: =Q26 -> 0
I27: 0 Punti | K27: 1 Punto | M27: 2 Punti | O27: 3 Punti | AC27: SOMMA
Y28: =IF(I28="X", 0, 0) -> 0 | Z28: =IF(K28="X", 1, 0) -> 0 | AA28: =IF(M28="X", 2, 0) -> 0 | AB28: =IF(O28="X", 3, 0) -> 0 | AC28: =SUM(Y28:AB28) -> 0
A29: Spesso gli insegnanti avvertono la sensazione di lavorare da soli e di non avere a disposizione dei momenti per il confronto; questo fattore è diventato ancora più importante da quando ha assunto un ruolo centrale la programmazione per competenze dell’intero Collegio Docenti e del c.d.c., programmazione che si fonda sulla definizione di unità di apprendimento interdisciplinari.
A30: Elementi di giudizio | D30: Modalità di organizzazione degli incontri interdisciplinari (ad es. tra chi, con quali obiettivi, con che tempi, con che strumenti/materiali di riferimento, chi conduce, ecc.), numerosità ed efficacia degli incontri interdisciplinari, modalità di diffusione e di consultazione delle programmazioni e dei materiali (individuali, di c.d.c./team, di dipartimento)
A31: 6 | B31: Per la formazione delle classi iniziali, vengono applicati dei criteri condivisi? | I31: Si, condivisi e trasparenti | K31: Generalmente si | M31: Generalmente no, ci sono alcuni criteri ma spesso vengono disattesi | O31: No | Q31: =AC33 -> 0 | AE31: =Q31 -> 0
I32: 0 Punti | K32: 2 Punti | M32: 4 Punti | O32: 6 Punti | AC32: SOMMA
Y33: =IF(I33="X", 0, 0) -> 0 | Z33: =IF(K33="X", 2, 0) -> 0 | AA33: =IF(M33="X", 4, 0) -> 0 | AB33: =IF(O33="X", 6, 0) -> 0 | AC33: =SUM(Y33:AB33) -> 0
A34: La creazione delle classi iniziali rappresenta una fase delicata e fondamentale. Un’attenta valutazione del livello di partenza dei nuovi iscritti ed una corretta aggregazione degli alunni, tale da rendere le classi omogenee anche sotto il profilo della numerosità dei ragazzi con bisogni educativi speciali e/o con disabilità e/o con storie di migrazione, permettono di condurre il processo educativo e formativo degli alunni in modo più efficiente.
A35: Elementi di giudizio | D35: Modalità di definizione, aggiornamento e diffusione dei criteri di formazione delle classi iniziali, modalità per declinare la condivisione dei criteri
A36: 7 | B36: Sono previste attività di recupero tese a migliorare la conoscenza della lingua italiana per gli allievi stranieri? | I36: Si, inserite nel PTOF e coordinate da una FS | K36: Si, inserite nel PTOF e affidate agli insegnanti più sensibili con le competenze adeguate | M36: No, il PTOF non le prevede, ma ci sono diversi insegnanti che lo fanno | O36: Il PTOF non le prevede e se ne occupano solo gli insegnanti che hanno il problema | Q36: =AC38 -> 0 | AE36: =Q36 -> 0
I37: 0 Punti | K37: 1 Punto | M37: 2 Punti | O37: 3 Punti | AC37: SOMMA
Y38: =IF(I38="X", 0, 0) -> 0 | Z38: =IF(K38="X", 1, 0) -> 0 | AA38: =IF(M38="X", 2, 0) -> 0 | AB38: =IF(O38="X", 3, 0) -> 0 | AC38: =SUM(Y38:AB38) -> 0
A39: Dal punto di vista dell’insegnante tenuto a fare lezione ad una classe, la presenza di un numero elevato di allievi non italiofoni costituisce un problema, seppur circoscritto al solo ambito professionale.
A40: Elementi di giudizio | D40: Progetti o percorsi d’accoglienza e “in itinere”, verifica delle competenze linguistiche in ingresso, risorse dedicate
A41: 8 | B41: La comunicazione tra scuola alunni e famiglie è efficace e trasparente? | I41: Si, le informazioni sono numerose, dettagliate e distribuite nel tempo | K41: Si, vengono date adeguate informazioni, ma prevalentemente all’inizio dell’anno | M41: No, se ne accenna solo in alcune occasioni | O41: No, se ne accenna solo all’inizio dell’anno e poi basta | Q41: =AC43 -> 0 | AE41: =Q41 -> 0
I42: 0 Punti | K42: 1 Punto | M42: 2 Punti | O42: 3 Punti | AC42: SOMMA
Y43: =IF(I43="X", 0, 0) -> 0 | Z43: =IF(K43="X", 1, 0) -> 0 | AA43: =IF(M43="X", 2, 0) -> 0 | AB43: =IF(O43="X", 3, 0) -> 0 | AC43: =SUM(Y43:AB43) -> 0
A44: In molti casi i problemi di rapporto tra insegnante e allievi nascono dalla scarsità di informazioni che gli allievi e le famiglie ricevono sul percorso didattico che stanno affrontando (obiettivi delle singole discipline, argomenti più importanti, programmazione delle attività nel corso dell’anno, tipologia delle verifiche, criteri adottati per la loro valutazione, indicazioni per affrontare i compiti in classe, richiesta di impegno domestico ecc..
A45: Elementi di giudizio | D45: Tempi e modi dell’informazione alle famiglie e agli allievi
A46: 9 | B46: Il DS promuove l’aggiornamento degli insegnanti? | I46: Si, con diverse iniziative efficaci e utili | K46: Si, con alcune iniziative utili, ma non sempre condivise | M46: No, le azioni di aggiornamento non sono rispondenti al fabbisogno dei docenti | O46: No, non vi è alcun tipo di aggiornamento | Q46: =AC48 -> 0 | AE46: =Q46 -> 0
I47: 0 Punti | K47: 1 Punto | M47: 2 Punti | O47: 3 Punti | AC47: SOMMA
Y48: =IF(I48="X", 0, 0) -> 0 | Z48: =IF(K48="X", 1, 0) -> 0 | AA48: =IF(M48="X", 2, 0) -> 0 | AB48: =IF(O48="X", 3, 0) -> 0 | AC48: =SUM(Y48:AB48) -> 0
A49: La crescita delle competenze professionali e la consapevolezza del proprio ruolo in relazione all’offerta formativa dell’istituto sono elementi fondamentali per costruire i necessari anticorpi che permettono agli insegnanti di affrontare con maggior serenità e determinazione il proprio lavoro in aula e nel rapporto con allievi e famiglie.
A50: Elementi di giudizio | D50: Modalità di comunicazione del fabbisogno formativo, definizione e diffusione del piano d’aggiornamento per il personale, modalità organizzative e tempistica per la realizzazione dell’aggiornamento condiviso
A51: 10 | B51: Sono previsti incontri di programmazione tra insegnanti di classe e insegnanti di sostegno | I51: Si, in numero adeguato | K51: Si, ma non tanto spesso | M51: No, in numero non adeguato | O51: No, mai | Q51: =AC53 -> 0 | AE51: =Q51 -> 0
I52: 0 Punti | K52: 1 Punto | M52: 2 Punti | O52: 3 Punti | AC52: SOMMA
Y53: =IF(I53="X", 0, 0) -> 0 | Z53: =IF(K53="X", 1, 0) -> 0 | AA53: =IF(M53="X", 2, 0) -> 0 | AB53: =IF(O53="X", 3, 0) -> 0 | AC53: =SUM(Y53:AB53) -> 0
A54: Il docente di sostegno è assegnato alla classe, di cui diventa pienamente contitolare, e non al singolo alunno per cui vanno programmati incontri di coordinamento e programmazione delle attività in cui viene coinvolto nella programmazione complessiva Se non presente l’insegnante di sostegno, indicare nelle note e segnare X nella casella 0 punti
A55: Elementi di giudizio | D55: Modalità di organizzazione degli incontri, numero di progetti o percorsi dedicati al singolo alunno ed all’aula
A57: CONTESTO DEL LAVORO – PERSONALE INSEGNANTE - PUNTEGGIO PARZIALE - C1 | Q57: =Q51+Q36+Q31+Q26+Q21+Q16+Q11+Q6+Q46+Q41 -> 0
Q58: (su 42)
A60: NOTE DEL GV

Sheet C2 - Amministrativi
A1: C2 – AREA CONTENUTO DEL LAVORO – PERSONALE AMMINISTRATIVO
A4: N | B4: INDICATORE | I4: Situazione | K4: Situazione | M4: Situazione | O4: Situazione | Q4: PUNTEGGIO | R4: NOTE
I5: BUONA | K5: DISCRETA | M5: MEDIOCRE | O5: NEGATIVA | Y5: Tabella_Dati_Formule
A6: 11 | B6: Le mansioni da svolgere sono ben definite e circoscritte? | I6: Si, ognuno ha le sue e sa bene cosa deve fare | K6: Generalmente si, ma a volte capitano delle cose che non si sa a chi spettano | M6: Spesso no, ci si deve mettere d’accordo su chi le fa | O6: No, ognuno fa quel che vuole | Q6: =AC8 -> 0 | AF6: =Q6 -> 0
I7: 0 Punti | K7: 2 Punti | M7: 4 Punti | O7: 6 Punti | AC7: SOMMA
Y8: =IF(I8="X", 0, 0) -> 0 | Z8: =IF(K8="X", 2, 0) -> 0 | AA8: =IF(M8="X", 4, 0) -> 0 | AB8: =IF(O8="X", 6, 0) -> 0 | AC8: =SUM(Y8:AB8) -> 0
A9: In un’organizzazione complessa, la chiarezza del proprio ruolo e di quello che compete a ciascun lavoratore all’interno di un piccolo gruppo coeso (come tutti gli amministrativi della stessa segreteria) costituiscono fattori importanti per la qualità del lavoro.
A10: Elementi di giudizio | D10: Organigramma dei ruoli e delle funzioni, sovrapposizioni o ridondanze
A11: 12 | B11: Il lavoro può procedere senza interruzioni? | I11: Si, salvo eccezioni veramente rare | K11: Generalmente si, ma qualche volta capita | M11: Generalmente no, spesso capita che si venga interrotti per fare altro | O11: No, vi sono continue interruzioni e distrazioni | Q11: =AC13 -> 0 | AF11: =Q11 -> 0
I12: 0 Punti | K12: 2 Punti | M12: 4 Punti | O12: 6 Punti | AC12: SOMMA
Y13: =IF(I13="X", 0, 0) -> 0 | Z13: =IF(K13="X", 2, 0) -> 0 | AA13: =IF(M13="X", 4, 0) -> 0 | AB13: =IF(O13="X", 6, 0) -> 0 | AC13: =SUM(Y13:AB13) -> 0
A14: Per chiunque svolga un lavoro prevalentemente intellettuale (in questo caso il personale amministrativo), le interruzioni sono deleterie perché affaticano moltissimo la mente.
A15: Elementi di giudizio | D15: Numero di telefonate cui rispondere, accesso diretto alle segreterie da parte dell’altro personale della scuola
A16: 13 | B16: Lo svolgimento del proprio lavoro quotidiano permette di eseguire un compito alla volta? | I16: Si, sempre | K16: Generalmente si, con qualche eccezione | M16: Generalmente no, più volte capita di dover fare due cose contemporaneamente | O16: No, capita spessissimo di dover fare più cose contemporaneamente | Q16: =AC18 -> 0 | AF16: =Q16 -> 0
I17: 0 Punti | K17: 1 Punto | M17: 2 Punti | O17: 3 Punti | AC17: SOMMA
Y18: =IF(I18="X", 0, 0) -> 0 | Z18: =IF(K18="X", 1, 0) -> 0 | AA18: =IF(M18="X", 2, 0) -> 0 | AB18: =IF(O18="X", 3, 0) -> 0 | AC18: =SUM(Y18:AB18) -> 0
A19: L’accavallarsi delle attività che devono essere svolte contemporaneamente induce affaticamento mentale, specie in chi svolge lavoro intellettuale.
A20: Elementi di giudizio | D20: Livello di sovrapposizione di cose da fare e frequenza dei momenti in cui ciò accade
A21: 14 | B21: La quantità quotidiana di lavoro da svolgere è prevedibile? | I21: Si, all’inizio della giornata si sa sempre cosa si dovrà fare | K21: Generalmente si, con qualche eccezione | M21: No, ci sono spesso delle emergenze che sovraccaricano di lavoro | O21: No, è una continua emergenza, inizi la giornata e può capitare di tutto | Q21: =AC23 -> 0 | AF21: =Q21 -> 0
I22: 0 Punti | K22: 2 Punti | M22: 4 Punti | O22: 6 Punti | AC22: SOMMA
Y23: =IF(I23="X", 0, 0) -> 0 | Z23: =IF(K23="X", 2, 0) -> 0 | AA23: =IF(M23="X", 4, 0) -> 0 | AB23: =IF(O23="X", 6, 0) -> 0 | AC23: =SUM(Y23:AB23) -> 0
A24: La letteratura riferisce il potenziale stressogeno di situazioni consolidate in cui il carico di lavoro quotidiano è soggetto ad ampie ed imprevedibili escursioni.
A25: Elementi di giudizio | D25: Ricorrenza e durata delle situazioni d’emergenza, che richiedono un sovraccarico di lavoro
A26: 15 | B26: Il lavoro assegnato in modalità agile | I26: E’ programmato su obiettivi concordati | K26: E’ programmato in buona parte | M26: È programmato ma non comunicata la disponibilità oraria | O26: Non c’è programmazione né di attività né di disponibilità oraria | Q26: =AC28 -> 0 | AF26: =Q26 -> 0
I27: 0 Punti | K27: 2 Punti | M27: 4 Punti | O27: 6 Punti | AC27: SOMMA
Y28: =IF(I28="X", 0, 0) -> 0 | Z28: =IF(K28="X", 2, 0) -> 0 | AA28: =IF(M28="X", 4, 0) -> 0 | AB28: =IF(O28="X", 6, 0) -> 0 | AC28: =SUM(Y28:AB28) -> 0
A29: Il lavoro in modalità agile prevede fiducia ed autonomia nella gestione delle attività affidate. La programmazione e la chiara identificazione di obiettivi e modalità di esecuzione sono fattori importanti per la qualità del lavoro del singolo e del gruppo di appartenenza. Nel caso in cui non sia attivato, indicare nelle note e mettere X nella casella 0 punti
A30: Elementi di giudizio | D30: Piano di attività con obiettivi individuali e di gruppo, dotazione strumenti tecnologici
A31: 16 | B31: C’è coerenza tra le richieste del DS e quelle del DSGA? | I31: Si, sempre | K31: Generalmente si, con qualche eccezione | M31: No, spesso c’è contrasto, specie sulle priorità da dare a certe cose | O31: No, quasi mai sono coerenti, specie sui tempi e sulle priorità | Q31: =AC33 -> 0 | AF31: =Q31 -> 0
I32: 0 Punti | K32: 1 Punto | M32: 2 Punti | O32: 3 Punti | AC32: SOMMA
Y33: =IF(I33="X", 0, 0) -> 0 | Z33: =IF(K33="X", 1, 0) -> 0 | AA33: =IF(M33="X", 2, 0) -> 0 | AB33: =IF(O33="X", 3, 0) -> 0 | AC33: =SUM(Y33:AB33) -> 0
A34: Una fonte di stress può nascere dal contrasto tra le esigenze o le consegne attribuite dal DS al singolo impiegato e quelle stabilite nel mansionario o impartite dal DSGA.
A35: Elementi di giudizio | D35: Coerenza della richiesta del DS al singolo amministrativo con il ruolo di quest’ultimo all’interno dell’organizzazione dell’ufficio, sovrapposizione di conferimento d’incarichi specifici tra DS e DSGA
A36: 17 | B36: Il software a disposizione è di facile impiego? | I36: Si, non si blocca e c’è sempre il tempo per imparare ad usarlo | K36: Si, ma a volte si blocca e quello nuovo non arriva con largo anticipo | M36: No, spesso si blocca e quello nuovo arriva tardi | O36: No, si blocca spessissimo e quello nuovo arriva all’ultimo momento | Q36: =AC38 -> 0 | AF36: =Q36 -> 0
I37: 0 Punti | K37: 1 Punto | M37: 2 Punti | O37: 3 Punti | AC37: SOMMA
Y38: =IF(I38="X", 0, 0) -> 0 | Z38: =IF(K38="X", 1, 0) -> 0 | AA38: =IF(M38="X", 2, 0) -> 0 | AB38: =IF(O38="X", 3, 0) -> 0 | AC38: =SUM(Y38:AB38) -> 0
A39: Il punto dolente del lavoro al computer non è più l’obsolescenza delle macchine (hardware), ma la difficoltà di gestire il software, vuoi perché la macchina non riesce a farlo girare (bloccandosi spesso), vuoi perché è richiesto il collegamento ad internet (spesso lentissimo), vuoi perché l’operatore non ha ancora dimestichezza con il programma.
A40: Elementi di giudizio | D40: Qualità e velocità della connessione internet, frequenza dei guasti o blocchi della connessione, frequenza della modifica del software da utilizzare, assistenza tecnica, addestramento all’uso di nuovo software
A41: 18 | B41: Il DSGA supporta il personale quando bisogna affrontare nuove procedure di lavoro o applicare una nuova normativa? | I41: Si, sempre, con cura e professionalità | K41: Si, anche se a volte un po’ frettolosamente | M41: Non sempre, a volte se ne disinteressa | O41: Quasi mai e solo se si insiste | Q41: =AC43 -> 0 | AF41: =Q41 -> 0
I42: 0 Punti | K42: 2 Punti | M42: 4 Punti | O42: 6 Punti | AC42: SOMMA
Y43: =IF(I43="X", 0, 0) -> 0 | Z43: =IF(K43="X", 2, 0) -> 0 | AA43: =IF(M43="X", 4, 0) -> 0 | AB43: =IF(O43="X", 6, 0) -> 0 | AC43: =SUM(Y43:AB43) -> 0
A44: L’addestramento rispetto ai contenuti della propria mansione è un obbligo sancito dalla legge (D.Lgs. 81/08, art. 37); rispetto alle novità introdotte nel lavoro degli applicati di segreteria il soggetto incaricato di addestrarli non può che essere il DSGA.
A45: Elementi di giudizio | D45: Azioni di supporto e di accompagnamento del personale amministrativo da parte del DSGA
A47: CONTESTO DEL LAVORO – PERSONALE AMMINISTRATIVO – PUNTEGGIO PARZIALE - C2 | Q47: =Q36+Q31+Q26+Q21+Q16+Q11+Q6+Q41 -> 0
Q48: (su 39)
A58: NOTE DEL GV

Sheet C3 - Ausiliari
A1: C3 – AREA CONTENUTO DEL LAVORO – PERSONALE AUSILIARIO
A4: N | B4: INDICATORE | I4: Situazione | K4: Situazione | M4: Situazione | O4: Situazione | Q4: PUNTEGGIO | R4: NOTE
I5: BUONA | K5: DISCRETA | M5: MEDIOCRE | O5: NEGATIVA | Y5: Tabella_Dati_Formule
A6: 19 | B6: Le mansioni da svolgere sono ben definite e circoscritte? | I6: Si, ognuno ha le sue e sa bene cosa deve fare | K6: Generalmente si, ma a volte capitano delle cose che non si sa a chi spettano | M6: Spesso no, ci si deve mettere d’accordo su chi le fa | O6: No, c’è parecchia confusione e ognuno fa quel che vuole | Q6: =AC8 -> 0 | AG6: =Q6 -> 0
I7: 0 Punti | K7: 2 Punti | M7: 4 Punti | O7: 6 Punti | AC7: SOMMA
Y8: =IF(I8="X", 0, 0) -> 0 | Z8: =IF(K8="X", 2, 0) -> 0 | AA8: =IF(M8="X", 4, 0) -> 0 | AB8: =IF(O8="X", 6, 0) -> 0 | AC8: =SUM(Y8:AB8) -> 0
A9: In un’organizzazione complessa, la chiarezza del proprio ruolo e di quello che compete a ciascun lavoratore all’interno di un piccolo gruppo coeso (come tutti i collaboratori dello stesso plesso) costituiscono fattori importanti per la qualità del lavoro
A10: Elementi di giudizio | D10: Organigramma dei ruoli, delle funzioni e delle zone di pertinenza, sovrapposizioni di più incarichi
A11: 20 | B11: Il lavoro può procedere senza interruzioni? | I11: Si, salvo eccezioni veramente rare | K11: Generalmente si, ma qualche volta capita che si venga interrotti per fare altro | M11: Generalmente no, spesso capita che si venga interrotti per fare altro | O11: No, vi sono continue interruzioni e distrazioni | Q11: =AC13 -> 0 | AG11: =Q11 -> 0
I12: 0 Punti | K12: 2 Punti | M12: 4 Punti | O12: 6 Punti | AC12: SOMMA
Y13: =IF(I13="X", 0, 0) -> 0 | Z13: =IF(K13="X", 2, 0) -> 0 | AA13: =IF(M13="X", 4, 0) -> 0 | AB13: =IF(O13="X", 6, 0) -> 0 | AC13: =SUM(Y13:AB13) -> 0
A14: Per chiunque stia svolgendo un lavoro, anche materiale, le interruzioni possono infastidire.
A15: Elementi di giudizio | D15: Frequenza e durata delle interruzioni lunghe (ad es. durante un lavoro particolare di pulizia o di manutenzione fermarsi per portare una circolare nelle classi)
A16: 21 | B16: Lo svolgimento del proprio lavoro quotidiano permette di eseguire un compito alla volta? | I16: Si, sempre | K16: Generalmente si, con qualche eccezione | M16: Generalmente no, più volte capita di dover fare due cose contemporaneamente | O16: No, capita spessissimo di dover fare più cose contemporaneamente | Q16: =AC18 -> 0 | AG16: =Q16 -> 0
I17: 0 Punti | K17: 1 Punto | M17: 2 Punti | O17: 3 Punti | AC17: SOMMA
Y18: =IF(I18="X", 0, 0) -> 0 | Z18: =IF(K18="X", 1, 0) -> 0 | AA18: =IF(M18="X", 2, 0) -> 0 | AB18: =IF(O18="X", 3, 0) -> 0 | AC18: =SUM(Y18:AB18) -> 0
A19: L’accavallarsi delle attività che devono essere svolte contemporaneamente induce affaticamento.
A20: Elementi di giudizio | D20: Livello di sovrapposizione di cose da fare e frequenza dei momenti in cui ciò accade
A21: 22 | B21: La quantità quotidiana di lavoro da svolgere è prevedibile? | I21: Si, all’inizio della giornata si sa sempre cosa si dovrà fare | K21: Generalmente si, con qualche eccezione | M21: No, ci sono spesso delle emergenze che sovraccaricano di lavoro | O21: No, è una continua emergenza, inizi la giornata e può capitare di tutto | Q21: =AC23 -> 0 | AG21: =Q21 -> 0
I22: 0 Punti | K22: 1 Punto | M22: 2 Punti | O22: 3 Punti | AC22: SOMMA
Y23: =IF(I23="X", 0, 0) -> 0 | Z23: =IF(K23="X", 1, 0) -> 0 | AA23: =IF(M23="X", 2, 0) -> 0 | AB23: =IF(O23="X", 3, 0) -> 0 | AC23: =SUM(Y23:AB23) -> 0
A24: La letteratura riferisce il potenziale stressogeno di situazioni consolidate in cui il carico di lavoro quotidiano è soggetto ad ampie ed imprevedibili escursioni.
A25: Elementi di giudizio | D25: Ricorrenza e durata delle situazioni d’emergenza, che richiedono un sovraccarico di lavoro
A26: 23 | B26: C’è coerenza tra le richieste del DS e quelle del DSGA? | I26: Si, sempre | K26: Generalmente si, con qualche eccezione | M26: No, spesso c’è contrasto, specie sulle priorità da dare a certe cose | O26: No, quasi mai sono coerenti, specie sui tempi e sulle priorità | Q26: =AC28 -> 0 | AG26: =Q26 -> 0
I27: 0 Punti | K27: 2 Punti | M27: 4 Punti | O27: 6 Punti | AC27: SOMMA
Y28: =IF(I28="X", 0, 0) -> 0 | Z28: =IF(K28="X", 2, 0) -> 0 | AA28: =IF(M28="X", 4, 0) -> 0 | AB28: =IF(O28="X", 6, 0) -> 0 | AC28: =SUM(Y28:AB28) -> 0
A29: Una fonte di stress può nascere dal contrasto tra le esigenze o le consegne attribuite dal DS al singolo collaboratore e quelle stabilite nel mansionigramma o impartite dal DSGA.
A30: Elementi di giudizio | D30: Coerenza della richiesta del DS al singolo collaboratore con i compiti abituali di quest’ultimo all’interno dell’organizzazione scolastica, sovrapposizione di conferimento d’incarichi specifici tra DS e DSGA
A31: 24 | B31: Le macchine e le attrezzature a disposizione sono di facile impiego? | I31: Si, generalmente non ci sono problemi | K31: Generalmente si, ma ci sono anche quelle molto vecchie e faticose da gestire | M31: Diverse volte no, alcune non hanno le istruzioni e altre sono molto vecchie | O31: Decisamente no, le macchine e le attrezzature creano moltissimi problemi | Q31: =AC33 -> 0 | AG31: =Q31 -> 0
I32: 0 Punti | K32: 1 Punto | M32: 2 Punti | O32: 3 Punti | AC32: SOMMA
Y33: =IF(I33="X", 0, 0) -> 0 | Z33: =IF(K33="X", 1, 0) -> 0 | AA33: =IF(M33="X", 2, 0) -> 0 | AB33: =IF(O33="X", 3, 0) -> 0 | AC33: =SUM(Y33:AB33) -> 0
A34: I problemi possono nascere sia per l’utilizzo di macchine o attrezzature non adeguate (non ergonomiche, difettose, ecc.), sia per la necessità di operare con macchine complesse e delicate, di cui non si conoscono le modalità corrette d’uso.
A35: Elementi di giudizio | D35: Funzionalità e vetustà delle macchine e delle attrezzature, assistenza tecnica, addestramento all’uso di nuove macchine e attrezzature
A36: 25 | B36: Il DSGA pianifica il lavoro equamente tra tutto il personale? | I36: Si, c’è molta attenzione su questo aspetto | K36: Generalmente si, con qualche eccezione | M36: Non sempre, e quando succede non è ben chiaro il motivo | O36: Spesso no, e senza motivo plausibile | Q36: =AC38 -> 0 | AG36: =Q36 -> 0
I37: 0 Punti | K37: 2 Punti | M37: 4 Punti | O37: 6 Punti | AC37: SOMMA
Y38: =IF(I38="X", 0, 0) -> 0 | Z38: =IF(K38="X", 2, 0) -> 0 | AA38: =IF(M38="X", 4, 0) -> 0 | AB38: =IF(O38="X", 6, 0) -> 0 | AC38: =SUM(Y38:AB38) -> 0
A39: Uno degli aspetti cui il personale ausiliario che opera nello stesso edificio dedica maggiore attenzione è l’equa ripartizione dei compiti, specie quelli pesanti e maggiormente rischiosi (pulizia straordinaria delle plafoniere o delle veneziane, deceratura dei pavimenti, spostamento di grandi quantità di arredi, ecc.)
A40: Elementi di giudizio | D40: Frequenza o ricorrenza di evidenti e ingiustificate diverse ripartizioni di incarichi o compiti tra i vari collaboratori
A42: CONTESTO DEL LAVORO – PERSONALE AUSILIARIO – PUNTEGGIO PARZIALE - C3 | Q42: =Q36+Q31+Q26+Q21+Q16+Q11+Q6 -> 0
Q43: (su 33)
A53: NOTE DEL GV

Sheet C4 - Tecnici
A1: C4 – AREA CONTENUTO DEL LAVORO – PERSONALE TECNICO
A3: N | B3: INDICATORE | I3: Situazione | K3: Situazione | M3: Situazione | O3: Situazione | Q3: PUNTEGGIO | R3: NOTE
I4: BUONA | K4: DISCRETA | M4: MEDIOCRE | O4: NEGATIVA | Y4: Tabella_Dati_Formule
A5: 26 | B5: Le mansioni da svolgere sono ben definite e circoscritte? | I5: Si, ognuno ha le sue e sa bene cosa deve fare | K5: Generalmente si, ma a volte capitano delle cose che non si sa a chi spettano | M5: Spesso no, ci si deve mettere d’accordo su chi le fa | O5: No, c’è parecchia confusione e ognuno fa quel che vuole | Q5: =AC7 -> 0 | AE5: =Q5 -> 0
I6: 0 Punti | K6: 2 Punti | M6: 3 Punti | O6: 4 Punti | AC6: SOMMA
Y7: =IF(I7="X", 0, 0) -> 0 | Z7: =IF(K7="X", 2, 0) -> 0 | AA7: =IF(M7="X", 3, 0) -> 0 | AB7: =IF(O7="X", 4, 0) -> 0 | AC7: =SUM(Y7:AB7) -> 0
A8: In un’organizzazione complessa, la chiarezza del proprio ruolo e di quello che compete a ciascun lavoratore all’interno di un piccolo gruppo coeso (come tutto il personale che opera nello stesso reparto o laboratorio) costituiscono fattori importanti per la qualità del lavoro.
A9: Elementi di giudizio | D9: Organigramma dei ruoli, delle funzioni e delle aree o azioni di pertinenza, sovrapposizioni di più incarichi
A10: 27 | B10: Il lavoro può procedere senza interruzioni? | I10: Si, salvo eccezioni veramente rare | K10: Generalmente si, ma qualche volta capita che si venga interrotti per fare altro | M10: Generalmente no, spesso capita che si venga interrotti per fare altro | O10: No, vi sono continue interruzioni e distrazioni | Q10: =AC12 -> 0 | AE10: =Q10 -> 0
I11: 0 Punti | K11: 2 Punti | M11: 3 Punti | O11: 4 Punti | AC11: SOMMA
Y12: =IF(I12="X", 0, 0) -> 0 | Z12: =IF(K12="X", 2, 0) -> 0 | AA12: =IF(M12="X", 3, 0) -> 0 | AB12: =IF(O12="X", 4, 0) -> 0 | AC12: =SUM(Y12:AB12) -> 0
A13: Per chiunque stia svolgendo un lavoro, anche materiale, le interruzioni possono infastidire.
A14: Elementi di giudizio | D14: Frequenza e durata delle interruzioni lunghe (ad es. durante un lavoro di manutenzione o di riordino del laboratorio fermarsi perché è necessario fare un intervento d’urgenza in un altro ambiente dell’istituto)
A15: 28 | B15: Lo svolgimento del proprio lavoro quotidiano permette di eseguire un compito alla volta? | I15: Si, sempre | K15: Generalmente si, con qualche eccezione | M15: Generalmente no, più volte capita di dover fare due cose contemporaneamente | O15: No, capita spessissimo di dover fare più cose contemporaneamente | Q15: =AC17 -> 0 | AE15: =Q15 -> 0
I16: 0 Punti | K16: 1 Punto | M16: 2 Punti | O16: 3 Punti | AC16: SOMMA
Y17: =IF(I17="X", 0, 0) -> 0 | Z17: =IF(K17="X", 1, 0) -> 0 | AA17: =IF(M17="X", 2, 0) -> 0 | AB17: =IF(O17="X", 3, 0) -> 0 | AC17: =SUM(Y17:AB17) -> 0
A18: L’accavallarsi delle attività che devono essere svolte contemporaneamente induce affaticamento mentale.
A19: Elementi di giudizio | D19: Livello di sovrapposizione di cose da fare e frequenza dei momenti in cui ciò accade
A20: 29 | B20: La quantità quotidiana di lavoro da svolgere è prevedibile? | I20: Si, all’inizio della giornata si sa sempre cosa si dovrà fare | K20: Generalmente si, con qualche eccezione | M20: No, ci sono spesso delle emergenze che sovraccaricano di lavoro | O20: No, è una continua emergenza, inizi la giornata e può capitare di tutto | Q20: =AC22 -> 0 | AE20: =Q20 -> 0
I21: 0 Punti | K21: 1 Punto | M21: 2 Punti | O21: 3 Punti | AC21: SOMMA
Y22: =IF(I22="X", 0, 0) -> 0 | Z22: =IF(K22="X", 1, 0) -> 0 | AA22: =IF(M22="X", 2, 0) -> 0 | AB22: =IF(O22="X", 3, 0) -> 0 | AC22: =SUM(Y22:AB22) -> 0
A23: La letteratura riferisce il potenziale stressogeno di situazioni consolidate in cui il carico di lavoro quotidiano è soggetto ad ampie ed imprevedibili escursioni.
A24: Elementi di giudizio | D24: Ricorrenza e durata delle situazioni d’emergenza, che richiedono un sovraccarico di lavoro, pianificazione settimanale delle attività
A25: 30 | B25: C’è coerenza tra le richieste del DS (o DSGA) e quelle del responsabile di laboratorio o degli insegnanti che utilizzano il laboratorio? | I25: Si, sempre | K25: Generalmente si, con qualche eccezione | M25: No, spesso c’è contrasto, specie sulle priorità da dare a certe cose | O25: No, quasi mai sono coerenti, specie sui tempi e sulle priorità | Q25: =AC27 -> 0 | AE25: =Q25 -> 0
I26: 0 Punti | K26: 2 Punti | M26: 3 Punti | O26: 4 Punti | AC26: SOMMA
Y27: =IF(I27="X", 0, 0) -> 0 | Z27: =IF(K27="X", 2, 0) -> 0 | AA27: =IF(M27="X", 3, 0) -> 0 | AB27: =IF(O27="X", 4, 0) -> 0 | AC27: =SUM(Y27:AB27) -> 0
A28: Una fonte di stress può nascere dal contrasto tra le esigenze o le consegne attribuite dal responsabile di laboratorio (manutenzione straordinaria di attrezzature, controlli periodici, ecc.) o dagli stessi insegnanti che utilizzano il laboratorio (predisposizione dell’esercitazione, interventi estemporanei di controllo o modifica, ecc.) e quelle del DS o del DSGA, che spesso non tengono conto dell’effettivo lavoro svolto dal tecnico e tendono ad utilizzarlo per altri scopi
A29: Elementi di giudizio | D29: Coerenza della richiesta del DS (o DSGA) al singolo tecnico con i compiti abituali di quest’ultimo all’interno dell’organizzazione del laboratorio, sovrapposizione di conferimento d’incarichi specifici tra DS (o DSGA) e responsabile di laboratorio, ricorrenza di richieste diverse e contrastanti tra un insegnante e un altro
A30: 31 | B30: Le macchine e le attrezzature a disposizione (anche informatiche) sono di facile impiego? | I30: Si, generalmente non ci sono problemi | K30: Generalmente si, ma ci sono anche quelle molto vecchie e faticose da gestire | M30: Diverse volte no, alcune non hanno le istruzioni e altre sono molto vecchie | O30: Decisamente no, le macchine e le attrezzature creano moltissimi problemi | Q30: =AC32 -> 0 | AE30: =Q30 -> 0
I31: 0 Punti | K31: 2 Punti | M31: 3 Punti | O31: 4 Punti | AC31: SOMMA
Y32: =IF(I32="X", 0, 0) -> 0 | Z32: =IF(K32="X", 2, 0) -> 0 | AA32: =IF(M32="X", 3, 0) -> 0 | AB32: =IF(O32="X", 4, 0) -> 0 | AC32: =SUM(Y32:AB32) -> 0
A33: I problemi possono nascere sia per l’utilizzo di macchine o attrezzature non adeguate (non ergonomiche, difettose, obsolete, ecc.), sia per la necessità di operare con macchine complesse e delicate, di cui non si conoscono le modalità corrette d’uso.
A34: Elementi di giudizio | D34: Funzionalità e vetustà delle macchine e delle attrezzature, addestramento all’uso di nuove macchine e attrezzature, frequenza della modifica del software, addestramento all’uso di nuovo software
A35: 32 | B35: Il responsabile di laboratorio supporta il personale quando bisogna affrontare nuove procedure di lavoro o utilizzare nuove macchine o attrezzature? | I35: Si, sempre, con cura e professionalità | K35: Si, anche se a volte un po’ frettolosamente | M35: Non sempre, a volte se ne disinteressa | O35: Quasi mai e solo se si insiste | Q35: =AC37 -> 0 | AE35: =Q35 -> 0
I36: 0 Punti | K36: 2 Punti | M36: 4 Punti | O36: 6 Punti | AC36: SOMMA
Y37: =IF(I37="X", 0, 0) -> 0 | Z37: =IF(K37="X", 2, 0) -> 0 | AA37: =IF(M37="X", 4, 0) -> 0 | AB37: =IF(O37="X", 6, 0) -> 0 | AC37: =SUM(Y37:AB37) -> 0
A38: L’addestramento rispetto ai contenuti della propria mansione è un obbligo sancito dalla legge (D.Lgs. 81/08, art. 37); rispetto alle novità introdotte nel lavoro dei tecnici, il soggetto incaricato di addestrarli non può che essere il responsabile di laboratorio, eventualmente in collaborazione (per i temi della sicurezza) con il Servizio di Prevenzione e Protezione dell’istituto.
A39: Elementi di giudizio | D39: Azionidi addestramento da parte del responsabile del laboratorio o di altri insegnanti
A40: 33 | B40: Il personale opera stabilmente sempre nello stesso laboratorio? | I40: Si | K40: Si, ma con alcune eccezioni | M40: No, spesso si è costretti a passare da un laboratorio all’altro | O40: No, ad ogni anno scolastico si cambia laboratorio | Q40: =AC42 -> 0 | AE40: =Q40 -> 0
I41: 0 Punti | K41: 2 Punti | M41: 4 Punti | O41: 6 Punti | AC41: SOMMA
Y42: =IF(I42="X", 0, 0) -> 0 | Z42: =IF(K42="X", 2, 0) -> 0 | AA42: =IF(M42="X", 4, 0) -> 0 | AB42: =IF(O42="X", 6, 0) -> 0 | AC42: =SUM(Y42:AB42) -> 0
A43: Il fatto di modificare spesso (o addirittura ogni anno) l’attribuzione dei tecnici ai vari laboratori dell’istituto, specie se diversi per caratteristiche e tipologia delle attività didattiche da svolgervi, costituisce sia un fattore di stress per il personale tecnico, sia una notevole complicazione organizzativa, per la necessità di provvedere periodicamente alla sua formazione e al suo addestramento.
A44: Elementi di giudizio | D44: Frequenza o ricorrenza degli spostamenti da un laboratorio ad un altro, corrispondenza tra titolo di studio o esperienza pregressa del tecnico e tipologia di laboratorio
A45: 34 | B45: Il DS promuove l’aggiornamento del personale tecnico in relazione agli aggiornamenti tecnologici? | I45: Si, con diverse iniziative | K45: Si, con alcune iniziative | M45: No, le azioni promozionali sono poche e discontinue | O45: No, non vi è alcun tipo di promozione | Q45: =AC47 -> 0 | AE45: =Q45 -> 0
I46: 0 Punti | K46: 1 Punto | M46: 2 Punti | O46: 3 Punti | AC46: SOMMA
Y47: =IF(I47="X", 0, 0) -> 0 | Z47: =IF(K47="X", 1, 0) -> 0 | AA47: =IF(M47="X", 2, 0) -> 0 | AB47: =IF(O47="X", 3, 0) -> 0 | AC47: =SUM(Y47:AB47) -> 0
A48: La crescita delle competenze professionali in relazione agli aggiornamenti tecnologici è elemento fondamentale per garantire di essere in grado di supportare il personale nel proprio lavoro in aula e nel rapporto con allievi e famiglie.
A49: Elementi di giudizio | D49: Modalità di definizione e diffusione del piano d’aggiornamento, modalità per la raccolta delle richieste d’aggiornamento, modalità organizzative e tempistica per la realizzazione dell’aggiornamento, risorse dedicate
A50: 35 | B50: DS (o DSGA) hanno formalizzato in un documento responsabilità/ ruoli in merito al trattamento dei dati? | I50: Si, ognuno sa bene cosa deve fare | K50: Generalmente si, con qualche eccezione | M50: Spesso no, ci si deve mettere d’accordo | O50: No, c’è parecchia confusione e ognuno fa quel che vuole | Q50: =AC52 -> 0 | AE50: =Q50 -> 0
I51: 0 Punti | K51: 1 Punto | M51: 2 Punti | O51: 3 Punti | AC51: SOMMA
Y52: =IF(I52="X", 0, 0) -> 0 | Z52: =IF(K52="X", 1, 0) -> 0 | AA52: =IF(M52="X", 2, 0) -> 0 | AB52: =IF(O52="X", 3, 0) -> 0 | AC52: =SUM(Y52:AB52) -> 0
A53: All’interno dell’organigramma dell’Istituto scolastico sono individuati i soggetti autorizzati e responsabili della protezione dei dati e tutto il personale è a conoscenza della attività che devono svolgere e del ruolo che esercitano
A54: Elementi di giudizio | D54: Formalizzazione del documento, chiara identificazione dei soggetti e dei ruoli affidati, comunicazione a tutto il personale
A56: TO DEL LAVORO – PERSONALE TECNICO – PUNTEGGIO PARZIALE - C4 | Q56: =Q50+Q35+Q30+Q25+Q20+Q15+Q10+Q5+Q45+Q40 -> 0
Q57: (su 40)
A67: NOTE DEL GV

Sheet C5 - Coordinatori
A1: C5 – AREA CONTENUTO DEL LAVORO – COORDINATORI DI CLASSE
A4: N | B4: INDICATORE | I4: Situazione | K4: Situazione | M4: Situazione | O4: Situazione | Q4: PUNTEGGIO | R4: NOTE
I5: BUONA | K5: DISCRETA | M5: MEDIOCRE | O5: NEGATIVA | Y5: Tabella_Dati_Formule
A6: 36 | B6: Il DS sostiene il ruolo dei coordinatori? | I6: Si, sempre e in modo convinto | K6: Si, lo approva ma a volte non lo sostiene | M6: No, fatica a sostenerlo e tende a non interessarsene | O6: No, spesso lo contrasta | Q6: =AC8 -> 0 | AE6: =Q6 -> 0
I7: 0 Punti | K7: 2 Punti | M7: 4 Punti | O7: 6 Punti | AC7: SOMMA
Y8: =IF(I8="X", 0, 0) -> 0 | Z8: =IF(K8="X", 2, 0) -> 0 | AA8: =IF(M8="X", 4, 0) -> 0 | AB8: =IF(O8="X", 6, 0) -> 0 | AC8: =SUM(Y8:AB8) -> 0
A9: Il coordinatore di classe ha un ruolo complesso di raccordo tra docenti e il DS, di relazione con le famiglie, di programmazione per le classi V e di coordinamento tra piani educativi
A10: Elementi di giudizio | D10: Modalità di comunicazione del ruolo da parte del DS nei confronti dell’interno e dell’esterno, partecipazione del DS a incontri critici, coinvolgimento del coordinatore in ogni controversia segnalata da insegnanti e definizione dell’orario di servizio tale da permettere un adeguato svolgimento del ruolo
A11: 37 | B11: C’è raccordo tra i docenti e la Dirigenza in merito all’organizzazione del lavoro? | I11: Si, c’è raccordo e piena condivisione | K11: Generalmente si, ma qualche problema può nascere agli scrutini | M11: No, non sempre e i problemi emergono | O11: No, gli insegnanti si trovano spesso in totale disaccordo tra loro | Q11: =AC13 -> 0 | AE11: =Q11 -> 0
I12: 0 Punti | K12: 2 Punti | M12: 4 Punti | O12: 6 Punti | AC12: SOMMA
Y13: =IF(I13="X", 0, 0) -> 0 | Z13: =IF(K13="X", 2, 0) -> 0 | AA13: =IF(M13="X", 4, 0) -> 0 | AB13: =IF(O13="X", 6, 0) -> 0 | AC13: =SUM(Y13:AB13) -> 0
A14: I problemi organizzativi, didattici della classe e comportamentali degli alunni sono di pertinenza del ruolo docente e vanno gestiti in accordo con il DS. Meno sono chiari i criteri adottati e più complesso sarà il ruolo del coordinatore per raccordare le parti.
A15: Elementi di giudizio | D15: Presenza di criteri chiari per l’esercizio del ruolo nel Consiglio di classe e in fase di scrutini (in assenza del DS) e per la verifica dello stato di avanzamento del Piano Educativo Individualizzato e del Piano Didattico Personalizzato (predisposti rispettivamente per gli alunni con disabilità e per quelli con bisogni educativi speciali o con una diagnosi di DSA certificata)
A16: 38 | B16: C’è raccordo tra i coordinatori e la Dirigenza in merito a problemi comportamentali degli alunni? | I16: Si, c’è raccordo e piena condivisione | K16: Generalmente si, ma qualche problema può nascere per alcune situazioni | M16: No, non sempre e i problemi emergono in diverse situazioni | O16: No, gli insegnanti si trovano spesso in totale disaccordo tra loro | Q16: =AC18 -> 0 | AE16: =Q16 -> 0
I17: 0 Punti | K17: 1 Punto | M17: 2 Punti | O17: 3 Punti | AC17: SOMMA
Y18: =IF(I18="X", 0, 0) -> 0 | Z18: =IF(K18="X", 1, 0) -> 0 | AA18: =IF(M18="X", 2, 0) -> 0 | AB18: =IF(O18="X", 3, 0) -> 0 | AC18: =SUM(Y18:AB18) -> 0
A19: I problemi comportamentali degli alunni vanno gestiti in accordo con il DS e in condivisione con gli insegnanti.
A20: Elementi di giudizio | D20: Presenza di criteri chiari e condivisi anche con le famiglie in merito a problemi comportamentali degli alunni
A21: 39 | B21: Il Consiglio di classe sostiene il coordinatore nel rapporto con le famiglie, rispetto a situazioni didatticamente o educativamente difficili? | I21: Si, sempre e in modo convinto | K21: Si, non contrasta ma a volte non lo sostiene | M21: No, fatica a sostenerlo e tende a non interessarsene | O21: No, spesso sembra remi addirittura contro | Q21: =AC23 -> 0 | AE21: =Q21 -> 0
I22: 0 Punti | K22: 2 Punti | M22: 4 Punti | O22: 6 Punti | AC22: SOMMA
Y23: =IF(I23="X", 0, 0) -> 0 | Z23: =IF(K23="X", 2, 0) -> 0 | AA23: =IF(M23="X", 4, 0) -> 0 | AB23: =IF(O23="X", 6, 0) -> 0 | AC23: =SUM(Y23:AB23) -> 0
A24: Il consiglio di classe è organismo collegiale costituito da docenti che si riuniscono al fine di concordare le attività scolastiche e didattiche più idonee La programmazione didattica viene pianificata nei primi mesi dell'anno in modo tale da avere bene in mente quali saranno tutte le attività e i compiti che dovranno essere eseguiti dagli studenti e le modalità con cui gli insegnanti porteranno avanti il loro programma scolastico
A25: Elementi di giudizio | D25: Il consiglio di classe che pianifica in modo chiaro e solerte attività e compiti degli studenti consente di identificare le situazioni didatticamente o educativamente difficili e sostiene il coordinatore nel rapporto con le famiglie di appartenenza
A26: 40 | B26: C’è supporto quando i coordinatori di classe (delegati) presiedono il Consiglio e gli scrutini in assenza del DS | I26: Si, c’è sempre aiuto reciproco | K26: Si, non lo contrasta ma a volte non lo sostiene | M26: No, non sempre e i problemi emergono in diverse situazioni | O26: No, spesso sembra remi addirittura contro | Q26: =AC28 -> 0 | AE26: =Q26 -> 0
I27: 0 Punti | K27: 2 Punti | M27: 4 Punti | O27: 6 Punti | AC27: SOMMA
Y28: =IF(I28="X", 0, 0) -> 0 | Z28: =IF(K28="X", 2, 0) -> 0 | AA28: =IF(M28="X", 4, 0) -> 0 | AB28: =IF(O28="X", 6, 0) -> 0 | AC28: =SUM(Y28:AB28) -> 0
A29: In assenza del DS, il coordinatore di classe può essere delegato a presiedere Consiglio di Classe e scrutini. In questo caso la figura del coordinatore e quella di segretario debbono essere "obbligatoriamente" distinte
A30: Elementi di giudizio | D30: Il ruolo del coordinatore di classe viene agevolato dalla disponibilità di altro componente del Consiglio a ricoprire il ruolo di segretario. Il ruolo delegato viene riconosciuto, non vengono messi in discussione i criteri ed i docenti esaminano le proposte di voto giungendo alla valutazione finale che sarà cura del coordinatore immettere nel registro elettronico
A31: 41 | B31: C’è raccordo tra coordinatore ed insegnanti per la predisposizione di documenti per le commissioni d’esame? | I31: Si, c’è raccordo e piena condivisione | K31: Generalmente si | M31: No, non sempre | O31: No, spesso in totale disaccordo tra loro | Q31: =AC33 -> 0 | AE31: =Q31 -> 0
I32: 0 Punti | K32: 1 Punto | M32: 2 Punti | O32: 3 Punti | AC32: SOMMA
Y33: =IF(I33="X", 0, 0) -> 0 | Z33: =IF(K33="X", 1, 0) -> 0 | AA33: =IF(M33="X", 2, 0) -> 0 | AB33: =IF(O33="X", 3, 0) -> 0 | AC33: =SUM(Y33:AB33) -> 0
A34: Il coordinatore e gli insegnanti concordano i documenti da adottare per le commissioni d’esame
A35: Elementi di giudizio | D35: Sono individuati i criteri di correzione e valutazione delle prove scritte, di conduzione e valutazione del colloquio, per l'attribuzione del punteggio integrativo
A36: 42 | B36: All’interno dei cc.d.c./team c’è sostegno per le funzioni di coordinamento e verifica dell’andamento del Piano Educativo Individuale (PEI) | I36: Si, c’è raccordo e piena condivisione | K36: Generalmente si | M36: No, non sempre e i problemi emergono in diverse situazioni | O36: No, spesso in totale disaccordo tra loro | Q36: =AC38 -> 0 | AE36: =Q36 -> 0
I37: 0 Punti | K37: 1 Punto | M37: 2 Punti | O37: 3 Punti | AC37: SOMMA
Y38: =IF(I38="X", 0, 0) -> 0 | Z38: =IF(K38="X", 1, 0) -> 0 | AA38: =IF(M38="X", 2, 0) -> 0 | AB38: =IF(O38="X", 3, 0) -> 0 | AC38: =SUM(Y38:AB38) -> 0
A39: Il coordinatore presiede il lavoro del gruppo in particolare nella fase di valutazione didattica periodica e finale degli alunni con disabilità per i quali è previsto il PEI
A40: Elementi di giudizio | D40: Coordina le attività del team per la valutazione e la predisposizione della documentazione e delle misure di flessibilità e degli interventi di didattica personalizzata o individualizzata il team collabora esplicitando le modalità di sostegno didattico, le modalità di verifica, i criteri di valutazione così da rendere possibile una chiara e inclusiva verifica dell’apprendimento
A41: 43 | B41: All’interno dei cc.d.c./team c’è sostegno per le funzioni di coordinamento e verifica dell’andamento del Piano Didattico Personalizzato (PDP) | I41: Si, c’è raccordo e piena condivisione | K41: Generalmente si | M41: No, non sempre e i problemi emergono in diverse situazioni | O41: No, spesso in totale disaccordo tra loro | Q41: =AC43 -> 0 | AE41: =Q41 -> 0
I42: 0 Punti | K42: 1 Punto | M42: 2 Punti | O42: 3 Punti | AC42: SOMMA
Y43: =IF(I43="X", 0, 0) -> 0 | Z43: =IF(K43="X", 1, 0) -> 0 | AA43: =IF(M43="X", 2, 0) -> 0 | AB43: =IF(O43="X", 3, 0) -> 0 | AC43: =SUM(Y43:AB43) -> 0
A44: Il piano didattico personalizzato è redatto entro i primi tre mesi dell’anno scolastico e può richiedere il contributo esterno di esperti, la partecipazione della famiglia e dell’alunno E’ compito del coordinatore di classe raccogliere le informazioni riguardanti l’alunno, sia consultando la certificazione depositata in segreteria, sia prendendo contatti con la famiglia
A45: Elementi di giudizio | D45: Il coordinatore guida la progettazione didattica della classe come prodotto di un lavoro comune degli insegnanti di sostegno e degli insegnanti curricolari
A46: 44 | B46: All’interno del Consiglio di classe, c’è sostegno al coordinatore nel rapporto con gli studenti rispetto a situazioni difficili (didatticamente o educativamente) | I46: Si, sempre | K46: Si, non lo contrasta | M46: No, fatica a sostenerlo e tende a non interessarsene | O46: No, spesso sembra remi addirittura contro | Q46: =AC48 -> 0 | AE46: =Q46 -> 0
I47: 0 Punti | K47: 2 Punti | M47: 4 Punti | O47: 6 Punti | AC47: SOMMA
Y48: =IF(I48="X", 0, 0) -> 0 | Z48: =IF(K48="X", 2, 0) -> 0 | AA48: =IF(M48="X", 4, 0) -> 0 | AB48: =IF(O48="X", 6, 0) -> 0 | AC48: =SUM(Y48:AB48) -> 0
A49: Il consiglio di classe è organismo collegiale costituito da docenti che si riuniscono al fine di concordare le attività scolastiche e didattiche più idonee La programmazione didattica viene pianificata nei primi mesi dell'anno in modo tale da avere bene in mente quali saranno tutte le attività e i compiti che dovranno essere eseguiti dagli studenti e le modalità con cui gli insegnanti porteranno avanti il loro programma scolastico
A50: Elementi di giudizio | D50: Il consiglio di classe sostiene il coordinatore nel rapporto con gli studenti individuando gli strumenti e le strategie didattiche che riterrà più opportune per ciascun allievo in situazioni difficili
A52: CONTESTO DEL LAVORO – PERSONALE COORDINATORI DI CLASSE - PUNTEGGIO PARZIALE – C5 | Q52: =Q36+Q31+Q26+Q21+Q16+Q11+Q6+Q41+Q46 -> 0
Q53: (su 42)
A63: NOTE DEL GV

Sheet Risultati
A1: RISULTATI VALUTAZIONE DEL RISCHIO SLC : INSEGNANTI
A3: AREA | D3: RISULTATO | E3: Rischio Non Rilevante | G3: Rischio Medio | I3: Rischio Alto
A5: Griglia di raccolta dati oggettivi | D5: ='Griglia Dati Oggettivi'!AE106 -> #DIV/0! | E5: 0 | F5: 29 | G5: 30 | H5: 58 | I5: 59 | J5: 116
E6: 0 | G6: 10 | I6: 20
A7: A – Ambiente di lavoro | D7: ='A - Ambiente di Lavoro'!Q47 -> 0
A8: B – Contesto del lavoro | D8: ='B - Contesto del lavoro'!Q47 -> 0
A9: C1 – Insegnanti – Contenuto del lavoro | D9: ='C1 - Insegnanti'!Q57 -> 0
A10: Totale | D10: =D5+D7+D8+D9 -> #DIV/0! | E10: 0 | F10: 31 | G10: 32 | H10: 63 | I10: 64 | J10: 125
A12: Punteggio finale | B12: Livello di rischio | C12: RISULTATO | D12: Esito finale e azioni da mettere in atto
A13: ≤ 31 | B13: Non Rilevante | C13: =IF(D10<=31, "X", "") -> #DIV/0! | D13: L’analisi degli indicatori non evidenzia particolari condizioni organizzative che possano determinare la presenza di stress correlato al lavoro. Ripetere l’intera indagine (griglia + check list) ogni 2 aa.ss. ed effettuare eventuali interventi migliorativi nelle aree che dovessero essere comunque risultate negative.
A14: Tra 32 e 63 | B14: Medio | C14: =IF(AND(D10>=32,D10<=63), "X", "") -> #DIV/0! | D14: L’analisi degli indicatori evidenzia condizioni organizzative che possono determinare la presenza di stress correlato al lavoro. Realizzare gli interventi correttivi rispetto agli indicatori della check list dove è stata valutata una situazione di rischio e ripetere l’intera indagine (griglia + check list) dopo un anno. Se la successiva valutazione non evidenzia un abbassamento del rischio al livello “non rilevante”, realizzare la valutazione approfondita e ripetere l’intera indagine (griglia + check list) dopo 2 aa.ss
A15: > 63 | B15: Alto | C15: =IF(D10>63, "X", "") -> #DIV/0! | D15: L’analisi degli indicatori evidenzia condizioni organizzative che determinano la presenza di stress correlato al lavoro. Realizzare interventi correttivi immediati rispetto agli indicatori della check list dove è stata valutata una situazione di rischio medio e alto e ripetere l’intera indagine (griglia + check list) al più dopo un anno. Se la successiva valutazione non evidenzia un abbassamento del rischio al livello “non rilevante”, realizzare la valutazione approfondita e ripetere l’intera indagine (griglia + check list) dopo 1 a.s.
A17: RISULTATI VALUTAZIONE DEL RISCHIO SLC : AMMINISTRATIVI
A19: AREA | D19: RISULTATO | E19: Rischio Non Rilevante | G19: Rischio Medio | I19: Rischio Alto
A21: Griglia di raccolta dati oggettivi | D21: ='Griglia Dati Oggettivi'!AE106 -> #DIV/0! | E21: 0 | F21: 29 | G21: 30 | H21: 58 | I21: 59 | J21: 116
E22: 0 | G22: 10 | I22: 20
A23: A – Ambiente di lavoro | D23: ='A - Ambiente di Lavoro'!Q47 -> 0
A24: B – Contesto del lavoro | D24: ='B - Contesto del lavoro'!Q47 -> 0
A25: C2 – Amministrativi – Contenuto del lavoro | D25: ='C2 - Amministrativi'!Q47 -> 0
A26: Totale | D26: =D21+D23+D24+D25 -> #DIV/0! | E26: 0 | F26: 31 | G26: 32 | H26: 61 | I26: 62 | J26: 122
A29: Punteggio finale | B29: Livello di rischio | C29: RISULTATO | D29: Esito finale e azioni da mettere in atto
A30: ≤ 31 | B30: Non Rilevante | C30: =IF(D26<=31, "X", "") -> #DIV/0! | D30: L’analisi degli indicatori non evidenzia particolari condizioni organizzative che possano determinare la presenza di stress correlato al lavoro. Ripetere l’intera indagine (griglia + check list) ogni 2 aa.ss. ed effettuare eventuali interventi migliorativi nelle aree che dovessero essere comunque risultate negative.
A31: Tra 32 e 61 | B31: Medio | C31: =IF(AND(D26>=32,D26<=61), "X", "") -> #DIV/0! | D31: L’analisi degli indicatori evidenzia condizioni organizzative che possono determinare la presenza di stress correlato al lavoro. Realizzare gli interventi correttivi rispetto agli indicatori della check list dove è stata valutata una situazione di rischio e ripetere l’intera indagine (griglia + check list) dopo un anno. Se la successiva valutazione non evidenzia un abbassamento del rischio al livello “non rilevante”, realizzare la valutazione approfondita e ripetere l’intera indagine (griglia + check list) dopo 2 aa.ss
A32: > 61 | B32: Alto | C32: =IF(D26>61, "X", "") -> #DIV/0! | D32: L’analisi degli indicatori evidenzia condizioni organizzative che determinano la presenza di stress correlato al lavoro. Realizzare interventi correttivi immediati rispetto agli indicatori della check list dove è stata valutata una situazione di rischio medio e alto e ripetere l’intera indagine (griglia + check list) al più dopo un anno. Se la successiva valutazione non evidenzia un abbassamento del rischio al livello “non rilevante”, realizzare la valutazione approfondita e ripetere l’intera indagine (griglia + check list) dopo 1 a.s.
A37: RISULTATI VALUTAZIONE DEL RISCHIO SLC : AUSILIARI
A39: AREA | D39: RISULTATO | E39: Rischio Non Rilevante | G39: Rischio Medio | I39: Rischio Alto
A41: Griglia di raccolta dati oggettivi | D41: ='Griglia Dati Oggettivi'!AE106 -> #DIV/0! | E41: 0 | F41: 29 | G41: 30 | H41: 58 | I41: 59 | J41: 116
E42: 0 | G42: 10 | I42: 20
A43: A – Ambiente di lavoro | D43: ='A - Ambiente di Lavoro'!Q47 -> 0
A44: B – Contesto del lavoro | D44: ='B - Contesto del lavoro'!Q47 -> 0
A45: C3 – Ausiliari – Contenuto del lavoro | D45: ='C3 - Ausiliari'!Q42 -> 0
A46: Totale | D46: =D41+D43+D44+D45 -> #DIV/0! | E46: 0 | F46: 29 | G46: 30 | H46: 58 | I46: 59 | J46: 116
A49: Punteggio finale | B49: Livello di rischio | C49: RISULTATO | D49: Esito finale e azioni da mettere in atto
A50: ≤ 29 | B50: Non Rilevante | C50: =IF(D46<=29, "X", "") -> #DIV/0! | D50: L’analisi degli indicatori non evidenzia particolari condizioni organizzative che possano determinare la presenza di stress correlato al lavoro. Ripetere l’intera indagine (griglia + check list) ogni 2 aa.ss. ed effettuare eventuali interventi migliorativi nelle aree che dovessero essere comunque risultate negative.
A51: Tra 30 e 58 | B51: Medio | C51: =IF(AND(D46>=30,D46<=58), "X", "") -> #DIV/0! | D51: L’analisi degli indicatori evidenzia condizioni organizzative che possono determinare la presenza di stress correlato al lavoro. Realizzare gli interventi correttivi rispetto agli indicatori della check list dove è stata valutata una situazione di rischio e ripetere l’intera indagine (griglia + check list) dopo un anno. Se la successiva valutazione non evidenzia un abbassamento del rischio al livello “non rilevante”, realizzare la valutazione approfondita e ripetere l’intera indagine (griglia + check list) dopo 2 aa.ss
A52: > 58 | B52: Alto | C52: =IF(D46>58, "X", "") -> #DIV/0! | D52: L’analisi degli indicatori evidenzia condizioni organizzative che determinano la presenza di stress correlato al lavoro. Realizzare interventi correttivi immediati rispetto agli indicatori della check list dove è stata valutata una situazione di rischio medio e alto e ripetere l’intera indagine (griglia + check list) al più dopo un anno. Se la successiva valutazione non evidenzia un abbassamento del rischio al livello “non rilevante”, realizzare la valutazione approfondita e ripetere l’intera indagine (griglia + check list) dopo 1 a.s.
A56: RISULTATI VALUTAZIONE DEL RISCHIO SLC : TECNICI
A58: AREA | D58: RISULTATO | E58: Rischio Non Rilevante | G58: Rischio Medio | I58: Rischio Alto
A60: Griglia di raccolta dati oggettivi | D60: ='Griglia Dati Oggettivi'!AE106 -> #DIV/0! | E60: 0 | F60: 29 | G60: 30 | H60: 58 | I60: 59 | J60: 116
E61: 0 | G61: 10 | I61: 20
A62: A – Ambiente di lavoro | D62: ='A - Ambiente di Lavoro'!Q47 -> 0
A63: B – Contesto del lavoro | D63: ='B - Contesto del lavoro'!Q47 -> 0
A64: C4 – Tecnici – Contenuto del lavoro | D64: ='C4 - Tecnici'!Q56 -> 0
A65: Totale | D65: =D60+D62+D63+D64 -> #DIV/0! | E65: 0 | F65: 31 | G65: 32 | H65: 62 | I65: 63 | J65: 123
A68: Punteggio finale | B68: Livello di rischio | C68: RISULTATO | D68: Esito finale e azioni da mettere in atto
A69: ≤ 31 | B69: Non Rilevante | C69: =IF(D65<=29, "X", "") -> #DIV/0! | D69: L’analisi degli indicatori non evidenzia particolari condizioni organizzative che possano determinare la presenza di stress correlato al lavoro. Ripetere l’intera indagine (griglia + check list) ogni 2 aa.ss. ed effettuare eventuali interventi migliorativi nelle aree che dovessero essere comunque risultate negative.
A70: Tra 32 e 62 | B70: Medio | C70: =IF(AND(D65>=G65,D65<=H65), "X", "") -> #DIV/0! | D70: L’analisi degli indicatori evidenzia condizioni organizzative che possono determinare la presenza di stress correlato al lavoro. Realizzare gli interventi correttivi rispetto agli indicatori della check list dove è stata valutata una situazione di rischio e ripetere l’intera indagine (griglia + check list) dopo un anno. Se la successiva valutazione non evidenzia un abbassamento del rischio al livello “non rilevante”, realizzare la valutazione approfondita e ripetere l’intera indagine (griglia + check list) dopo 2 aa.ss
A71: > 62 | B71: Alto | C71: =IF(D65>H65, "X", "") -> #DIV/0! | D71: L’analisi degli indicatori evidenzia condizioni organizzative che determinano la presenza di stress correlato al lavoro. Realizzare interventi correttivi immediati rispetto agli indicatori della check list dove è stata valutata una situazione di rischio medio e alto e ripetere l’intera indagine (griglia + check list) al più dopo un anno. Se la successiva valutazione non evidenzia un abbassamento del rischio al livello “non rilevante”, realizzare la valutazione approfondita e ripetere l’intera indagine (griglia + check list) dopo 1 a.s.
A77: RISULTATI VALUTAZIONE DEL RISCHIO SLC : COORDINATORI
A79: AREA | D79: RISULTATO | E79: Rischio Non Rilevante | G79: Rischio Medio | I79: Rischio Alto
A81: Griglia di raccolta dati oggettivi | D81: ='Griglia Dati Oggettivi'!AE106 -> #DIV/0! | E81: 0 | F81: 29 | G81: 30 | H81: 58 | I81: 59 | J81: 116
E82: 0 | G82: 10 | I82: 20
A83: A – Ambiente di lavoro | D83: ='A - Ambiente di Lavoro'!Q47 -> 0
A84: B – Contesto del lavoro | D84: ='B - Contesto del lavoro'!Q47 -> 0
A85: C5 – Coordinatori – Contenuto del lavoro | D85: ='C5 - Coordinatori'!Q52 -> 0
A86: Totale | D86: =D81+D83+D84+D85 -> #DIV/0! | E86: 0 | F86: 30 | G86: 31 | H86: 60 | I86: 61 | J86: 110
A89: Punteggio finale | B89: Livello di rischio | C89: RISULTATO | D89: Esito finale e azioni da mettere in atto
A90: ≤ 30 | B90: Non Rilevante | C90: =IF(D86<=30, "X", "") -> #DIV/0! | D90: L’analisi degli indicatori non evidenzia particolari condizioni organizzative che possano determinare la presenza di stress correlato al lavoro. Ripetere l’intera indagine (griglia + check list) ogni 2 aa.ss. ed effettuare eventuali interventi migliorativi nelle aree che dovessero essere comunque risultate negative.
A91: Tra 31 e 60 | B91: Medio | C91: =IF(AND(D86>=G86,D86<=H86), "X", "") -> #DIV/0! | D91: L’analisi degli indicatori evidenzia condizioni organizzative che possono determinare la presenza di stress correlato al lavoro. Realizzare gli interventi correttivi rispetto agli indicatori della check list dove è stata valutata una situazione di rischio e ripetere l’intera indagine (griglia + check list) dopo un anno. Se la successiva valutazione non evidenzia un abbassamento del rischio al livello “non rilevante”, realizzare la valutazione approfondita e ripetere l’intera indagine (griglia + check list) dopo 2 aa.ss
A92: > 60 | B92: Alto | C92: =IF(D86>H86, "X", "") -> #DIV/0! | D92: L’analisi degli indicatori evidenzia condizioni organizzative che determinano la presenza di stress correlato al lavoro. Realizzare interventi correttivi immediati rispetto agli indicatori della check list dove è stata valutata una situazione di rischio medio e alto e ripetere l’intera indagine (griglia + check list) al più dopo un anno. Se la successiva valutazione non evidenzia un abbassamento del rischio al livello “non rilevante”, realizzare la valutazione approfondita e ripetere l’intera indagine (griglia + check list) dopo 1 a.s.

Sheet dati
A1: Scuola | B1: Tipologia | C1: Provincia | D1: Data | E1: N° Studenti | F1: N° Stud. Stranieri | G1: N° Stud. Disab. | H1: N° Stud. Ed. Spec. | I1: DATI OGGETTIVI | AQ1: GRIGLIA DATI OGGETTIVI | BL1: AMBIENTE DI LAVORO | BU1: CONTESTO DEL LAVORO | CD1: INSEGNANTI - CONTENUTO | CO1: AMMINISTRATIVI - CONTENUTO | CX1: AUSILIARI - CONTENUTO | DF1: TECNICI - CONTENUTO | DQ1: COORDINATORI - CONTENUTO | EB1: Dati | EC1: Area A | ED1: Area B | EE1: C1 | EF1: Rischio | EG1: B | EH1: M | EI1: A | EJ1: C2 | EK1: Rischio | EL1: B | EM1: M | EN1: A | EO1: C3 | EP1: Rischio | EQ1: B | ER1: M | ES1: A | ET1: C4 | EU1: Rischio | EV1: B | EW1: M | EX1: A | EY1: C5 | EZ1: Rischio | FA1: B | FB1: M | FC1: A
I2: 1I | J2: 1A | K2: 2I | L2: 2A | M2: 3I | N2: 3A | O2: 4I | P2: 4A | Q2: 5I | R2: 5A | S2: 6I | T2: 6A | U2: 7I_TRI | V2: 7I_ULT | W2: 7A_TRI | X2: 7A_ULT | Y2: 8_TRI | Z2: 8_ULT | AA2: 9I_TRI | AB2: 9I_ULT | AC2: 9A_TRI | AD2: 9A_ULT | AE2: 10I_TRI | AF2: 10I_ULT | AG2: 10A_TRI | AH2: 10A_ULT | AI2: 11I_1_2 | AJ2: 11I_3_4 | AK2: 11I_5 | AL2: 11I_+5 | AM2: 11A_1_2 | AN2: 11A_3_4 | AO2: 11A_5 | AP2: 11A_+5 | AQ2: 1I | AR2: 1A | AS2: 2I | AT2: 2A | AU2: 3I | AV2: 3A | AW2: 4I | AX2: 4A | AY2: 5I | AZ2: 5A | BA2: 6I | BB2: 6A | BC2: 7I | BD2: 7A | BE2: 8 | BF2: 9I | BG2: 9A | BH2: 10I | BI2: 10A | BJ2: PT | BK2: PT_C | BL2: 1 | BM2: 2 | BN2: 3 | BO2: 4 | BP2: 5 | BQ2: 6 | BR2: 7 | BS2: 8 | BT2: PT | BU2: 1 | BV2: 2 | BW2: 3 | BX2: 4 | BY2: 5 | BZ2: 6 | CA2: 7 | CB2: 8 | CC2: PT | CD2: 1 | CE2: 2 | CF2: 3 | CG2: 4 | CH2: 5 | CI2: 6 | CJ2: 7 | CK2: 8 | CL2: 9 | CM2: 10 | CN2: PT | CO2: 11 | CP2: 12 | CQ2: 13 | CR2: 14 | CS2: 15 | CT2: 16 | CU2: 17 | CV2: 18 | CW2: PT | CX2: 19 | CY2: 20 | CZ2: 21 | DA2: 22 | DB2: 23 | DC2: 24 | DD2: 25 | DE2: PT | DF2: 26 | DG2: 27 | DH2: 28 | DI2: 29 | DJ2: 30 | DK2: 31 | DL2: 32 | DM2: 33 | DN2: 34 | DO2: 35 | DP2: PT | DQ2: 36 | DR2: 37 | DS2: 38 | DT2: 39 | DU2: 40 | DV2: 41 | DW2: 42 | DX2: 43 | DZ2: 44 | EA2: PT
A3: =Intestazione!C3 -> 0 | B3: =Intestazione!C4 -> 0 | C3: =Intestazione!C6 -> 0 | D3: =Intestazione!C38 -> 0 | E3: =Intestazione!D8 -> 0 | F3: =Intestazione!D9 -> 0 | G3: =Intestazione!D10 -> 0 | H3: =Intestazione!D11 -> 0 | I3: ='Griglia Dati Oggettivi'!AE4 -> #DIV/0! | J3: ='Griglia Dati Oggettivi'!AF4 -> #DIV/0! | K3: ='Griglia Dati Oggettivi'!AE5 -> #DIV/0! | L3: ='Griglia Dati Oggettivi'!AF5 -> #DIV/0! | M3: ='Griglia Dati Oggettivi'!AE6 -> #DIV/0! | N3: ='Griglia Dati Oggettivi'!AF6 -> #DIV/0! | O3: ='Griglia Dati Oggettivi'!AE7 -> #DIV/0! | P3: ='Griglia Dati Oggettivi'!AF7 -> #DIV/0! | Q3: ='Griglia Dati Oggettivi'!AE8 -> #DIV/0! | R3: ='Griglia Dati Oggettivi'!AF8 -> #DIV/0! | S3: ='Griglia Dati Oggettivi'!AE9 -> #DIV/0! | T3: ='Griglia Dati Oggettivi'!AF9 -> #DIV/0! | U3: ='Griglia Dati Oggettivi'!AE11 -> 0 | V3: ='Griglia Dati Oggettivi'!AF11 -> 0 | W3: ='Griglia Dati Oggettivi'!AE12 -> #DIV/0! | X3: ='Griglia Dati Oggettivi'!AF12 -> #DIV/0! | Y3: ='Griglia Dati Oggettivi'!AE14 -> #DIV/0! | Z3: ='Griglia Dati Oggettivi'!AF14 -> #DIV/0! | AA3: ='Griglia Dati Oggettivi'!AE15 -> #DIV/0! | AB3: ='Griglia Dati Oggettivi'!AF15 -> #DIV/0! | AC3: ='Griglia Dati Oggettivi'!AE16 -> #DIV/0! | AD3: ='Griglia Dati Oggettivi'!AF16 -> #DIV/0! | AE3: ='Griglia Dati Oggettivi'!AE17 -> #DIV/0! | AF3: ='Griglia Dati Oggettivi'!AF17 -> #DIV/0! | AG3: ='Griglia Dati Oggettivi'!AE18 -> #DIV/0! | AH3: ='Griglia Dati Oggettivi'!AF18 -> #DIV/0! | AI3: ='Griglia Dati Oggettivi'!AE21 -> #DIV/0! | AJ3: ='Griglia Dati Oggettivi'!AF21 -> #DIV/0! | AK3: ='Griglia Dati Oggettivi'!AG21 -> #DIV/0! | AL3: ='Griglia Dati Oggettivi'!AH21 -> #DIV/0! | AM3: ='Griglia Dati Oggettivi'!AE22 -> #DIV/0! | AN3: ='Griglia Dati Oggettivi'!AF22 -> #DIV/0! | AO3: ='Griglia Dati Oggettivi'!AG22 -> #DIV/0! | AP3: ='Griglia Dati Oggettivi'!AH22 -> #DIV/0! | AQ3: ='Griglia Dati Oggettivi'!AJ28 -> #DIV/0! | AR3: ='Griglia Dati Oggettivi'!AJ31 -> #DIV/0! | AS3: ='Griglia Dati Oggettivi'!AJ35 -> #DIV/0! | AT3: ='Griglia Dati Oggettivi'!AJ38 -> #DIV/0! | AU3: ='Griglia Dati Oggettivi'!AJ42 -> #DIV/0! | AV3: ='Griglia Dati Oggettivi'!AJ45 -> #DIV/0! | AW3: ='Griglia Dati Oggettivi'!AJ49 -> #DIV/0! | AX3: ='Griglia Dati Oggettivi'!AJ52 -> #DIV/0! | AY3: ='Griglia Dati Oggettivi'!AJ56 -> #DIV/0! | AZ3: ='Griglia Dati Oggettivi'!AJ59 -> #DIV/0! | BA3: ='Griglia Dati Oggettivi'!AJ63 -> #DIV/0! | BB3: ='Griglia Dati Oggettivi'!AJ66 -> #DIV/0! | BC3: ='Griglia Dati Oggettivi'!AJ70 -> #DIV/0! | BD3: ='Griglia Dati Oggettivi'!AJ73 -> #DIV/0! | BE3: ='Griglia Dati Oggettivi'!AJ81 -> #DIV/0! | BF3: ='Griglia Dati Oggettivi'!AJ85 -> #DIV/0! | BG3: ='Griglia Dati Oggettivi'!AJ88 -> #DIV/0! | BH3: ='Griglia Dati Oggettivi'!AJ92 -> #DIV/0! | BI3: ='Griglia Dati Oggettivi'!AJ95 -> #DIV/0! | BJ3: ='Griglia Dati Oggettivi'!AJ105 -> #DIV/0! | BK3: ='Griglia Dati Oggettivi'!AJ106 -> #DIV/0! | BL3: ='A - Ambiente di Lavoro'!AD6 -> 0 | BM3: ='A - Ambiente di Lavoro'!AD11 -> 0 | BN3: ='A - Ambiente di Lavoro'!AD16 -> 0 | BO3: ='A - Ambiente di Lavoro'!AD21 -> 0 | BP3: ='A - Ambiente di Lavoro'!AD26 -> 0 | BQ3: ='A - Ambiente di Lavoro'!AD31 -> 0 | BR3: ='A - Ambiente di Lavoro'!AD36 -> 0 | BS3: ='A - Ambiente di Lavoro'!AD41 -> 0 | BT3: ='A - Ambiente di Lavoro'!Q47 -> 0 | BU3: ='B - Contesto del lavoro'!AE6 -> 0 | BV3: ='B - Contesto del lavoro'!AE11 -> 0 | BW3: ='B - Contesto del lavoro'!AE16 -> 0 | BX3: ='B - Contesto del lavoro'!AE21 -> 0 | BY3: ='B - Contesto del lavoro'!AE26 -> 0 | BZ3: ='B - Contesto del lavoro'!AE31 -> 0 | CA3: ='B - Contesto del lavoro'!AE36 -> 0 | CB3: ='B - Contesto del lavoro'!AE41 -> 0 | CC3: ='B - Contesto del lavoro'!Q47 -> 0 | CD3: ='C1 - Insegnanti'!AE6 -> 0 | CE3: ='C1 - Insegnanti'!AE11 -> 0 | CF3: ='C1 - Insegnanti'!AE16 -> 0 | CG3: ='C1 - Insegnanti'!AE21 -> 0 | CH3: ='C1 - Insegnanti'!AE26 -> 0 | CI3: ='C1 - Insegnanti'!AE31 -> 0 | CJ3: ='C1 - Insegnanti'!AE36 -> 0 | CK3: ='C1 - Insegnanti'!AE41 -> 0 | CL3: ='C1 - Insegnanti'!AE46 -> 0 | CM3: ='C1 - Insegnanti'!AE51 -> 0 | CN3: ='C1 - Insegnanti'!Q57 -> 0 | CO3: ='C2 - Amministrativi'!AF6 -> 0 | CP3: ='C2 - Amministrativi'!AF11 -> 0 | CQ3: ='C2 - Amministrativi'!AF16 -> 0 | CR3: ='C2 - Amministrativi'!AF21 -> 0 | CS3: ='C2 - Amministrativi'!AF26 -> 0 | CT3: ='C2 - Amministrativi'!AF31 -> 0 | CU3: ='C2 - Amministrativi'!AF36 -> 0 | CV3: ='C2 - Amministrativi'!AF41 -> 0 | CW3: ='C2 - Amministrativi'!Q47 -> 0 | CX3: ='C3 - Ausiliari'!AG6 -> 0 | CY3: ='C3 - Ausiliari'!AG11 -> 0 | CZ3: ='C3 - Ausiliari'!AG16 -> 0 | DA3: ='C3 - Ausiliari'!AG21 -> 0 | DB3: ='C3 - Ausiliari'!AG26 -> 0 | DC3: ='C3 - Ausiliari'!AG31 -> 0 | DD3: ='C3 - Ausiliari'!AG36 -> 0 | DE3: ='C3 - Ausiliari'!Q42 -> 0 | DF3: ='C4 - Tecnici'!AE5 -> 0 | DG3: ='C4 - Tecnici'!AE10 -> 0 | DH3: ='C4 - Tecnici'!AE15 -> 0 | DI3: ='C4 - Tecnici'!AE20 -> 0 | DJ3: ='C4 - Tecnici'!AE25 -> 0 | DK3: ='C4 - Tecnici'!AE30 -> 0 | DL3: ='C4 - Tecnici'!AE35 -> 0 | DM3: ='C4 - Tecnici'!AE40 -> 0 | DN3: ='C4 - Tecnici'!AE45 -> 0 | DO3: ='C4 - Tecnici'!AE50 -> 0 | DP3: ='C4 - Tecnici'!Q56 -> 0 | DQ3: ='C5 - Coordinatori'!AE6 -> 0 | DR3: ='C5 - Coordinatori'!AE11 -> 0 | DS3: ='C5 - Coordinatori'!AE16 -> 0 | DT3: ='C5 - Coordinatori'!AE21 -> 0 | DU3: ='C5 - Coordinatori'!AE26 -> 0 | DV3: ='C5 - Coordinatori'!AE31 -> 0 | DW3: ='C5 - Coordinatori'!AE36 -> 0 | DX3: ='C5 - Coordinatori'!AE41 -> 0 | DZ3: ='C5 - Coordinatori'!AE46 -> 0 | EA3: ='C5 - Coordinatori'!Q52 -> 0 | EB3: =Risultati!D5 -> #DIV/0! | EC3: =Risultati!D7 -> 0 | ED3: =Risultati!D8 -> 0 | EE3: =Risultati!D9 -> 0 | EF3: =Risultati!D10 -> #DIV/0! | EG3: =Risultati!C13 -> #DIV/0! | EH3: =Risultati!C14 -> #DIV/0! | EI3: =Risultati!C15 -> #DIV/0! | EJ3: =Risultati!D25 -> 0 | EK3: =Risultati!D26 -> #DIV/0! | EL3: =Risultati!C30 -> #DIV/0! | EM3: =Risultati!C31 -> #DIV/0! | EN3: =Risultati!C32 -> #DIV/0! | EO3: =Risultati!D45 -> 0 | EP3: =Risultati!D46 -> #DIV/0! | EQ3: =Risultati!C50 -> #DIV/0! | ER3: =Risultati!C51 -> #DIV/0! | ES3: =Risultati!C52 -> #DIV/0! | ET3: =Risultati!D64 -> 0 | EU3: =Risultati!D65 -> #DIV/0! | EV3: =Risultati!C69 -> #DIV/0! | EW3: =Risultati!C70 -> #DIV/0! | EX3: =Risultati!C71 -> #DIV/0! | EY3: =Risultati!D85 -> 0 | EZ3: =Risultati!D86 -> #DIV/0! | FA3: =Risultati!C90 -> #DIV/0! | FB3: =Risultati!C91 -> #DIV/0! | FC3: =Risultati!C92 -> #DIV/0!

Sheet Risultati 2
A1: RISULTATI VALUTAZIONE DEL RISCHIO SLC: DATI OGGETTIVI NON INSERITI
A2: Nel caso in cui non ci siano i dati oggettivi, in automatico viene inserito il valore rischio medio per i dati oggettivi | Azione correttiva: aggiornare la valutazione con di dati oggettivi
A4: RISULTATI VALUTAZIONE DEL RISCHIO SLC : INSEGNANTI
A6: AREA | D6: RISULTATO | E6: Rischio Non Rilevante | G6: Rischio Medio | I6: Rischio Alto
A8: Griglia di raccolta dati oggettivi | D8: 10 | E8: 0 | F8: 29 | G8: 30 | H8: 58 | I8: 59 | J8: 116
E9: 0 | G9: 10 | I9: 20
A10: A – Ambiente di lavoro | D10: ='A - Ambiente di Lavoro'!Q47 -> 0
A11: B – Contesto del lavoro | D11: ='B - Contesto del lavoro'!Q47 -> 0
A12: C1 – Insegnanti – Contenuto del lavoro | D12: ='C1 - Insegnanti'!Q57 -> 0
A13: Totale | D13: =D8+D10+D11+D12 -> 10 | E13: 0 | F13: 31 | G13: 32 | H13: 63 | I13: 64 | J13: 125
A15: Punteggio finale | B15: Livello di rischio | C15: RISULTATO | D15: Esito finale e azioni da mettere in atto
A16: ≤ 31 | B16: Non Rilevante | C16: =IF(D13<=31, "X", "") -> X | D16: L’analisi degli indicatori non evidenzia particolari condizioni organizzative che possano determinare la presenza di stress correlato al lavoro. Ripetere l’intera indagine (griglia + check list) ogni 2 aa.ss, effettuare eventuali interventi migliorativi nelle aree che dovessero essere comunque risultate negative.
A17: Tra 32 e 63 | B17: Medio | C17: =IF(AND(D13>=32,D13<=63), "X", "") | D17: L’analisi degli indicatori evidenzia condizioni organizzative che possono determinare la presenza di stress correlato al lavoro. Realizzare gli interventi correttivi rispetto agli indicatori della check list dove è stata valutata una situazione di rischio e ripetere l’intera indagine (griglia + check list) dopo un anno. Se la successiva valutazione non evidenzia un abbassamento del rischio al livello “non rilevante”, realizzare la valutazione approfondita e ripetere l’intera indagine (griglia + check list) dopo 2 aa.ss
A18: > 63 | B18: Alto | C18: =IF(D13>63, "X", "") | D18: L’analisi degli indicatori evidenzia condizioni organizzative che possono determinare la presenza di stress correlato al lavoro. Realizzare interventi correttivi immediati rispetto agli indicatori della check list dove è stata valutata una situazione di rischio medio e alto e ripetere l’intera indagine (griglia + check list) al più dopo un anno. Se la successiva valutazione non evidenzia un abbassamento del rischio al livello “non rilevante”, realizzare la valutazione approfondita e ripetere l’intera indagine (griglia + check list) dopo 1 a.s.
A20: RISULTATI VALUTAZIONE DEL RISCHIO SLC : AMMINISTRATIVI
A22: AREA | D22: RISULTATO | E22: Rischio Non Rilevante | G22: Rischio Medio | I22: Rischio Alto
A24: Griglia di raccolta dati oggettivi | D24: 10 | E24: 0 | F24: 29 | G24: 30 | H24: 58 | I24: 59 | J24: 116
E25: 0 | G25: 10 | I25: 20
A26: A – Ambiente di lavoro | D26: ='A - Ambiente di Lavoro'!Q47 -> 0
A27: B – Contesto del lavoro | D27: ='B - Contesto del lavoro'!Q47 -> 0
A28: C2 – Amministrativi – Contenuto del lavoro | D28: ='C2 - Amministrativi'!Q47 -> 0
A29: Totale | D29: =D24+D26+D27+D28 -> 10 | E29: 0 | F29: 31 | G29: 32 | H29: 61 | I29: 62 | J29: 122
A32: Punteggio finale | B32: Livello di rischio | C32: RISULTATO | D32: Esito finale e azioni da mettere in atto
A33: ≤ 31 | B33: Non Rilevante | C33: =IF(D29<=31, "X", "") -> X | D33: L’analisi degli indicatori non evidenzia particolari condizioni organizzative che possano determinare la presenza di stress correlato al lavoro. Ripetere l’intera indagine (griglia + check list) ogni 2 aa.ss, effettuare eventuali interventi migliorativi nelle aree che dovessero essere comunque risultate negative.
A34: Tra 32 e 61 | B34: Medio | C34: =IF(AND(D29>=32,D29<=61), "X", "") | D34: L’analisi degli indicatori evidenzia condizioni organizzative che possono determinare la presenza di stress correlato al lavoro. Realizzare gli interventi correttivi rispetto agli indicatori della check list dove è stata valutata una situazione di rischio e ripetere l’intera indagine (griglia + check list) dopo un anno. Se la successiva valutazione non evidenzia un abbassamento del rischio al livello “non rilevante”, realizzare la valutazione approfondita e ripetere l’intera indagine (griglia + check list) dopo 2 aa.ss
A35: > 61 | B35: Alto | C35: =IF(D29>61, "X", "") | D35: L’analisi degli indicatori evidenzia condizioni organizzative che possono determinare la presenza di stress correlato al lavoro. Realizzare interventi correttivi immediati rispetto agli indicatori della check list dove è stata valutata una situazione di rischio medio e alto e ripetere l’intera indagine (griglia + check list) al più dopo un anno. Se la successiva valutazione non evidenzia un abbassamento del rischio al livello “non rilevante”, realizzare la valutazione approfondita e ripetere l’intera indagine (griglia + check list) dopo 1 a.s.
A40: RISULTATI VALUTAZIONE DEL RISCHIO SLC : AUSILIARI
A42: AREA | D42: RISULTATO | E42: Rischio Non Rilevante | G42: Rischio Medio | I42: Rischio Alto
A44: Griglia di raccolta dati oggettivi | D44: 10 | E44: 0 | F44: 29 | G44: 30 | H44: 58 | I44: 59 | J44: 116
E45: 0 | G45: 10 | I45: 20
A46: A – Ambiente di lavoro | D46: ='A - Ambiente di Lavoro'!Q47 -> 0
A47: B – Contesto del lavoro | D47: ='B - Contesto del lavoro'!Q47 -> 0
A48: C3 – Ausiliari – Contenuto del lavoro | D48: ='C3 - Ausiliari'!Q42 -> 0
A49: Totale | D49: =D44+D46+D47+D48 -> 10 | E49: 0 | F49: 29 | G49: 30 | H49: 58 | I49: 59 | J49: 116
A52: Punteggio finale | B52: Livello di rischio | C52: RISULTATO | D52: Esito finale e azioni da mettere in atto
A53: ≤ 29 | B53: Non Rilevante | C53: =IF(D49<=29, "X", "") -> X | D53: L’analisi degli indicatori non evidenzia particolari condizioni organizzative che possano determinare la presenza di stress correlato al lavoro. Ripetere l’intera indagine (griglia + check list) ogni 2 aa.ss, effettuare eventuali interventi migliorativi nelle aree che dovessero essere comunque risultate negative.
A54: Tra 30 e 58 | B54: Medio | C54: =IF(AND(D49>=30,D49<=58), "X", "") | D54: L’analisi degli indicatori evidenzia condizioni organizzative che possono determinare la presenza di stress correlato al lavoro. Realizzare gli interventi correttivi rispetto agli indicatori della check list dove è stata valutata una situazione di rischio e ripetere l’intera indagine (griglia + check list) dopo un anno. Se la successiva valutazione non evidenzia un abbassamento del rischio al livello “non rilevante”, realizzare la valutazione approfondita e ripetere l’intera indagine (griglia + check list) dopo 2 aa.ss
A55: > 58 | B55: Alto | C55: =IF(D49>58, "X", "") | D55: L’analisi degli indicatori evidenzia condizioni organizzative che possono determinare la presenza di stress correlato al lavoro. Realizzare interventi correttivi immediati rispetto agli indicatori della check list dove è stata valutata una situazione di rischio medio e alto e ripetere l’intera indagine (griglia + check list) al più dopo un anno. Se la successiva valutazione non evidenzia un abbassamento del rischio al livello “non rilevante”, realizzare la valutazione approfondita e ripetere l’intera indagine (griglia + check list) dopo 1 a.s.
A59: RISULTATI VALUTAZIONE DEL RISCHIO SLC : TECNICI
A61: AREA | D61: RISULTATO | E61: Rischio Non Rilevante | G61: Rischio Medio | I61: Rischio Alto
A63: Griglia di raccolta dati oggettivi | D63: 10 | E63: 0 | F63: 29 | G63: 30 | H63: 58 | I63: 59 | J63: 116
E64: 0 | G64: 10 | I64: 20
A65: A – Ambiente di lavoro | D65: ='A - Ambiente di Lavoro'!Q47 -> 0
A66: B – Contesto del lavoro | D66: ='B - Contesto del lavoro'!Q47 -> 0
A67: C4 – Tecnici – Contenuto del lavoro | D67: ='C4 - Tecnici'!Q56 -> 0
A68: Totale | D68: =D63+D65+D66+D67 -> 10 | E68: 0 | F68: 31 | G68: 32 | H68: 62 | I68: 63 | J68: 123
A71: Punteggio finale | B71: Livello di rischio | C71: RISULTATO | D71: Esito finale e azioni da mettere in atto
A72: ≤ 31 | B72: Non Rilevante | C72: =IF(D68<=29, "X", "") -> X | D72: L’analisi degli indicatori non evidenzia particolari condizioni organizzative che possano determinare la presenza di stress correlato al lavoro. Ripetere l’intera indagine (griglia + check list) ogni 2 aa.ss, effettuare eventuali interventi migliorativi nelle aree che dovessero essere comunque risultate negative.
A73: Tra 32 e 62 | B73: Medio | C73: =IF(AND(D68>=G68,D68<=H68), "X", "") | D73: L’analisi degli indicatori evidenzia condizioni organizzative che possono determinare la presenza di stress correlato al lavoro. Realizzare gli interventi correttivi rispetto agli indicatori della check list dove è stata valutata una situazione di rischio e ripetere l’intera indagine (griglia + check list) dopo un anno. Se la successiva valutazione non evidenzia un abbassamento del rischio al livello “non rilevante”, realizzare la valutazione approfondita e ripetere l’intera indagine (griglia + check list) dopo 2 aa.ss
A74: > 62 | B74: Alto | C74: =IF(D68>H68, "X", "") | D74: L’analisi degli indicatori evidenzia condizioni organizzative che possono determinare la presenza di stress correlato al lavoro. Realizzare interventi correttivi immediati rispetto agli indicatori della check list dove è stata valutata una situazione di rischio medio e alto e ripetere l’intera indagine (griglia + check list) al più dopo un anno. Se la successiva valutazione non evidenzia un abbassamento del rischio al livello “non rilevante”, realizzare la valutazione approfondita e ripetere l’intera indagine (griglia + check list) dopo 1 a.s.
A80: RISULTATI VALUTAZIONE DEL RISCHIO SLC : COORDINATORI
A82: AREA | D82: RISULTATO | E82: Rischio Non Rilevante | G82: Rischio Medio | I82: Rischio Alto
A84: Griglia di raccolta dati oggettivi | D84: 10 | E84: 0 | F84: 29 | G84: 30 | H84: 58 | I84: 59 | J84: 116
E85: 0 | G85: 10 | I85: 20
A86: A – Ambiente di lavoro | D86: ='A - Ambiente di Lavoro'!Q47 -> 0
A87: B – Contesto del lavoro | D87: ='B - Contesto del lavoro'!Q47 -> 0
A88: C5 – Coordinatori – Contenuto del lavoro | D88: ='C5 - Coordinatori'!Q52 -> 0
A89: Totale | D89: =D84+D86+D87+D88 -> 10 | E89: 0 | F89: 31 | G89: 32 | H89: 63 | I89: 64 | J89: 125
A92: Punteggio finale | B92: Livello di rischio | C92: RISULTATO | D92: Esito finale e azioni da mettere in atto
A93: ≤ 31 | B93: Non Rilevante | C93: =IF(D89<=29, "X", "") -> X | D93: L’analisi degli indicatori non evidenzia particolari condizioni organizzative che possano determinare la presenza di stress correlato al lavoro. Ripetere l’intera indagine (griglia + check list) ogni 2 aa.ss, effettuare eventuali interventi migliorativi nelle aree che dovessero essere comunque risultate negative.
A94: Tra 32 e 63 | B94: Medio | C94: =IF(AND(D89>=G89,D89<=H89), "X", "") | D94: L’analisi degli indicatori evidenzia condizioni organizzative che possono determinare la presenza di stress correlato al lavoro. Realizzare gli interventi correttivi rispetto agli indicatori della check list dove è stata valutata una situazione di rischio e ripetere l’intera indagine (griglia + check list) dopo un anno. Se la successiva valutazione non evidenzia un abbassamento del rischio al livello “non rilevante”, realizzare la valutazione approfondita e ripetere l’intera indagine (griglia + check list) dopo 2 aa.ss
A95: > 63 | B95: Alto | C95: =IF(D89>H89, "X", "") | D95: L’analisi degli indicatori evidenzia condizioni organizzative che possono determinare la presenza di stress correlato al lavoro. Realizzare interventi correttivi immediati rispetto agli indicatori della check list dove è stata valutata una situazione di rischio medio e alto e ripetere l’intera indagine (griglia + check list) al più dopo un anno. Se la successiva valutazione non evidenzia un abbassamento del rischio al livello “non rilevante”, realizzare la valutazione approfondita e ripetere l’intera indagine (griglia + check list) dopo 1 a.s.

Sheet dati 2
A1: Scuola | B1: Tipologia | C1: Provincia | D1: Data | E1: N° Studenti | F1: N° Stud. Stranieri | G1: N° Stud. Disab. | H1: N° Stud. Ed. Spec. | I1: GRIGLIA DATI OGGETTIVI | AD1: AMBIENTE DI LAVORO | AM1: CONTESTO DEL LAVORO | AV1: INSEGNANTI - CONTENUTO | BG1: AMMINISTRATIVI - CONTENUTO | BP1: AUSILIARI - CONTENUTO | BX1: TECNICI - CONTENUTO | CI1: COORDINATORI - CONTENUTO | CT1: Dati | CU1: Area A | CV1: Area B | CW1: C1 | CX1: Rischio | CY1: B | CZ1: M | DA1: A | DB1: C2 | DC1: Rischio | DD1: B | DE1: M | DF1: A | DG1: C3 | DH1: Rischio | DI1: B | DJ1: M | DK1: A | DL1: C4 | DM1: Rischio | DN1: B | DO1: M | DP1: A | DQ1: C5 | DR1: Rischio | DS1: B | DT1: M | DU1: A
I2: 1I | J2: 1A | K2: 2I | L2: 2A | M2: 3I | N2: 3A | O2: 4I | P2: 4A | Q2: 5I | R2: 5A | S2: 6I | T2: 6A | U2: 7I | V2: 7A | W2: 8 | X2: 9I | Y2: 9A | Z2: 10I | AA2: 10A | AB2: PT | AC2: PT_C | AD2: 1 | AE2: 2 | AF2: 3 | AG2: 4 | AH2: 5 | AI2: 6 | AJ2: 7 | AK2: 8 | AL2: PT | AM2: 1 | AN2: 2 | AO2: 3 | AP2: 4 | AQ2: 5 | AR2: 6 | AS2: 7 | AT2: 8 | AU2: PT | AV2: 1 | AW2: 2 | AX2: 3 | AY2: 4 | AZ2: 5 | BA2: 6 | BB2: 7 | BC2: 8 | BD2: 9 | BE2: 10 | BF2: PT | BG2: 11 | BH2: 12 | BI2: 13 | BJ2: 14 | BK2: 15 | BL2: 16 | BM2: 17 | BN2: 18 | BO2: PT | BP2: 19 | BQ2: 20 | BR2: 21 | BS2: 22 | BT2: 23 | BU2: 24 | BV2: 25 | BW2: PT | BX2: 26 | BY2: 27 | BZ2: 28 | CA2: 29 | CB2: 30 | CC2: 31 | CD2: 32 | CE2: 33 | CF2: 34 | CG2: 35 | CH2: PT | CI2: 36 | CJ2: 37 | CK2: 38 | CL2: 39 | CM2: 40 | CN2: 41 | CO2: 42 | CP2: 43 | CR2: 44 | CS2: PT
A3: =Intestazione!C3 -> 0 | B3: =Intestazione!C4 -> 0 | C3: =Intestazione!C6 -> 0 | D3: =Intestazione!C38 -> 0 | E3: =Intestazione!D8 -> 0 | F3: =Intestazione!D9 -> 0 | G3: =Intestazione!D10 -> 0 | H3: =Intestazione!D11 -> 0 | I3: 0 | J3: 0 | K3: 0 | L3: 0 | M3: 0 | N3: 0 | O3: 0 | P3: 0 | Q3: 0 | R3: 0 | S3: 0 | T3: 0 | U3: 0 | V3: 0 | W3: 0 | X3: 0 | Y3: 0 | Z3: 0 | AA3: 0 | AB3: 0 | AC3: 0 | AD3: ='A - Ambiente di Lavoro'!AD6 -> 0 | AE3: ='A - Ambiente di Lavoro'!AD11 -> 0 | AF3: ='A - Ambiente di Lavoro'!AD16 -> 0 | AG3: ='A - Ambiente di Lavoro'!AD21 -> 0 | AH3: ='A - Ambiente di Lavoro'!AD26 -> 0 | AI3: ='A - Ambiente di Lavoro'!AD31 -> 0 | AJ3: ='A - Ambiente di Lavoro'!AD36 -> 0 | AK3: ='A - Ambiente di Lavoro'!AD41 -> 0 | AL3: ='A - Ambiente di Lavoro'!Q47 -> 0 | AM3: ='B - Contesto del lavoro'!AE6 -> 0 | AN3: ='B - Contesto del lavoro'!AE11 -> 0 | AO3: ='B - Contesto del lavoro'!AE16 -> 0 | AP3: ='B - Contesto del lavoro'!AE21 -> 0 | AQ3: ='B - Contesto del lavoro'!AE26 -> 0 | AR3: ='B - Contesto del lavoro'!AE31 -> 0 | AS3: ='B - Contesto del lavoro'!AE36 -> 0 | AT3: ='B - Contesto del lavoro'!AE41 -> 0 | AU3: ='B - Contesto del lavoro'!Q47 -> 0 | AV3: ='C1 - Insegnanti'!AE6 -> 0 | AW3: ='C1 - Insegnanti'!AE11 -> 0 | AX3: ='C1 - Insegnanti'!AE16 -> 0 | AY3: ='C1 - Insegnanti'!AE21 -> 0 | AZ3: ='C1 - Insegnanti'!AE26 -> 0 | BA3: ='C1 - Insegnanti'!AE31 -> 0 | BB3: ='C1 - Insegnanti'!AE36 -> 0 | BC3: ='C1 - Insegnanti'!AE41 -> 0 | BD3: ='C1 - Insegnanti'!AE46 -> 0 | BE3: ='C1 - Insegnanti'!AE51 -> 0 | BF3: ='C1 - Insegnanti'!Q57 -> 0 | BG3: ='C2 - Amministrativi'!AF6 -> 0 | BH3: ='C2 - Amministrativi'!AF11 -> 0 | BI3: ='C2 - Amministrativi'!AF16 -> 0 | BJ3: ='C2 - Amministrativi'!AF21 -> 0 | BK3: ='C2 - Amministrativi'!AF26 -> 0 | BL3: ='C2 - Amministrativi'!AF31 -> 0 | BM3: ='C2 - Amministrativi'!AF36 -> 0 | BN3: ='C2 - Amministrativi'!AF41 -> 0 | BO3: ='C2 - Amministrativi'!Q47 -> 0 | BP3: ='C3 - Ausiliari'!AG6 -> 0 | BQ3: ='C3 - Ausiliari'!AG11 -> 0 | BR3: ='C3 - Ausiliari'!AG16 -> 0 | BS3: ='C3 - Ausiliari'!AG21 -> 0 | BT3: ='C3 - Ausiliari'!AG26 -> 0 | BU3: ='C3 - Ausiliari'!AG31 -> 0 | BV3: ='C3 - Ausiliari'!AG36 -> 0 | BW3: ='C3 - Ausiliari'!Q42 -> 0 | BX3: ='C4 - Tecnici'!AE5 -> 0 | BY3: ='C4 - Tecnici'!AE10 -> 0 | BZ3: ='C4 - Tecnici'!AE15 -> 0 | CA3: ='C4 - Tecnici'!AE20 -> 0 | CB3: ='C4 - Tecnici'!AE25 -> 0 | CC3: ='C4 - Tecnici'!AE30 -> 0 | CD3: ='C4 - Tecnici'!AE35 -> 0 | CE3: ='C4 - Tecnici'!AE40 -> 0 | CF3: ='C4 - Tecnici'!AE45 -> 0 | CG3: ='C4 - Tecnici'!AE50 -> 0 | CH3: ='C4 - Tecnici'!Q56 -> 0 | CI3: ='C5 - Coordinatori'!AE6 -> 0 | CJ3: ='C5 - Coordinatori'!AE11 -> 0 | CK3: ='C5 - Coordinatori'!AE16 -> 0 | CL3: ='C5 - Coordinatori'!AE21 -> 0 | CM3: ='C5 - Coordinatori'!AE26 -> 0 | CN3: ='C5 - Coordinatori'!AE31 -> 0 | CO3: ='C5 - Coordinatori'!AE36 -> 0 | CP3: ='C5 - Coordinatori'!AE41 -> 0 | CR3: ='C5 - Coordinatori'!AE46 -> 0 | CS3: ='C5 - Coordinatori'!Q52 -> 0 | CT3: 10 | CU3: ='Risultati 2'!D10 -> 0 | CV3: ='Risultati 2'!D11 -> 0 | CW3: ='Risultati 2'!D12 -> 0 | CX3: ='Risultati 2'!D13 -> 10 | CY3: ='Risultati 2'!C16 -> X | CZ3: ='Risultati 2'!C17 | DA3: ='Risultati 2'!C18 | DB3: ='Risultati 2'!D28 -> 0 | DC3: ='Risultati 2'!D29 -> 10 | DD3: ='Risultati 2'!C33 -> X | DE3: ='Risultati 2'!C34 | DF3: ='Risultati 2'!C35 | DG3: ='Risultati 2'!D48 -> 0 | DH3: ='Risultati 2'!D49 -> 10 | DI3: ='Risultati 2'!C53 -> X | DJ3: ='Risultati 2'!C54 | DK3: ='Risultati 2'!C55 | DL3: ='Risultati 2'!D67 -> 0 | DM3: ='Risultati 2'!D68 -> 10 | DN3: ='Risultati 2'!C72 -> X | DO3: ='Risultati 2'!C73 | DP3: ='Risultati 2'!C74 | DQ3: ='Risultati 2'!D88 -> 0 | DR3: ='Risultati 2'!D89 -> 10 | DS3: ='Risultati 2'!C93 -> X | DT3: ='Risultati 2'!C94 | DU3: ='Risultati 2'!C95
