Workbook

Sheet Istruzioni
A4: ISTRUZIONI
A6: 1 | B6: Nel caso di più plessi duplica il file
A7: 2 | B7: Per spostarsi fra i fogli di lavoro puoi utilizzare il Menu a destra
A8: 3 | B8: Per rispondere alle domande utilizza sempre la lettera "X"
A9: 4 | B9: Non puoi compilare da solo la griglia dati oggettivi : per calcolare i dati
B10: devi compilare la tabella del foglio "inserimento dati"
B11: Se non hai i dati oggettivi, utilizza il foglio Risultati 2
A12: 5 | B12: Ogni foglio può essere stampato
A13: 6 | B13: Per inviare i dati della sperimentazione
A16: A | B16: Clicca con il tasto dx del mouse sul foglio 'dati' o 'dati 2'(se non hai i dati oggettivi)
A30: B | B30: Flegga la casella "Crea una Copia" e seleziona "(nuova cartella)
A48: C | B48: Clicca su "OK"
A66: D | B66: Si aprirà un nuovo file e vai su "Salva con nome"
A82: E | B82: Il file salvato dovrà essere inviato al seguente indirizzo di posta elettronica
B83: Inserire indirizzo: antonia.ballottin@aulss9.veneto.it

Sheet Intestazione
A1: VALUTAZIONE DEL RISCHIO STRESS LAVORO CORRELATO
B3: SCUOLA
B4: TIPOLOGIA
B5: INDIRIZZO
B6: PROVINCIA
B8: N° Totale Studenti
B9: N° Totale Studenti Stranieri
B10: N° Totale Studenti disabili certificati
B11: N° Totale Studenti con bisogni educativi specifici
A14: GRUPPO DI VALUTAZIONE
B16: COGNOME | C16: NOME | D16: RUOLO
B38: DATA

Sheet Inserimento Dati
A1: DATI OGGETTIVI
A3: Dato Anno Scolastico di rifermento | B3: Valore Insegnanti | C3: Valore Personale ATA
A4: N° Totale lavoratori per sede/plesso
A5: N. di invii alla Commissione medica di verifica per problemi connessi a comportamenti o ad assenze ripetute per malattia
A6: N° Totale di lavoratori Entrati
A7: N° Totale di lavoratori Usciti
A8: N. di richieste di spostamenti interni tra classi o plassi scolastici
A9: N. di esposti o segnalazioni da parte del personale, di classi o di genitori pervenuti al DS, al DSGA, al RLS o al MC
A10: N. di procedimenti per sanzioni disciplinari
A11: N. di procedimenti per sanzioni disciplinari per il mancato rispetto del Regolamente d'Istituto da parte degl alunni
B13: AA.SS | C13: AA.SS | D13: AA.SS
B14: 2020/2021 | C14: 2021/2022 | D14: 2022/2023
A15: Numero lavoratori INSEGNANTI
A16: Numero lavoratori PERSONALE ATA
A17: Numero infortuni INSEGNANTI
A18: Numero infortuni PERSONALE ATA
A19: Numero ore perse dal lavoro a.s. oggetto della valutazione TOTALE (Insegnanti + ATA)
A20: Numero ore di lavoro da contratto a.s. oggetto della valutazione TOTALE (Insegnanti + ATA)
A21: N. di giorni di assenza per malattia INSEGNANTI
A22: N. di giorni di assenza per malattia PERSONALE ATA
A23: N. visite Dal MC (se nominato) su richiesta del lavoratore INSEGNANTI
A24: N. visite Dal MC (se nominato) su richiesta del lavoratore PERSONALE ATA
B25: N° 1 o 2 plessi assegnati | C25: N° 3 o 4 plessi assegnati | D25: N° 5 plessi assegnati | E25: N° > 5 plessi assegnati
A26: Numero lavoratori INSEGNANTI
A27: Numero lavoratori PERSONALE ATA
A29: ZONA DI CALCOLO
A31: Indicatore | B31: Valore Insegnanti | C31: Valore Personale ATA
A32: 1 - N. di invii alla Commissione medica di verifica per problemi connessi a comportamenti o ad assenze ripetute per malattia | B32: =B5/B4 -> #DIV/0! | C32: =C5/C4 -> #DIV/0!
A33: 2 - % Rotazione del personale (Usciti/Entrati) | B33: =(B6+B7)/B4 -> #DIV/0! | C33: =(C6+C7)/C4 -> #DIV/0!
A34: 3 - N. di richieste di spostamenti interni tra classi o plassi scolastici | B34: =B8/B4 -> #DIV/0! | C34: =C8/C4 -> #DIV/0!
A35: 4 - N. di esposti o segnalazioni da parte del personale, di classi o di genitori pervenuti al DS, al DSGA, al RLS o al MC | B35: =B9/B4 -> #DIV/0! | C35: =C9/C4 -> #DIV/0!
A36: 5 - N. di procedimenti per sanzioni disciplinari | B36: =B10/B4 -> #DIV/0! | C36: =C10/C4 -> #DIV/0!
A37: 6 - N. di procedimenti per sanzioni disciplinari per il mancato rispetto del Regolamente d'Istituto da parte degl alunni | B37: =B11/B4 -> #DIV/0! | C37: =C11/C4 -> #DIV/0!
B38: Media | C38: Valore ultimo anno
A39: N° 7 Insegnanti | Indici infortunistici INSEGNANTI | B39: =(B17+C17+D17)/(B15+C15+D15) -> #DIV/0! | C39: =D17/D15 -> #DIV/0!
A40: N° 7 Personale ATA | Indici infortunistici Personale ATA | B40: =(B18+C18+D18)/(B16+C16+D16) -> #DIV/0! | C40: =D18/D16 -> #DIV/0!
A41: N. 8 % Assenze dal lavoro | B41: =(B19+C19+D19)/(B20+C20+D20) -> #DIV/0! | C41: =D19/D20 -> #DIV/0!
A42: N. 9 - % Assenze per Malattia INSEGNANTI | B42: =(B21+C21+D21)/(B15+C15+D15) -> #DIV/0! | C42: =D21/D15 -> #DIV/0!
A43: N. 9 - % Assenze per Malattia PERSONALE ATA | B43: =(B22+C22+D22)/(B16+C16+D16) -> #DIV/0! | C43: =D22/D16 -> #DIV/0!
A44: 10 - N. visite Dal MC (se nominato) su richiesta del lavoratore INSEGNANTI | B44: =(B23+C23+D23)/(B15+C15+D15) -> #DIV/0! | C44: =D23/D15 -> #DIV/0!
...

Sheet Griglia Dati Oggettivi
A1: GRIGLIA DATI OGGETTIVI
A3: Indicatore | U3: INSEGNANTI | X3: PERSONALE ATA
A4: 1 | B4: N. di invii alla Commissione medica di verifica per problemi connessi a comportamenti o ad assenze ripetute per malattia | U4: ='Inserimento Dati'!B32 -> #DIV/0! | X4: ='Inserimento Dati'!C32 -> #DIV/0! | AE4: =U4 -> #DIV/0! | AF4: =X4 -> #DIV/0!
A5: 2 | B5: % Rotazione del personale (Entrati/Usciti) | U5: ='Inserimento Dati'!B33 -> #DIV/0! | X5: ='Inserimento Dati'!C33 -> #DIV/0! | AE5: =U5 -> #DIV/0! | AF5: =X5 -> #DIV/0!
A6: 3 | B6: N. di richieste di spostamenti interni tra classi o plessi scolastici | U6: ='Inserimento Dati'!B34 -> #DIV/0! | X6: ='Inserimento Dati'!C34 -> #DIV/0! | AE6: =U6 -> #DIV/0! | AF6: =X6 -> #DIV/0!
A7: 4 | B7: N. di esposti o segnalazioni da parte del personale, di classi o di genitori pervenuti al DS, al DSGA, al RLS o al MC | U7: ='Inserimento Dati'!B35 -> #DIV/0! | X7: ='Inserimento Dati'!C35 -> #DIV/0! | AE7: =U7 -> #DIV/0! | AF7: =X7 -> #DIV/0!
A8: 5 | B8: N. di procedimenti per sanzioni disciplinari | U8: ='Inserimento Dati'!B36 -> #DIV/0! | X8: ='Inserimento Dati'!C36 -> #DIV/0! | AE8: =U8 -> #DIV/0! | AF8: =X8 -> #DIV/0!
A9: 6 | B9: N. di procedimenti per sanzioni disciplinari per il mancato rispetto del Regolamento d'Istituto da parte degli alunni | U9: ='Inserimento Dati'!B37 -> #DIV/0! | X9: ='Inserimento Dati'!C37 -> #DIV/0! | AE9: =U9 -> #DIV/0! | AF9: =X9 -> #DIV/0!
A11: Indicatore | M11: Media ultimi 3 anni | Q11: Ultimo anno
A12: 7 | B12: Indici infortunistici INSEGNANTI | M12: ='Inserimento Dati'!B39 -> #DIV/0! | Q12: ='Inserimento Dati'!C39 -> #DIV/0! | AE12: =M12 -> #DIV/0! | AF12: =Q12 -> #DIV/0!
B13: Indici infortunistici Personale ATA | M13: ='Inserimento Dati'!B40 -> #DIV/0! | Q13: ='Inserimento Dati'!C40 -> #DIV/0! | AE13: =M13 -> #DIV/0! | AF13: =Q13 -> #DIV/0!
A14: 8 | B14: % Assenze dal lavoro | M14: ='Inserimento Dati'!B41 -> #DIV/0! | Q14: ='Inserimento Dati'!C41 -> #DIV/0! | AE14: =M14 -> #DIV/0! | AF14: =Q14 -> #DIV/0!
A15: 9 | B15: % assenze per malattia INSEGNANTI | M15: ='Inserimento Dati'!B42 -> #DIV/0! | Q15: ='Inserimento Dati'!C42 -> #DIV/0! | AE15: =M15 -> #DIV/0! | AF15: =Q15 -> #DIV/0!
B16: % assenze per malattia PERSONALE ATA | M16: ='Inserimento Dati'!B43 -> #DIV/0! | Q16: ='Inserimento Dati'!C43 -> #DIV/0! | AE16: =M16 -> #DIV/0! | AF16: =Q16 -> #DIV/0!
A17: 10 | B17: N. visite Dal MC (se nominato) su richiesta del lavoratore INSEGNANTI | M17: ='Inserimento Dati'!B44 -> #DIV/0! | Q17: ='Inserimento Dati'!C44 -> #DIV/0! | AE17: =M17 -> #DIV/0! | AF17: =Q17 -> #DIV/0!
B18: N. visite Dal MC (se nominato) su richiesta del lavoratore PERSONALE ATA | M18: ='Inserimento Dati'!B45 -> #DIV/0! | Q18: ='Inserimento Dati'!C45 -> #DIV/0! | AE18: =M18 -> #DIV/0! | AF18: =Q18 -> #DIV/0!
G20: + del 50% del personale è incaricato su 1 o 2 plessi | K20: + del 50% del personale è incaricato su 3 o 4 plessi | O20: + del 50% del personale è incaricato su 5 plessi | S20: + del 50% del personale è incaricato su più di 5 plessi
A21: 11 | B21: N° lavoratore INSEGNANTI | G21: ='Inserimento Dati'!B49 -> #DIV/0! | K21: ='Inserimento Dati'!C49 -> #DIV/0! | O21: ='Inserimento Dati'!D49 -> #DIV/0! | S21: ='Inserimento Dati'!E49 -> #DIV/0! | AE21: =G21 -> #DIV/0! | AF21: =K21 -> #DIV/0! | AG21: =O21 -> #DIV/0! | AH21: =S21 -> #DIV/0!
B22: N° lavoratore PERSONALE ATA | G22: ='Inserimento Dati'!B50 -> #DIV/0! | K22: ='Inserimento Dati'!C50 -> #DIV/0! | O22: ='Inserimento Dati'!D50 -> #DIV/0! | S22: ='Inserimento Dati'!E50 -> #DIV/0! | AE22: =G22 -> #DIV/0! | AF22: =K22 -> #DIV/0! | AG22: =O22 -> #DIV/0! | AH22: =S22 -> #DIV/0!
A25: N° | B25: INDICATORE | H25: CATEGORIA | K25: Situazione Ottimale | N25: Situazione di Allerta | Q25: Situazione di Allarme | T25: PUNTEGGIO | V25: NOTE | AE25: Tabella_Dati_Formule
A26: 1 | B26: N. di invii alla Commissione medica di verifica per problemi connessi a comportamenti o ad assenze ripetute per malattia | H26: INSEGNANTI | K26: Nessun caso | N26: ≤ 10% di casi (1) | Q26: > 10% di casi (1) | T26: =AH28 -> #DIV/0!
K27: 0 Punti | N27: 3 Punti | Q27: 6 Punti
K28: =IF(U4=0, "X", "") -> #DIV/0! | N28: =IF(U4<=0.1, "X", "") -> #DIV/0! | Q28: =IF(U4>0.1, "X", "") -> #DIV/0! | AE28: =IF(K28="X", 0, 0) -> #DIV/0! | AF28: =IF(N28="X", 3, 0) -> #DIV/0! | AG28: =IF(Q28="X", 6, 0) -> #DIV/0! | AH28: =AE28+AF28+AG28 -> #DIV/0! | AJ28: =T26 -> #DIV/0!
H29: Personale ATA | K29: Nessun caso | N29: ≤ 10% di casi (2) | Q29: > 10% di casi (2) | T29: =AH31 -> #DIV/0!
K30: 0 Punti | N30: 3 Punti | Q30: 6 Punti
K31: =IF(X4=0, "X", "") -> #DIV/0! | N31: =IF(X4<=0.1, "X", "") -> #DIV/0! | Q31: =IF(X4>0.1, "X", "") -> #DIV/0! | AE31: =IF(K31="X", 0, 0) -> #DIV/0! | AF31: =IF(N31="X", 3, 0) -> #DIV/0! | AG31: =IF(Q31="X", 6, 0) -> #DIV/0! | AH31: =AE31+AF31+AG31 -> #DIV/0! | AJ31: =T29 -> #DIV/0!
A32: Si tratta degli invii alla Commissione istituita dal Ministero dell’Economia e delle Finanze in base all’art. 3, comma 3, del D.M. 12/2/2004 (“Criteri organizzativi dell’assegnazione delle domande agli organismi di accertamento sanitario …”) e all’art. 1, comma 2, del D.Lgs. 165/2001. Il GV considererà le situazioni per le quali è stata avviata la pratica nel corso dell’a.s. di riferimento per l’indagine, anche se l’iter non si è ancora concluso al momento della compilazione della griglia.
A33: 2 | B33: % Rotazione del personale (Usciti/Entrati) | H33: INSEGNANTI | K33: Nessun caso | N33: ≤ 20% di casi (1) | Q33: > 20% di casi (1) | T33: =AH35 -> #DIV/0!
K34: 0 Punti | N34: 3 Punti | Q34: 6 Punti
K35: =IF(U5=0, "X", "") -> #DIV/0! | N35: =IF(U5<=0.2, "X", "") -> #DIV/0! | Q35: =IF(U5>0.2, "X", "") -> #DIV/0! | AE35: =IF(K35="X", 0, 0) -> #DIV/0! | AF35: =IF(N35="X", 3, 0) -> #DIV/0! | AG35: =IF(Q35="X", 6, 0) -> #DIV/0! | AH35: =AE35+AF35+AG35 -> #DIV/0! | AJ35: =T33 -> #DIV/0!
H36: Personale ATA | K36: Nessun caso | N36: ≤ 10% di casi (2) | Q36: > 10% di casi (2) | T36: =AH38 -> #DIV/0!
K37: 0 Punti | N37: 3 Punti | Q37: 6 Punti
K38: =IF(X5=0, "X", "") -> #DIV/0! | N38: =IF(X5<=0.1, "X", "") -> #DIV/0! | Q38: =IF(X5>0.1, "X", "") -> #DIV/0! | AE38: =IF(K38="X", 0, 0) -> #DIV/0! | AF38: =IF(N38="X", 3, 0) -> #DIV/0! | AG38: =IF(Q38="X", 6, 0) -> #DIV/0! | AH38: =AE38+AF38+AG38 -> #DIV/0! | AJ38: =T36 -> #DIV/0!
A39: L’indicatore descrive il fenomeno del turnover e misura i movimenti effettuati dai lavoratori in termini di entrata e uscita, anche nel caso in cui uno stesso lavoratore dovesse assentarsi e rientrare [ad esempio: personale comandato] nell’arco dello stesso anno. Numeratore: è dato dal numero di entrati + il numero di usciti nell’a.s. di riferimento per l’indagine Denominatore: è dato dal numero di lavoratori complessivo del gruppo di riferimento (Insegnanti e personale ATA)
A40: 3 | B40: N. di richieste di spostamenti interni tra classi o plessi scolastici | H40: INSEGNANTI | K40: Nessun caso | N40: ≤ 10% di casi (1) | Q40: > 10% di casi (1) | T40: =AH42 -> #DIV/0!
K41: 0 Punti | N41: 2 Punti | Q41: 3 Punti
K42: =IF(U6=0, "X", "") -> #DIV/0! | N42: =IF(U6<=0.1, "X", "") -> #DIV/0! | Q42: =IF(U6>0.1, "X", "") -> #DIV/0! | AE42: =IF(K42="X", 0, 0) -> #DIV/0! | AF42: =IF(N42="X", 2, 0) -> #DIV/0! | AG42: =IF(Q42="X", 4, 0) -> #DIV/0! | AH42: =AE42+AF42+AG42 -> #DIV/0! | AJ42: =T40 -> #DIV/0!
H43: Personale ATA | K43: Nessun caso | N43: ≤ 10% di casi (2) | Q43: > 10% di casi (2) | T43: =AH45 -> #DIV/0!
K44: 0 Punti | N44: 2 Punti | Q44: 4 Punti
K45: =IF(X6=0, "X", "") -> #DIV/0! | N45: =IF(X6<=0.1, "X", "") -> #DIV/0! | Q45: =IF(X6>0.1, "X", "") -> #DIV/0! | AE45: =IF(K45="X", 0, 0) -> #DIV/0! | AF45: =IF(N45="X", 2, 0) -> #DIV/0! | AG45: =IF(Q45="X", 4, 0) -> #DIV/0! | AH45: =AE45+AF45+AG45 -> #DIV/0! | AJ45: =T43 -> #DIV/0!
...

Sheet A - Ambiente di Lavoro
A1: A – AREA AMBIENTE DI LAVORO
A4: N | B4: INDICATORE | I4: Situazione | K4: Situazione | M4: Situazione | O4: Situazione | Q4: PUNTEGGIO | R4: NOTE
I5: BUONA | K5: DISCRETA | M5: MEDIOCRE | O5: NEGATIVA | Y5: Tabella_Dati_Formule
A6: 1 | B6: Il microclima (temperatura e umidità dell’aria e presenza di sostanze inquinanti) di tutti gli ambienti è adeguato? | I6: Si, ovunque e in ogni stagione | K6: Si, ma non ovunque e non sempre | M6: No, in diversi ambienti e spesso | O6: No, in quasi tutti gli ambienti e quasi sempre | Q6: =AC8 -> 0 | AD6: =Q6 -> 0
I7: 0 Punti | K7: 1 Punto | M7: 2 Punti | O7: 3 Punti | AC7: SOMMA
Y8: =IF(I8="X", 0, 0) -> 0 | Z8: =IF(K8="X", 1, 0) -> 0 | AA8: =IF(M8="X", 2, 0) -> 0 | AB8: =IF(O8="X", 3, 0) -> 0 | AC8: =SUM(Y8:AB8) -> 0
A9: Il microclima dell’ambiente di lavoro è ritenuto uno degli elementi più importanti tra quelli che caratterizzano il benessere lavorativo e, specie negli ambienti promiscui e nel lavoro intellettuale, l’elemento cui senz’altro i lavoratori sono più sensibili ed attenti.
A10: Elementi di giudizio | D10: Valori microclimatici raggiunti nelle situazioni estreme (estate e inverno), frequenza di situazioni di disagio, concomitanza di situazioni negative (ad es. cattive situazioni microclimatiche e affollamento degli ambienti)
A11: 2 | B11: L’illuminazione (naturale e artificiale) è adeguata alle attività da svolgere? | I11: Si, sempre | K11: Si, ma non dappertutto | M11: In molti ambienti no, anche di sera | O11: Quasi ovunque no, anche di sera | Q11: =AC13 -> 0 | AD11: =Q11 -> 0
I12: 0 Punti | K12: 1 Punto | M12: 2 Punti | O12: 3 Punti | AC12: SOMMA
Y13: =IF(I13="X", 0, 0) -> 0 | Z13: =IF(K13="X", 1, 0) -> 0 | AA13: =IF(M13="X", 2, 0) -> 0 | AB13: =IF(O13="X", 3, 0) -> 0 | AC13: =SUM(Y13:AB13) -> 0
A14: L’illuminazione di un posto di lavoro è data dalla somma di quella naturale, proveniente dalle finestre, e di quella artificiale, sia generale (lampade a soffitto) che localizzata (lampade da tavolo, illuminazione dei punti di lavoro, ecc.). L’illuminazione troppo bassa produce affaticamento visivo, quella troppo alta (compreso il riverbero del sole sugli occhi) produce fastidio, distrazione e rischio di infortunio.
A15: Elementi di giudizio | D15: Valori d’illuminamento, estensione e ricorrenza delle situazioni di disagio
A16: 3 | B16: C’è riverbero (rimbombo) nelle aule, negli altri ambienti in cui si fa lezione (palestra, laboratorio), negli uffici, in mensa? | I16: No, anche se gli ambienti sono vuoti | K16: No, ma solo negli ambienti pieni | M16: Si, in tutti gli ambienti, ma solo se sono vuoti | O16: Si, in tutti gli ambienti, anche se pieni | Q16: =AC18 -> 0 | AD16: =Q16 -> 0
I17: 0 Punti | K17: 2 Punti | M17: 4 Punti | O17: 6 Punti | AC17: SOMMA
Y18: =IF(I18="X", 0, 0) -> 0 | Z18: =IF(K18="X", 2, 0) -> 0 | AA18: =IF(M18="X", 4, 0) -> 0 | AB18: =IF(O18="X", 6, 0) -> 0 | AC18: =SUM(Y18:AB18) -> 0
A19: Si dice riverbero (o rimbombo) il fenomeno della persistenza prolungata del suono in un ambiente chiuso, prima che questo venga totalmente assorbito. Il riverbero eccessivo è una delle caratteristiche ambientali più dannose ed irritanti per chi deve parlare, perché lo costringe ad alzare il tono della voce, e, contemporaneamente, è uno dei fattori che ostacola di più la trasmissione dei messaggi verbali.
A20: Elementi di giudizio | D20: Valori del riverbero, estensione e ricorrenza delle situazioni di disagio
A21: 4 | B21: Sono presenti attrezzature/strumenti (pc, lim, fotocopiatrici, stampanti..) adeguati e sufficienti per lo svolgimento del proprio lavoro? | I21: Si | K21: Sufficienti ma non sempre adeguati | M21: Adeguati ma non sufficienti | O21: Ne adeguati ne sufficienti | Q21: =AC23 -> 0 | AD21: =Q21 -> 0
I22: 0 Punti | K22: 2 Punti | M22: 4 Punti | O22: 6 Punti | AC22: SOMMA
Y23: =IF(I23="X", 0, 0) -> 0 | Z23: =IF(K23="X", 2, 0) -> 0 | AA23: =IF(M23="X", 4, 0) -> 0 | AB23: =IF(O23="X", 6, 0) -> 0 | AC23: =SUM(Y23:AB23) -> 0
A24: Il lavoratore ha a disposizione strumenti adeguati al raggiungimento del proprio compito nei tempi prefissati
A25: Elementi di giudizio | D25: Disponibilità di strumenti di lavoro funzionanti ed adeguati all’attività assegnata
A26: 5 | B26: Le aule e gli altri ambienti sono puliti e in ordine? | I26: Si, sempre | K26: Si, ma non sempre | M26: Spesso no | O26: Quasi sempre no | Q26: =AC28 -> 0 | AD26: =Q26 -> 0
I27: 0 Punti | K27: 1 Punto | M27: 2 Punti | O27: 3 Punti | AC27: SOMMA
Y28: =IF(I28="X", 0, 0) -> 0 | Z28: =IF(K28="X", 1, 0) -> 0 | AA28: =IF(M28="X", 2, 0) -> 0 | AB28: =IF(O28="X", 3, 0) -> 0 | AC28: =SUM(Y28:AB28) -> 0
A29: La carenza di decoro, di pulizia e di igiene delle aule e degli ambienti scolastici in genere viene vissuta con fastidio e con il timore (sebbene il più delle volte infondato) di infezioni e malattie.
A30: Elementi di giudizio | D30: Frequenza e accuratezza delle pulizie, regole per la tenuta degli ambienti e degli spazi, efficacia della raccolta differenziata
A31: 6 | B31: Gli spazi esterni (cortile, parco giochi, ecc.) sono sufficienti e adeguati allo scopo? | I31: Si | K31: Si, abbastanza | M31: Non del tutto | O31: Decisamente no | Q31: =AC33 -> 0 | AD31: =Q31 -> 0
I32: 0 Punti | K32: 1 Punto | M32: 2 Punti | O32: 3 Punti | AC32: SOMMA
Y33: =IF(I33="X", 0, 0) -> 0 | Z33: =IF(K33="X", 1, 0) -> 0 | AA33: =IF(M33="X", 2, 0) -> 0 | AB33: =IF(O33="X", 3, 0) -> 0 | AC33: =SUM(Y33:AB33) -> 0
A34: La carenza o l’inadeguatezza degli spazi esterni destinati ai momenti di svago (ricreazione, pausa pranzo, ecc.) o ad attività ludico-motorie (strutturate e non) è un elemento negativo avvertito soprattutto nelle scuole del I° ciclo, ma può costituire un problema anche per la gestione delle pause degli studenti delle superiori.
A35: Elementi di giudizio | D35: Dimensioni e caratteristiche (in relazione al numero di allievi), conduzione quotidiana, manutenzione e mantenimento degli spazi e delle attrezzature
A36: 7 | B36: La sede scolastica è facilmente raggiungibile dal personale (in auto o con altri mezzi) e dotata di parcheggio? | I36: Si, comodamente | K36: Si, ma dipende dall’ora in cui si arriva | M36: No, soprattutto se si arriva in certe ore | O36: No, mai | Q36: =AC38 -> 0 | AD36: =Q36 -> 0
I37: 0 Punti | K37: 1 Punto | M37: 2 Punti | O37: 3 Punti | AC37: SOMMA
Y38: =IF(I38="X", 0, 0) -> 0 | Z38: =IF(K38="X", 1, 0) -> 0 | AA38: =IF(M38="X", 2, 0) -> 0 | AB38: =IF(O38="X", 3, 0) -> 0 | AC38: =SUM(Y38:AB38) -> 0
A39: Le difficoltà per raggiungere rapidamente e senza intoppi il proprio luogo di lavoro, specie in auto e nelle prime ore del giorno, costituiscono un fattore stressogeno particolarmente avvertito da tutti i lavoratori; anche le difficoltà di parcheggio o la distanza tra il parcheggio e l’ingresso della scuola rappresentano fattori negativi.
A40: Elementi di giudizio | D40: Localizzazione della sede, servizi pubblici di trasporto, spazi di parcheggio, viabilità interna delle aree di pertinenza, rampe e scale d’accesso, ascensori
A41: 8 | B41: Gli ambienti sono strutturati tenendo conto dell’accessibilità per i disabili? | I41: Si, comodamente | K41: Si, ma dipende dall’ora in cui si arriva | M41: No, soprattutto se si arriva in certe ore | O41: No, mai | Q41: =AC43 -> 0 | AD41: =Q41 -> 0
I42: 0 Punti | K42: 1 Punto | M42: 2 Punti | O42: 3 Punti | AC42: SOMMA
...

Sheet B - Contesto del lavoro
A1: B – AREA CONTESTO DEL LAVORO
A4: N | B4: INDICATORE | I4: Situazione | K4: Situazione | M4: Situazione | O4: Situazione | Q4: PUNTEGGIO | R4: NOTE
I5: BUONA | K5: DISCRETA | M5: MEDIOCRE | O5: NEGATIVA | Y5: Tabella_Dati_Formule
A6: 1 | B6: Il regolamento d’istituto è conosciuto e rispettato da tutto il personale scolastico e l’utenza (alunni e famiglie)? | I6: Si, viene tenuto sempre presente da tutti | K6: Generalmente si, ma a volte qualcuno non lo applica | M6: No, c’è chi lo applica e chi no | O6: No, quasi nessuno se ne ricorda | Q6: =AC8 -> 0 | AE6: =Q6 -> 0
I7: 0 Punti | K7: 2 Punti | M7: 4 Punti | O7: 6 Punti | AC7: SOMMA
Y8: =IF(I8="X", 0, 0) -> 0 | Z8: =IF(K8="X", 2, 0) -> 0 | AA8: =IF(M8="X", 4, 0) -> 0 | AB8: =IF(O8="X", 6, 0) -> 0 | AC8: =SUM(Y8:AB8) -> 0
A9: Una delle principali fonti di disagio lavorativo, evidenziata anche nei focus e nelle interviste effettuate sul tema, è legata alla distanza tra le regole scritte e condivise e i comportamenti reali che vengono praticati, in particolare quando l’impressione che ne trae il lavoratore è che le regole siano state scritte solo per assolvere ad un obbligo formale.
A10: Elementi di giudizio | D10: Modalità di definizione, aggiornamento e diffusione del regolamento, evidenze e informazioni sul rispetto del regolamento da tutte le componenti scolastiche e dagli allievi
A11: 2 | B11: I criteri per l’assegnazione degli insegnanti alle classi sono condivisi? | I11: Si, sono condivisi e, quando possibile, rispettati | K11: Si, sono condivisi, ma per vari motivi non sempre rispettati | M11: No, sono condivisi solo in linea teorica | O11: No, non sono condivisi ne rispettati | Q11: =AC13 -> 0 | AE11: =Q11 -> 0
I12: 0 Punti | K12: 1 Punto | M12: 2 Punti | O12: 3 Punti | AC12: SOMMA
Y13: =IF(I13="X", 0, 0) -> 0 | Z13: =IF(K13="X", 1, 0) -> 0 | AA13: =IF(M13="X", 2, 0) -> 0 | AB13: =IF(O13="X", 3, 0) -> 0 | AC13: =SUM(Y13:AB13) -> 0
A14: Il gruppo classe costituisce, per ogni insegnante, l’oggetto prioritario del proprio lavoro e la parte preponderante del proprio impegno, in termini sia fisici che psicologici; logico quindi che l’insegnante attribuisca a questo aspetto una particolare valenza.
A15: Elementi di giudizio | D15: Modalità di definizione, aggiornamento e diffusione dei criteri di assegnazione degli insegnanti alle classi, modalità per declinare la condivisione dei criteri (Collegio Docenti, Dipartimenti, cc.d.c./team, ecc.)
A16: 3 | B16: L’organizzazione dell’orario di lavoro del personale, prevede una rotazione tale da facilitare chi lavora su più plessi? | I16: Si, sempre | K16: Generalmente si | M16: Spesso no | O16: No, non è consuetudine neanche avanzarle | Q16: =AC18 -> 0 | AE16: =Q16 -> 0
I17: 0 Punti | K17: 2 Punti | M17: 4 Punti | O17: 6 Punti | AC17: SOMMA
Y18: =IF(I18="X", 0, 0) -> 0 | Z18: =IF(K18="X", 2, 0) -> 0 | AA18: =IF(M18="X", 4, 0) -> 0 | AB18: =IF(O18="X", 6, 0) -> 0 | AC18: =SUM(Y18:AB18) -> 0
A19: La programmazione dell’orario di lavoro tiene conto delle esigenze del personale, a partire da che opera su più plessi
A20: Elementi di giudizio | D20: Raccolta delle richieste, limiti e/o vincoli alle richieste (es. limitazioni), organizzazione del lavoro a rotazione
A21: 4 | B21: Le circolari emesse dal DS sono adeguate? | I21: Si, sono chiare e puntuali | K21: Si, sono chiare, anche se a volte risultano troppo numerose | M21: No, a volte sono poco chiare o carenti di informazioni | O21: No, spesso mancano informazioni o non sono chiare | Q21: =AC23 -> 0 | AE21: =Q21 -> 0
I22: 0 Punti | K22: 1 Punto | M22: 2 Punti | O22: 3 Punti | AC22: SOMMA
Y23: =IF(I23="X", 0, 0) -> 0 | Z23: =IF(K23="X", 1, 0) -> 0 | AA23: =IF(M23="X", 2, 0) -> 0 | AB23: =IF(O23="X", 3, 0) -> 0 | AC23: =SUM(Y23:AB23) -> 0
A24: Le circolari costituiscono uno strumento informativo interno di fondamentale importanza; alla trasmissione scritta delle informazioni, delle comunicazioni e delle scelte del DS i lavoratori tendono a dare un peso maggiore.
A25: Elementi di giudizio | D25: Numero complessivo annuo delle circolari e loro distribuzione nel tempo, modalità di diffusione, proprietà caratteristiche (formato, leggibilità, comprensibilità, ecc.), sovrapposizione o ridondanza
A26: 5 | B26: I ruoli e i compiti delle persone con funzioni specifiche sono definiti e noti a tutto il personale? | I26: Si, e l’organigramma è molto chiaro e preciso | K26: Si, anche se l’organigramma non è sempre chiaro e preciso | M26: No, l’organigramma è sintetico e i ruoli sono poco chiari | O26: No, non c’è alcun organigramma e ruoli e compiti sono confusi | Q26: =AC28 -> 0 | AE26: =Q26 -> 0
I27: 0 Punti | K27: 1 Punto | M27: 2 Punti | O27: 3 Punti | AC27: SOMMA
Y28: =IF(I28="X", 0, 0) -> 0 | Z28: =IF(K28="X", 1, 0) -> 0 | AA28: =IF(M28="X", 2, 0) -> 0 | AB28: =IF(O28="X", 3, 0) -> 0 | AC28: =SUM(Y28:AB28) -> 0
A29: In un’organizzazione complessa sapere “chi fa che cosa” semplifica il lavoro, ne ottimizza l’esecuzione e agevola le relazioni ed i rapporti interpersonali; questo obiettivo può facilmente essere raggiunto predisponendo un organigramma per ruoli e compiti.
A30: Elementi di giudizio | D30: Modalità di creazione, aggiornamento e diffusione dell’organigramma per ruoli e compiti
A31: 6 | B31: Le istruzioni e le indicazioni per lo svolgimento del proprio lavoro sono chiare, coerenti e precise? | I31: Si, ognuno sa sempre cosa deve fare | K31: Generalmente si, ma a volte bisogna interpretarle | M31: No, diverse volte sono poco precise e contraddittorie | O31: No, sono imprecise e contraddittorie | Q31: =AC33 -> 0 | AE31: =Q31 -> 0
I32: 0 Punti | K32: 1 Punto | M32: 2 Punti | O32: 3 Punti | AC32: SOMMA
Y33: =IF(I33="X", 0, 0) -> 0 | Z33: =IF(K33="X", 1, 0) -> 0 | AA33: =IF(M33="X", 2, 0) -> 0 | AB33: =IF(O33="X", 3, 0) -> 0 | AC33: =SUM(Y33:AB33) -> 0
A34: L’organizzazione del lavoro, in particolare di contesti ad alto livello di turnover, richiede la presenza di istruzioni operative chiare e standard
A35: Elementi di giudizio | D35: Modalità di definizione e diffusione delle istruzioni sulle cose da fare, tempestività delle richieste (ad es. programmazione anticipata dei lavori importanti)
A36: 7 | B36: Gli obiettivi e le priorità del lavoro vengono condivisi? | I36: Si, sia all’inizio dell’anno sia periodicamente | K36: Si, all’inizio dell’anno, poi però a volte vengono modificati | M36: No, vengono condivisi all’inizio dell’anno, ma poi spesso modificati | O36: No, il sistema è quello di dare solo istruzioni, man mano che servono | Q36: =AC38 -> 0 | AE36: =Q36 -> 0
I37: 0 Punti | K37: 2 Punti | M37: 4 Punti | O37: 6 Punti | AC37: SOMMA
Y38: =IF(I38="X", 0, 0) -> 0 | Z38: =IF(K38="X", 2, 0) -> 0 | AA38: =IF(M38="X", 4, 0) -> 0 | AB38: =IF(O38="X", 6, 0) -> 0 | AC38: =SUM(Y38:AB38) -> 0
A39: A partire dalla politica scolastica che il DS intende perseguire e passando per gli obiettivi di medio-lungo termine (pluriennali) e di breve-medio termine (l’anno scolastico o il quadrimestre), le parole d’ordine sono trasparenza, condivisione e individuazione delle priorità.
A40: Elementi di giudizio | D40: Modalità di definizione, aggiornamento e diffusione degli obiettivi, esplicitazione delle priorità, modalità per declinare la condivisione degli obiettivi, verifiche sull’effettuazione delle attività coerenti con gli obiettivi
A41: 8 | B41: Esistono momenti strutturati di incontro individuale con il DS? | I41: Si, fa tutto il possibile | K41: Generalmente si, giornate e orari di disponibilità formalizzati | M41: Generalmente no | O41: No, ascolta veramente poco e con fatica | Q41: =AC43 -> 0 | AE41: =Q41 -> 0
I42: 0 Punti | K42: 1 Punto | M42: 2 Punti | O42: 3 Punti | AC42: SOMMA
...

Sheet C1 - Insegnanti
A1: C1 – AREA CONTENUTO DEL LAVORO – PERSONALE INSEGNANTE
A4: N | B4: INDICATORE | I4: Situazione | K4: Situazione | M4: Situazione | O4: Situazione | Q4: PUNTEGGIO | R4: NOTE
I5: BUONA | K5: DISCRETA | M5: MEDIOCRE | O5: NEGATIVA | Y5: Tabella_Dati_Formule
A6: 1 | B6: C’è coerenza e condivsione all’interno del singolo team sui criteri di valutazione dell’apprendimento e comportamento degli allievi? | I6: Si, c’è coerenza e piena condivisione | K6: Generalmente si, ma qualche problema può nascere | M6: No, non sempre e i problemi emergono agli scrutini | O6: No, gli insegnanti si trovano spesso in totale disaccordo tra loro | Q6: =AC8 -> 0 | AE6: =Q6 -> 0
I7: 0 Punti | K7: 2 Punti | M7: 4 Punti | O7: 6 Punti | AC7: SOMMA
Y8: =IF(I8="X", 0, 0) -> 0 | Z8: =IF(K8="X", 2, 0) -> 0 | AA8: =IF(M8="X", 4, 0) -> 0 | AB8: =IF(O8="X", 6, 0) -> 0 | AC8: =SUM(Y8:AB8) -> 0
A9: Una parte non trascurabile dei problemi e dei possibili attriti tra colleghi, all’interno dello stesso team, nascono dal fatto di possedere opinioni anche molto diversificate rispetto alla valutazione dell’apprendimento degli allievi, specie quando si giunge alla stretta finale degli scrutini; la condivisione dei criteri di valutazione dell’apprendimento e della condotta costituisce inoltre un importante punto di forza del team nei rapporti a volte conflittuali con le famiglie e con gli stessi allievi, contribuendo non poco a migliorarli.
A10: Elementi di giudizio | D10: Modalità di definizione, aggiornamento e diffusione dei criteri di valutazione, livello medio di conflittualità all’interno dei team sulla valutazione degli allievi, numerosità degli interventi mediatori del DS durante gli scrutini
A11: 2 | B11: I principi e i messaggi educativi sono condivisi ed applicati all’interno dei cc.d.c./team? | I11: Si, c’è piena condivisione e applicazione | K11: Generalmente sono condivisi ma non sempre applicati | M11: Pur essendo condivisi sono sistematicamente disapplicati da qualcuno | O11: No, gli insegnanti si trovano spesso in totale disaccordo tra loro | Q11: =AC13 -> 0 | AE11: =Q11 -> 0
I12: 0 Punti | K12: 1 Punto | M12: 2 Punti | O12: 3 Punti | AC12: SOMMA
Y13: =IF(I13="X", 0, 0) -> 0 | Z13: =IF(K13="X", 1, 0) -> 0 | AA13: =IF(M13="X", 2, 0) -> 0 | AB13: =IF(O13="X", 3, 0) -> 0 | AC13: =SUM(Y13:AB13) -> 0
A14: Un altro ambito che tipicamente può portare a problemi relazionali e a contrasti tra colleghi, all’interno dello stesso cc.d.c./team, riguarda le regole educative da trasmettere agli allievi, i confini del lecito a scuola, lo stile educativo (spesso molto diversificato per importanza data a certi comportamenti o per qualità del rapporto docente/discente
A15: Elementi di giudizio | D15: Modalità di definizione, discussione e diffusione delle regole educative (anche ad allievi e famiglie), livello medio di conflittualità all’interno dei cc.d.c./team sulle regole comportamentali ed educative, numerosità degli interventi mediatori o censori del DS
A16: 3 | B16: Il DS valuta il ruolo educativo degli insegnanti in modo coerente ed oggettivo? | I16: Si, sempre e oggettivamente | K16: Si, con continuità | M16: No, saltuariamente | O16: No, mai | Q16: =AC18 -> 0 | AE16: =Q16 -> 0
I17: 0 Punti | K17: 2 Punti | M17: 4 Punti | O17: 6 Punti | AC17: SOMMA
Y18: =IF(I18="X", 0, 0) -> 0 | Z18: =IF(K18="X", 2, 0) -> 0 | AA18: =IF(M18="X", 4, 0) -> 0 | AB18: =IF(O18="X", 6, 0) -> 0 | AC18: =SUM(Y18:AB18) -> 0
A19: La letteratura specifica di ambito scolastico sottolinea l’importanza del ruolo attivo del DS nel supportare le “battaglie” che, quotidianamente, gli insegnanti devono affrontare sul versante educativo, sia in classe che nel rapporto spesso difficile con le famiglie dei propri allievi; in molti casi viene evidenziato il mancato ruolo di supporto da parte del DS, quando comunque il comportamento della famiglia non è giustificato e giustificabile.
A20: Elementi di giudizio | D20: Ruolo del DS nei conflitti insegnante/famiglia o insegnante/allievo
A21: 4 | B21: All’interno dei cc.d.c./team c’è sostegno reciproco rispetto a situazioni didatticamente o educativamente difficili? | I21: Si, c’è sempre grande sintonia e aiuto reciproco | K21: Generalmente si, ma più facilmente sul versante didattico | M21: No, solo tra i colleghi che hanno simpatia reciproca | O21: No, ognuno tende a lavorare da solo e non si interessa degli altr | Q21: =AC23 -> 0 | AE21: =Q21 -> 0
I22: 0 Punti | K22: 2 Punti | M22: 4 Punti | O22: 6 Punti | AC22: SOMMA
Y23: =IF(I23="X", 0, 0) -> 0 | Z23: =IF(K23="X", 2, 0) -> 0 | AA23: =IF(M23="X", 4, 0) -> 0 | AB23: =IF(O23="X", 6, 0) -> 0 | AC23: =SUM(Y23:AB23) -> 0
A24: La letteratura evidenzia come molti casi di sindrome di burn-out tra gli insegnanti abbiano origine dal senso di isolamento con cui affrontano il proprio rapporto con le classi o i singoli allievi difficili, sia sul versante della didattica, sia soprattutto sul versante educativo e relazionale
A25: Elementi di giudizio | D25: Formalizzazione delle situazioni difficili, modalità di collaborazione e/o sostegno tra pari, numerosità degli interventi mediatori del DS
A26: 5 | B26: Vengono organizzati incontri tra insegnanti a carattere interdisciplinare? | I26: Si, in numero e secondo tempistiche adeguati | K26: Si, ma in numero e secondo tempistiche non sempre adeguati | M26: Sì, ma in numero non adeguato | O26: Raramente e secondo temopistiche indadeguate | Q26: =AC28 -> 0 | AE26: =Q26 -> 0
I27: 0 Punti | K27: 1 Punto | M27: 2 Punti | O27: 3 Punti | AC27: SOMMA
Y28: =IF(I28="X", 0, 0) -> 0 | Z28: =IF(K28="X", 1, 0) -> 0 | AA28: =IF(M28="X", 2, 0) -> 0 | AB28: =IF(O28="X", 3, 0) -> 0 | AC28: =SUM(Y28:AB28) -> 0
A29: Spesso gli insegnanti avvertono la sensazione di lavorare da soli e di non avere a disposizione dei momenti per il confronto; questo fattore è diventato ancora più importante da quando ha assunto un ruolo centrale la programmazione per competenze dell’intero Collegio Docenti e del c.d.c., programmazione che si fonda sulla definizione di unità di apprendimento interdisciplinari.
A30: Elementi di giudizio | D30: Modalità di organizzazione degli incontri interdisciplinari (ad es. tra chi, con quali obiettivi, con che tempi, con che strumenti/materiali di riferimento, chi conduce, ecc.), numerosità ed efficacia degli incontri interdisciplinari, modalità di diffusione e di consultazione delle programmazioni e dei materiali (individuali, di c.d.c./team, di dipartimento)
A31: 6 | B31: Per la formazione delle classi iniziali, vengono applicati dei criteri condivisi? | I31: Si, condivisi e trasparenti | K31: Generalmente si | M31: Generalmente no, ci sono alcuni criteri ma spesso vengono disattesi | O31: No | Q31: =AC33 -> 0 | AE31: =Q31 -> 0
I32: 0 Punti | K32: 2 Punti | M32: 4 Punti | O32: 6 Punti | AC32: SOMMA
Y33: =IF(I33="X", 0, 0) -> 0 | Z33: =IF(K33="X", 2, 0) -> 0 | AA33: =IF(M33="X", 4, 0) -> 0 | AB33: =IF(O33="X", 6, 0) -> 0 | AC33: =SUM(Y33:AB33) -> 0
A34: La creazione delle classi iniziali rappresenta una fase delicata e fondamentale. Un’attenta valutazione del livello di partenza dei nuovi iscritti ed una corretta aggregazione degli alunni, tale da rendere le classi omogenee anche sotto il profilo della numerosità dei ragazzi con bisogni educativi speciali e/o con disabilità e/o con storie di migrazione, permettono di condurre il processo educativo e formativo degli alunni in modo più efficiente.
A35: Elementi di giudizio | D35: Modalità di definizione, aggiornamento e diffusione dei criteri di formazione delle classi iniziali, modalità per declinare la condivisione dei criteri
A36: 7 | B36: Sono previste attività di recupero tese a migliorare la conoscenza della lingua italiana per gli allievi stranieri? | I36: Si, inserite nel PTOF e coordinate da una FS | K36: Si, inserite nel PTOF e affidate agli insegnanti più sensibili con le competenze adeguate | M36: No, il PTOF non le prevede, ma ci sono diversi insegnanti che lo fanno | O36: Il PTOF non le prevede e se ne occupano solo gli insegnanti che hanno il problema | Q36: =AC38 -> 0 | AE36: =Q36 -> 0
I37: 0 Punti | K37: 1 Punto | M37: 2 Punti | O37: 3 Punti | AC37: SOMMA
Y38: =IF(I38="X", 0, 0) -> 0 | Z38: =IF(K38="X", 1, 0) -> 0 | AA38: =IF(M38="X", 2, 0) -> 0 | AB38: =IF(O38="X", 3, 0) -> 0 | AC38: =SUM(Y38:AB38) -> 0
A39: Dal punto di vista dell’insegnante tenuto a fare lezione ad una classe, la presenza di un numero elevato di allievi non italiofoni costituisce un problema, seppur circoscritto al solo ambito professionale.
A40: Elementi di giudizio | D40: Progetti o percorsi d’accoglienza e “in itinere”, verifica delle competenze linguistiche in ingresso, risorse dedicate
A41: 8 | B41: La comunicazione tra scuola alunni e famiglie è efficace e trasparente? | I41: Si, le informazioni sono numerose, dettagliate e distribuite nel tempo | K41: Si, vengono date adeguate informazioni, ma prevalentemente all’inizio dell’anno | M41: No, se ne accenna solo in alcune occasioni | O41: No, se ne accenna solo all’inizio dell’anno e poi basta | Q41: =AC43 -> 0 | AE41: =Q41 -> 0
I42: 0 Punti | K42: 1 Punto | M42: 2 Punti | O42: 3 Punti | AC42: SOMMA
...

Sheet C2 - Amministrativi
A1: C2 – AREA CONTENUTO DEL LAVORO – PERSONALE AMMINISTRATIVO
A4: N | B4: INDICATORE | I4: Situazione | K4: Situazione | M4: Situazione | O4: Situazione | Q4: PUNTEGGIO | R4: NOTE
I5: BUONA | K5: DISCRETA | M5: MEDIOCRE | O5: NEGATIVA | Y5: Tabella_Dati_Formule
A6: 11 | B6: Le mansioni da svolgere sono ben definite e circoscritte? | I6: Si, ognuno ha le sue e sa bene cosa deve fare | K6: Generalmente si, ma a volte capitano delle cose che non si sa a chi spettano | M6: Spesso no, ci si deve mettere d’accordo su chi le fa | O6: No, ognuno fa quel che vuole | Q6: =AC8 -> 0 | AF6: =Q6 -> 0
I7: 0 Punti | K7: 2 Punti | M7: 4 Punti | O7: 6 Punti | AC7: SOMMA
Y8: =IF(I8="X", 0, 0) -> 0 | Z8: =IF(K8="X", 2, 0) -> 0 | AA8: =IF(M8="X", 4, 0) -> 0 | AB8: =IF(O8="X", 6, 0) -> 0 | AC8: =SUM(Y8:AB8) -> 0
A9: In un’organizzazione complessa, la chiarezza del proprio ruolo e di quello che compete a ciascun lavoratore all’interno di un piccolo gruppo coeso (come tutti gli amministrativi della stessa segreteria) costituiscono fattori importanti per la qualità del lavoro.
A10: Elementi di giudizio | D10: Organigramma dei ruoli e delle funzioni, sovrapposizioni o ridondanze
A11: 12 | B11: Il lavoro può procedere senza interruzioni? | I11: Si, salvo eccezioni veramente rare | K11: Generalmente si, ma qualche volta capita | M11: Generalmente no, spesso capita che si venga interrotti per fare altro | O11: No, vi sono continue interruzioni e distrazioni | Q11: =AC13 -> 0 | AF11: =Q11 -> 0
I12: 0 Punti | K12: 2 Punti | M12: 4 Punti | O12: 6 Punti | AC12: SOMMA
Y13: =IF(I13="X", 0, 0) -> 0 | Z13: =IF(K13="X", 2, 0) -> 0 | AA13: =IF(M13="X", 4, 0) -> 0 | AB13: =IF(O13="X", 6, 0) -> 0 | AC13: =SUM(Y13:AB13) -> 0
A14: Per chiunque svolga un lavoro prevalentemente intellettuale (in questo caso il personale amministrativo), le interruzioni sono deleterie perché affaticano moltissimo la mente.
A15: Elementi di giudizio | D15: Numero di telefonate cui rispondere, accesso diretto alle segreterie da parte dell’altro personale della scuola
A16: 13 | B16: Lo svolgimento del proprio lavoro quotidiano permette di eseguire un compito alla volta? | I16: Si, sempre | K16: Generalmente si, con qualche eccezione | M16: Generalmente no, più volte capita di dover fare due cose contemporaneamente | O16: No, capita spessissimo di dover fare più cose contemporaneamente | Q16: =AC18 -> 0 | AF16: =Q16 -> 0
I17: 0 Punti | K17: 1 Punto | M17: 2 Punti | O17: 3 Punti | AC17: SOMMA
Y18: =IF(I18="X", 0, 0) -> 0 | Z18: =IF(K18="X", 1, 0) -> 0 | AA18: =IF(M18="X", 2, 0) -> 0 | AB18: =IF(O18="X", 3, 0) -> 0 | AC18: =SUM(Y18:AB18) -> 0
A19: L’accavallarsi delle attività che devono essere svolte contemporaneamente induce affaticamento mentale, specie in chi svolge lavoro intellettuale.
A20: Elementi di giudizio | D20: Livello di sovrapposizione di cose da fare e frequenza dei momenti in cui ciò accade
A21: 14 | B21: La quantità quotidiana di lavoro da svolgere è prevedibile? | I21: Si, all’inizio della giornata si sa sempre cosa si dovrà fare | K21: Generalmente si, con qualche eccezione | M21: No, ci sono spesso delle emergenze che sovraccaricano di lavoro | O21: No, è una continua emergenza, inizi la giornata e può capitare di tutto | Q21: =AC23 -> 0 | AF21: =Q21 -> 0
I22: 0 Punti | K22: 2 Punti | M22: 4 Punti | O22: 6 Punti | AC22: SOMMA
Y23: =IF(I23="X", 0, 0) -> 0 | Z23: =IF(K23="X", 2, 0) -> 0 | AA23: =IF(M23="X", 4, 0) -> 0 | AB23: =IF(O23="X", 6, 0) -> 0 | AC23: =SUM(Y23:AB23) -> 0
A24: La letteratura riferisce il potenziale stressogeno di situazioni consolidate in cui il carico di lavoro quotidiano è soggetto ad ampie ed imprevedibili escursioni.
A25: Elementi di giudizio | D25: Ricorrenza e durata delle situazioni d’emergenza, che richiedono un sovraccarico di lavoro
A26: 15 | B26: Il lavoro assegnato in modalità agile | I26: E’ programmato su obiettivi concordati | K26: E’ programmato in buona parte | M26: È programmato ma non comunicata la disponibilità oraria | O26: Non c’è programmazione né di attività né di disponibilità oraria | Q26: =AC28 -> 0 | AF26: =Q26 -> 0
I27: 0 Punti | K27: 2 Punti | M27: 4 Punti | O27: 6 Punti | AC27: SOMMA
Y28: =IF(I28="X", 0, 0) -> 0 | Z28: =IF(K28="X", 2, 0) -> 0 | AA28: =IF(M28="X", 4, 0) -> 0 | AB28: =IF(O28="X", 6, 0) -> 0 | AC28: =SUM(Y28:AB28) -> 0
A29: Il lavoro in modalità agile prevede fiducia ed autonomia nella gestione delle attività affidate. La programmazione e la chiara identificazione di obiettivi e modalità di esecuzione sono fattori importanti per la qualità del lavoro del singolo e del gruppo di appartenenza. Nel caso in cui non sia attivato, indicare nelle note e mettere X nella casella 0 punti
A30: Elementi di giudizio | D30: Piano di attività con obiettivi individuali e di gruppo, dotazione strumenti tecnologici
A31: 16 | B31: C’è coerenza tra le richieste del DS e quelle del DSGA? | I31: Si, sempre | K31: Generalmente si, con qualche eccezione | M31: No, spesso c’è contrasto, specie sulle priorità da dare a certe cose | O31: No, quasi mai sono coerenti, specie sui tempi e sulle priorità | Q31: =AC33 -> 0 | AF31: =Q31 -> 0
I32: 0 Punti | K32: 1 Punto | M32: 2 Punti | O32: 3 Punti | AC32: SOMMA
Y33: =IF(I33="X", 0, 0) -> 0 | Z33: =IF(K33="X", 1, 0) -> 0 | AA33: =IF(M33="X", 2, 0) -> 0 | AB33: =IF(O33="X", 3, 0) -> 0 | AC33: =SUM(Y33:AB33) -> 0
A34: Una fonte di stress può nascere dal contrasto tra le esigenze o le consegne attribuite dal DS al singolo impiegato e quelle stabilite nel mansionario o impartite dal DSGA.
A35: Elementi di giudizio | D35: Coerenza della richiesta del DS al singolo amministrativo con il ruolo di quest’ultimo all’interno dell’organizzazione dell’ufficio, sovrapposizione di conferimento d’incarichi specifici tra DS e DSGA
A36: 17 | B36: Il software a disposizione è di facile impiego? | I36: Si, non si blocca e c’è sempre il tempo per imparare ad usarlo | K36: Si, ma a volte si blocca e quello nuovo non arriva con largo anticipo | M36: No, spesso si blocca e quello nuovo arriva tardi | O36: No, si blocca spessissimo e quello nuovo arriva all’ultimo momento | Q36: =AC38 -> 0 | AF36: =Q36 -> 0
I37: 0 Punti | K37: 1 Punto | M37: 2 Punti | O37: 3 Punti | AC37: SOMMA
Y38: =IF(I38="X", 0, 0) -> 0 | Z38: =IF(K38="X", 1, 0) -> 0 | AA38: =IF(M38="X", 2, 0) -> 0 | AB38: =IF(O38="X", 3, 0) -> 0 | AC38: =SUM(Y38:AB38) -> 0
A39: Il punto dolente del lavoro al computer non è più l’obsolescenza delle macchine (hardware), ma la difficoltà di gestire il software, vuoi perché la macchina non riesce a farlo girare (bloccandosi spesso), vuoi perché è richiesto il collegamento ad internet (spesso lentissimo), vuoi perché l’operatore non ha ancora dimestichezza con il programma.
A40: Elementi di giudizio | D40: Qualità e velocità della connessione internet, frequenza dei guasti o blocchi della connessione, frequenza della modifica del software da utilizzare, assistenza tecnica, addestramento all’uso di nuovo software
A41: 18 | B41: Il DSGA supporta il personale quando bisogna affrontare nuove procedure di lavoro o applicare una nuova normativa? | I41: Si, sempre, con cura e professionalità | K41: Si, anche se a volte un po’ frettolosamente | M41: Non sempre, a volte se ne disinteressa | O41: Quasi mai e solo se si insiste | Q41: =AC43 -> 0 | AF41: =Q41 -> 0
I42: 0 Punti | K42: 2 Punti | M42: 4 Punti | O42: 6 Punti | AC42: SOMMA
...

Sheet C3 - Ausiliari
A1: C3 – AREA CONTENUTO DEL LAVORO – PERSONALE AUSILIARIO
A4: N | B4: INDICATORE | I4: Situazione | K4: Situazione | M4: Situazione | O4: Situazione | Q4: PUNTEGGIO | R4: NOTE
I5: BUONA | K5: DISCRETA | M5: MEDIOCRE | O5: NEGATIVA | Y5: Tabella_Dati_Formule
A6: 19 | B6: Le mansioni da svolgere sono ben definite e circoscritte? | I6: Si, ognuno ha le sue e sa bene cosa deve fare | K6: Generalmente si, ma a volte capitano delle cose che non si sa a chi spettano | M6: Spesso no, ci si deve mettere d’accordo su chi le fa | O6: No, c’è parecchia confusione e ognuno fa quel che vuole | Q6: =AC8 -> 0 | AG6: =Q6 -> 0
I7: 0 Punti | K7: 2 Punti | M7: 4 Punti | O7: 6 Punti | AC7: SOMMA
Y8: =IF(I8="X", 0, 0) -> 0 | Z8: =IF(K8="X", 2, 0) -> 0 | AA8: =IF(M8="X", 4, 0) -> 0 | AB8: =IF(O8="X", 6, 0) -> 0 | AC8: =SUM(Y8:AB8) -> 0
A9: In un’organizzazione complessa, la chiarezza del proprio ruolo e di quello che compete a ciascun lavoratore all’interno di un piccolo gruppo coeso (come tutti i collaboratori dello stesso plesso) costituiscono fattori importanti per la qualità del lavoro
A10: Elementi di giudizio | D10: Organigramma dei ruoli, delle funzioni e delle zone di pertinenza, sovrapposizioni di più incarichi
A11: 20 | B11: Il lavoro può procedere senza interruzioni? | I11: Si, salvo eccezioni veramente rare | K11: Generalmente si, ma qualche volta capita che si venga interrotti per fare altro | M11: Generalmente no, spesso capita che si venga interrotti per fare altro | O11: No, vi sono continue interruzioni e distrazioni | Q11: =AC13 -> 0 | AG11: =Q11 -> 0
I12: 0 Punti | K12: 2 Punti | M12: 4 Punti | O12: 6 Punti | AC12: SOMMA
Y13: =IF(I13="X", 0, 0) -> 0 | Z13: =IF(K13="X", 2, 0) -> 0 | AA13: =IF(M13="X", 4, 0) -> 0 | AB13: =IF(O13="X", 6, 0) -> 0 | AC13: =SUM(Y13:AB13) -> 0
A14: Per chiunque stia svolgendo un lavoro, anche materiale, le interruzioni possono infastidire.
A15: Elementi di giudizio | D15: Frequenza e durata delle interruzioni lunghe (ad es. durante un lavoro particolare di pulizia o di manutenzione fermarsi per portare una circolare nelle classi)
A16: 21 | B16: Lo svolgimento del proprio lavoro quotidiano permette di eseguire un compito alla volta? | I16: Si, sempre | K16: Generalmente si, con qualche eccezione | M16: Generalmente no, più volte capita di dover fare due cose contemporaneamente | O16: No, capita spessissimo di dover fare più cose contemporaneamente | Q16: =AC18 -> 0 | AG16: =Q16 -> 0
I17: 0 Punti | K17: 1 Punto | M17: 2 Punti | O17: 3 Punti | AC17: SOMMA
Y18: =IF(I18="X", 0, 0) -> 0 | Z18: =IF(K18="X", 1, 0) -> 0 | AA18: =IF(M18="X", 2, 0) -> 0 | AB18: =IF(O18="X", 3, 0) -> 0 | AC18: =SUM(Y18:AB18) -> 0
A19: L’accavallarsi delle attività che devono essere svolte contemporaneamente induce affaticamento.
A20: Elementi di giudizio | D20: Livello di sovrapposizione di cose da fare e frequenza dei momenti in cui ciò accade
A21: 22 | B21: La quantità quotidiana di lavoro da svolgere è prevedibile? | I21: Si, all’inizio della giornata si sa sempre cosa si dovrà fare | K21: Generalmente si, con qualche eccezione | M21: No, ci sono spesso delle emergenze che sovraccaricano di lavoro | O21: No, è una continua emergenza, inizi la giornata e può capitare di tutto | Q21: =AC23 -> 0 | AG21: =Q21 -> 0
I22: 0 Punti | K22: 1 Punto | M22: 2 Punti | O22: 3 Punti | AC22: SOMMA
Y23: =IF(I23="X", 0, 0) -> 0 | Z23: =IF(K23="X", 1, 0) -> 0 | AA23: =IF(M23="X", 2, 0) -> 0 | AB23: =IF(O23="X", 3, 0) -> 0 | AC23: =SUM(Y23:AB23) -> 0
A24: La letteratura riferisce il potenziale stressogeno di situazioni consolidate in cui il carico di lavoro quotidiano è soggetto ad ampie ed imprevedibili escursioni.
A25: Elementi di giudizio | D25: Ricorrenza e durata delle situazioni d’emergenza, che richiedono un sovraccarico di lavoro
A26: 23 | B26: C’è coerenza tra le richieste del DS e quelle del DSGA? | I26: Si, sempre | K26: Generalmente si, con qualche eccezione | M26: No, spesso c’è contrasto, specie sulle priorità da dare a certe cose | O26: No, quasi mai sono coerenti, specie sui tempi e sulle priorità | Q26: =AC28 -> 0 | AG26: =Q26 -> 0
I27: 0 Punti | K27: 2 Punti | M27: 4 Punti | O27: 6 Punti | AC27: SOMMA
Y28: =IF(I28="X", 0, 0) -> 0 | Z28: =IF(K28="X", 2, 0) -> 0 | AA28: =IF(M28="X", 4, 0) -> 0 | AB28: =IF(O28="X", 6, 0) -> 0 | AC28: =SUM(Y28:AB28) -> 0
A29: Una fonte di stress può nascere dal contrasto tra le esigenze o le consegne attribuite dal DS al singolo collaboratore e quelle stabilite nel mansionigramma o impartite dal DSGA.
A30: Elementi di giudizio | D30: Coerenza della richiesta del DS al singolo collaboratore con i compiti abituali di quest’ultimo all’interno dell’organizzazione scolastica, sovrapposizione di conferimento d’incarichi specifici tra DS e DSGA
A31: 24 | B31: Le macchine e le attrezzature a disposizione sono di facile impiego? | I31: Si, generalmente non ci sono problemi | K31: Generalmente si, ma ci sono anche quelle molto vecchie e faticose da gestire | M31: Diverse volte no, alcune non hanno le istruzioni e altre sono molto vecchie | O31: Decisamente no, le macchine e le attrezzature creano moltissimi problemi | Q31: =AC33 -> 0 | AG31: =Q31 -> 0
I32: 0 Punti | K32: 1 Punto | M32: 2 Punti | O32: 3 Punti | AC32: SOMMA
Y33: =IF(I33="X", 0, 0) -> 0 | Z33: =IF(K33="X", 1, 0) -> 0 | AA33: =IF(M33="X", 2, 0) -> 0 | AB33: =IF(O33="X", 3, 0) -> 0 | AC33: =SUM(Y33:AB33) -> 0
A34: I problemi possono nascere sia per l’utilizzo di macchine o attrezzature non adeguate (non ergonomiche, difettose, ecc.), sia per la necessità di operare con macchine complesse e delicate, di cui non si conoscono le modalità corrette d’uso.
A35: Elementi di giudizio | D35: Funzionalità e vetustà delle macchine e delle attrezzature, assistenza tecnica, addestramento all’uso di nuove macchine e attrezzature
A36: 25 | B36: Il DSGA pianifica il lavoro equamente tra tutto il personale? | I36: Si, c’è molta attenzione su questo aspetto | K36: Generalmente si, con qualche eccezione | M36: Non sempre, e quando succede non è ben chiaro il motivo | O36: Spesso no, e senza motivo plausibile | Q36: =AC38 -> 0 | AG36: =Q36 -> 0
I37: 0 Punti | K37: 2 Punti | M37: 4 Punti | O37: 6 Punti | AC37: SOMMA
Y38: =IF(I38="X", 0, 0) -> 0 | Z38: =IF(K38="X", 2, 0) -> 0 | AA38: =IF(M38="X", 4, 0) -> 0 | AB38: =IF(O38="X", 6, 0) -> 0 | AC38: =SUM(Y38:AB38) -> 0
A39: Uno degli aspetti cui il personale ausiliario che opera nello stesso edificio dedica maggiore attenzione è l’equa ripartizione dei compiti, specie quelli pesanti e maggiormente rischiosi (pulizia straordinaria delle plafoniere o delle veneziane, deceratura dei pavimenti, spostamento di grandi quantità di arredi, ecc.)
A40: Elementi di giudizio | D40: Frequenza o ricorrenza di evidenti e ingiustificate diverse ripartizioni di incarichi o compiti tra i vari collaboratori
A42: CONTESTO DEL LAVORO – PERSONALE AUSILIARIO – PUNTEGGIO PARZIALE - C3 | Q42: =Q36+Q31+Q26+Q21+Q16+Q11+Q6 -> 0
Q43: (su 33)
...

Sheet C4 - Tecnici
A1: C4 – AREA CONTENUTO DEL LAVORO – PERSONALE TECNICO
A3: N | B3: INDICATORE | I3: Situazione | K3: Situazione | M3: Situazione | O3: Situazione | Q3: PUNTEGGIO | R3: NOTE
I4: BUONA | K4: DISCRETA | M4: MEDIOCRE | O4: NEGATIVA | Y4: Tabella_Dati_Formule
A5: 26 | B5: Le mansioni da svolgere sono ben definite e circoscritte? | I5: Si, ognuno ha le sue e sa bene cosa deve fare | K5: Generalmente si, ma a volte capitano delle cose che non si sa a chi spettano | M5: Spesso no, ci si deve mettere d’accordo su chi le fa | O5: No, c’è parecchia confusione e ognuno fa quel che vuole | Q5: =AC7 -> 0 | AE5: =Q5 -> 0
I6: 0 Punti | K6: 2 Punti | M6: 3 Punti | O6: 4 Punti | AC6: SOMMA
Y7: =IF(I7="X", 0, 0) -> 0 | Z7: =IF(K7="X", 2, 0) -> 0 | AA7: =IF(M7="X", 3, 0) -> 0 | AB7: =IF(O7="X", 4, 0) -> 0 | AC7: =SUM(Y7:AB7) -> 0
A8: In un’organizzazione complessa, la chiarezza del proprio ruolo e di quello che compete a ciascun lavoratore all’interno di un piccolo gruppo coeso (come tutto il personale che opera nello stesso reparto o laboratorio) costituiscono fattori importanti per la qualità del lavoro.
A9: Elementi di giudizio | D9: Organigramma dei ruoli, delle funzioni e delle aree o azioni di pertinenza, sovrapposizioni di più incarichi
A10: 27 | B10: Il lavoro può procedere senza interruzioni? | I10: Si, salvo eccezioni veramente rare | K10: Generalmente si, ma qualche volta capita che si venga interrotti per fare altro | M10: Generalmente no, spesso capita che si venga interrotti per fare altro | O10: No, vi sono continue interruzioni e distrazioni | Q10: =AC12 -> 0 | AE10: =Q10 -> 0
I11: 0 Punti | K11: 2 Punti | M11: 3 Punti | O11: 4 Punti | AC11: SOMMA
Y12: =IF(I12="X", 0, 0) -> 0 | Z12: =IF(K12="X", 2, 0) -> 0 | AA12: =IF(M12="X", 3, 0) -> 0 | AB12: =IF(O12="X", 4, 0) -> 0 | AC12: =SUM(Y12:AB12) -> 0
A13: Per chiunque stia svolgendo un lavoro, anche materiale, le interruzioni possono infastidire.
A14: Elementi di giudizio | D14: Frequenza e durata delle interruzioni lunghe (ad es. durante un lavoro di manutenzione o di riordino del laboratorio fermarsi perché è necessario fare un intervento d’urgenza in un altro ambiente dell’istituto)
A15: 28 | B15: Lo svolgimento del proprio lavoro quotidiano permette di eseguire un compito alla volta? | I15: Si, sempre | K15: Generalmente si, con qualche eccezione | M15: Generalmente no, più volte capita di dover fare due cose contemporaneamente | O15: No, capita spessissimo di dover fare più cose contemporaneamente | Q15: =AC17 -> 0 | AE15: =Q15 -> 0
I16: 0 Punti | K16: 1 Punto | M16: 2 Punti | O16: 3 Punti | AC16: SOMMA
Y17: =IF(I17="X", 0, 0) -> 0 | Z17: =IF(K17="X", 1, 0) -> 0 | AA17: =IF(M17="X", 2, 0) -> 0 | AB17: =IF(O17="X", 3, 0) -> 0 | AC17: =SUM(Y17:AB17) -> 0
A18: L’accavallarsi delle attività che devono essere svolte contemporaneamente induce affaticamento mentale.
A19: Elementi di giudizio | D19: Livello di sovrapposizione di cose da fare e frequenza dei momenti in cui ciò accade
A20: 29 | B20: La quantità quotidiana di lavoro da svolgere è prevedibile? | I20: Si, all’inizio della giornata si sa sempre cosa si dovrà fare | K20: Generalmente si, con qualche eccezione | M20: No, ci sono spesso delle emergenze che sovraccaricano di lavoro | O20: No, è una continua emergenza, inizi la giornata e può capitare di tutto | Q20: =AC22 -> 0 | AE20: =Q20 -> 0
I21: 0 Punti | K21: 1 Punto | M21: 2 Punti | O21: 3 Punti | AC21: SOMMA
Y22: =IF(I22="X", 0, 0) -> 0 | Z22: =IF(K22="X", 1, 0) -> 0 | AA22: =IF(M22="X", 2, 0) -> 0 | AB22: =IF(O22="X", 3, 0) -> 0 | AC22: =SUM(Y22:AB22) -> 0
A23: La letteratura riferisce il potenziale stressogeno di situazioni consolidate in cui il carico di lavoro quotidiano è soggetto ad ampie ed imprevedibili escursioni.
A24: Elementi di giudizio | D24: Ricorrenza e durata delle situazioni d’emergenza, che richiedono un sovraccarico di lavoro, pianificazione settimanale delle attività
A25: 30 | B25: C’è coerenza tra le richieste del DS (o DSGA) e quelle del responsabile di laboratorio o degli insegnanti che utilizzano il laboratorio? | I25: Si, sempre | K25: Generalmente si, con qualche eccezione | M25: No, spesso c’è contrasto, specie sulle priorità da dare a certe cose | O25: No, quasi mai sono coerenti, specie sui tempi e sulle priorità | Q25: =AC27 -> 0 | AE25: =Q25 -> 0
I26: 0 Punti | K26: 2 Punti | M26: 3 Punti | O26: 4 Punti | AC26: SOMMA
Y27: =IF(I27="X", 0, 0) -> 0 | Z27: =IF(K27="X", 2, 0) -> 0 | AA27: =IF(M27="X", 3, 0) -> 0 | AB27: =IF(O27="X", 4, 0) -> 0 | AC27: =SUM(Y27:AB27) -> 0
A28: Una fonte di stress può nascere dal contrasto tra le esigenze o le consegne attribuite dal responsabile di laboratorio (manutenzione straordinaria di attrezzature, controlli periodici, ecc.) o dagli stessi insegnanti che utilizzano il laboratorio (predisposizione dell’esercitazione, interventi estemporanei di controllo o modifica, ecc.) e quelle del DS o del DSGA, che spesso non tengono conto dell’effettivo lavoro svolto dal tecnico e tendono ad utilizzarlo per altri scopi
A29: Elementi di giudizio | D29: Coerenza della richiesta del DS (o DSGA) al singolo tecnico con i compiti abituali di quest’ultimo all’interno dell’organizzazione del laboratorio, sovrapposizione di conferimento d’incarichi specifici tra DS (o DSGA) e responsabile di laboratorio, ricorrenza di richieste diverse e contrastanti tra un insegnante e un altro
A30: 31 | B30: Le macchine e le attrezzature a disposizione (anche informatiche) sono di facile impiego? | I30: Si, generalmente non ci sono problemi | K30: Generalmente si, ma ci sono anche quelle molto vecchie e faticose da gestire | M30: Diverse volte no, alcune non hanno le istruzioni e altre sono molto vecchie | O30: Decisamente no, le macchine e le attrezzature creano moltissimi problemi | Q30: =AC32 -> 0 | AE30: =Q30 -> 0
I31: 0 Punti | K31: 2 Punti | M31: 3 Punti | O31: 4 Punti | AC31: SOMMA
Y32: =IF(I32="X", 0, 0) -> 0 | Z32: =IF(K32="X", 2, 0) -> 0 | AA32: =IF(M32="X", 3, 0) -> 0 | AB32: =IF(O32="X", 4, 0) -> 0 | AC32: =SUM(Y32:AB32) -> 0
A33: I problemi possono nascere sia per l’utilizzo di macchine o attrezzature non adeguate (non ergonomiche, difettose, obsolete, ecc.), sia per la necessità di operare con macchine complesse e delicate, di cui non si conoscono le modalità corrette d’uso.
A34: Elementi di giudizio | D34: Funzionalità e vetustà delle macchine e delle attrezzature, addestramento all’uso di nuove macchine e attrezzature, frequenza della modifica del software, addestramento all’uso di nuovo software
A35: 32 | B35: Il responsabile di laboratorio supporta il personale quando bisogna affrontare nuove procedure di lavoro o utilizzare nuove macchine o attrezzature? | I35: Si, sempre, con cura e professionalità | K35: Si, anche se a volte un po’ frettolosamente | M35: Non sempre, a volte se ne disinteressa | O35: Quasi mai e solo se si insiste | Q35: =AC37 -> 0 | AE35: =Q35 -> 0
I36: 0 Punti | K36: 2 Punti | M36: 4 Punti | O36: 6 Punti | AC36: SOMMA
Y37: =IF(I37="X", 0, 0) -> 0 | Z37: =IF(K37="X", 2, 0) -> 0 | AA37: =IF(M37="X", 4, 0) -> 0 | AB37: =IF(O37="X", 6, 0) -> 0 | AC37: =SUM(Y37:AB37) -> 0
A38: L’addestramento rispetto ai contenuti della propria mansione è un obbligo sancito dalla legge (D.Lgs. 81/08, art. 37); rispetto alle novità introdotte nel lavoro dei tecnici, il soggetto incaricato di addestrarli non può che essere il responsabile di laboratorio, eventualmente in collaborazione (per i temi della sicurezza) con il Servizio di Prevenzione e Protezione dell’istituto.
A39: Elementi di giudizio | D39: Azionidi addestramento da parte del responsabile del laboratorio o di altri insegnanti
A40: 33 | B40: Il personale opera stabilmente sempre nello stesso laboratorio? | I40: Si | K40: Si, ma con alcune eccezioni | M40: No, spesso si è costretti a passare da un laboratorio all’altro | O40: No, ad ogni anno scolastico si cambia laboratorio | Q40: =AC42 -> 0 | AE40: =Q40 -> 0
I41: 0 Punti | K41: 2 Punti | M41: 4 Punti | O41: 6 Punti | AC41: SOMMA
...

Sheet C5 - Coordinatori
A1: C5 – AREA CONTENUTO DEL LAVORO – COORDINATORI DI CLASSE
A4: N | B4: INDICATORE | I4: Situazione | K4: Situazione | M4: Situazione | O4: Situazione | Q4: PUNTEGGIO | R4: NOTE
I5: BUONA | K5: DISCRETA | M5: MEDIOCRE | O5: NEGATIVA | Y5: Tabella_Dati_Formule
A6: 36 | B6: Il DS sostiene il ruolo dei coordinatori? | I6: Si, sempre e in modo convinto | K6: Si, lo approva ma a volte non lo sostiene | M6: No, fatica a sostenerlo e tende a non interessarsene | O6: No, spesso lo contrasta | Q6: =AC8 -> 0 | AE6: =Q6 -> 0
I7: 0 Punti | K7: 2 Punti | M7: 4 Punti | O7: 6 Punti | AC7: SOMMA
Y8: =IF(I8="X", 0, 0) -> 0 | Z8: =IF(K8="X", 2, 0) -> 0 | AA8: =IF(M8="X", 4, 0) -> 0 | AB8: =IF(O8="X", 6, 0) -> 0 | AC8: =SUM(Y8:AB8) -> 0
A9: Il coordinatore di classe ha un ruolo complesso di raccordo tra docenti e il DS, di relazione con le famiglie, di programmazione per le classi V e di coordinamento tra piani educativi
